PDS_VERSION_ID = PDS3
/* FILE DATA ELEMENTS */
RECORD_TYPE = UNDEFINED
/* POINTERS TO DATA OBJECTS */
^IMAGE = ("H4293_0000_ND4.TIF")
/* IDENTIFICATION DATA ELEMENTS */
DATA_SET_ID = "MEX-M-HRSC-4-REFDR-MAPPROJECT-EXT1-V4.0"
DATA_SET_NAME = "MARS EXPRESS HRSC MAP PROJECTED REFDR EXTENSION1 V4.0"
DETECTOR_ID = MEX_HRSC_NADIR
EVENT_TYPE = "MARS-REGIONAL-MAPPING-Vo-Te-Im"
INSTRUMENT_HOST_ID = MEX
INSTRUMENT_HOST_NAME = "MARS EXPRESS"
INSTRUMENT_ID = HRSC
INSTRUMENT_NAME = "HIGH RESOLUTION STEREO CAMERA"
MISSION_NAME = "MARS EXPRESS"
MISSION_PHASE_NAME = ME_Phase_7
PROCESSING_LEVEL_ID = 4
PRODUCT_CREATION_TIME = 2023-02-10T03:49:22.000Z
PRODUCT_ID = "H4293_0000_ND4.TIF"
RELEASE_ID = 0006
REVISION_ID = 0000
/* QUALITY DATA ELEMENTS */
DATA_QUALITY_ID = 1
DATA_QUALITY_DESC = "Data calculated based on original SPICE kernels"
/* TIME DATA ELEMENTS */
SPACECRAFT_CLOCK_START_COUNT = "1/0126815694.09045"
SPACECRAFT_CLOCK_STOP_COUNT = "1/0126815887.57789"
START_TIME = 2007-05-09T18:35:59.468Z
STOP_TIME = 2007-05-09T18:37:44.024Z
/* ORBITAL DATA ELEMENTS */
ASCENDING_NODE_LONGITUDE = 138.39
MAXIMUM_RESOLUTION = 0.0119
FOOTPRINT_POINT_LATITUDE = (-48.3115,-48.2981,-48.2858,-48.277, -48.2634,-48.2628,-48.2606,-48.1171, -47.9736,-47.83,-47.6167,-47.478, -47.3392,-47.2004,-47.0615,-46.9225, -46.7836,-46.6446,-46.5055,-46.3664, -46.2272,-46.088,-45.9487,-45.8095, -45.6701,-45.5308,-45.3914,-45.252, -45.1125,-44.973,-44.8351,-44.5659, -44.2965,-44.0271,-43.7575,-43.4878, -43.218,-42.9481,-42.6781,-42.408, -42.1378,-42.0027,-41.8675,-41.7323, -41.5971,-41.4619,-41.3943,-41.3833, -41.3887,-41.3945,-41.3998,-41.4042, -41.4101,-41.4149,-41.4151,-41.4155, -41.551,-41.6865,-41.8219,-41.9574, -42.0928,-42.2282,-42.3637,-42.5667, -42.7697,-42.905,-43.0403,-43.1756, -43.3109,-43.5813,-43.8516,-44.1219, -44.392,-44.5945,-44.8645,-45.0723, -45.2121,-45.352,-45.4918,-45.6315, -45.7713,-45.911,-46.0506,-46.1903, -46.3299,-46.4694,-46.6089,-46.7484, -46.8878,-47.0272,-47.1666,-47.3059, -47.4451,-47.5844,-47.7235,-47.9396, -48.0836,-48.2276,-48.2996,-48.3115)
FOOTPRINT_POINT_LONGITUDE = (197.137,196.61,196.195,195.924,195.542 ,195.526,195.492,195.506,195.52,195.534 ,195.553,195.567,195.579,195.591, 195.604,195.616,195.628,195.641,195.653 ,195.664,195.675,195.686,195.697, 195.709,195.72,195.731,195.742,195.752, 195.763,195.773,195.784,195.804,195.823 ,195.842,195.861,195.879,195.897, 195.914,195.931,195.947,195.964,195.971 ,195.979,195.987,195.995,196.002, 196.006,196.007,196.197,196.415,196.633 ,196.823,197.11,197.369,197.382,197.389 ,197.385,197.382,197.378,197.374,197.37 ,197.366,197.361,197.355,197.351, 197.347,197.343,197.339,197.335,197.327 ,197.319,197.31,197.302,197.295,197.287 ,197.28,197.276,197.271,197.266,197.262 ,197.256,197.251,197.246,197.242, 197.236,197.231,197.227,197.222,197.217 ,197.212,197.206,197.201,197.196,197.19 ,197.186,197.178,197.171,197.165, 197.162,197.137)
ORBIT_NUMBER = 4293
ORBITAL_ECCENTRICITY = 0.571
ORBITAL_INCLINATION = 86.7
ORBITAL_SEMIMAJOR_AXIS = 8585.92
PERIAPSIS_ALTITUDE = 294.26
PERIAPSIS_ARGUMENT_ANGLE = 321.88
PERIAPSIS_TIME = 2007-05-09T18:38:35.000Z
SPACECRAFT_ORIENTATION = (0.0,1.0,0.0)
^MEX_ORIENTATION_DESC = "MEX_ORIENTATION_DESC.TXT"
SPACECRAFT_POINTING_MODE = NADIR
^MEX_POINTING_DESC = "MEX_POINTING_DESC.TXT"
RIGHT_ASCENSION = -1e+32
DECLINATION = -1e+32
OFFSET_ANGLE = -1e+32
SPACECRAFT_SOLAR_DISTANCE = 2.07378e+08
TARGET_NAME = MARS
/* CAMERA DATA ELEMENTS */
DETECTOR_TEMPERATURE = 18.7783
FOCAL_PLANE_TEMPERATURE = 9.8067
INST_CMPRS_NAME = "DISCRETE COSINE TRANSFORMATION (DCT)"
INST_CMPRS_RATIO = 8.14233
INST_CMPRS_QUALITY = 0
INST_CMPRS_QUANTZ_TBL_ID = 0
INSTRUMENT_TEMPERATURE = 11.8457
LENS_TEMPERATURE = 10.2145
MACROPIXEL_SIZE = 1
MISSING_FRAMES = 0
PIXEL_SUBSAMPLING_FLAG = N
SIGNAL_CHAIN_ID = 0
/* RADIOMETRIC DATA ELEMENTS */
BANDWIDTH = 177.0
CENTER_FILTER_WAVELENGTH = 677.5
RADIANCE_OFFSET = 5.53884
RADIANCE_SCALING_FACTOR = 0.0152634
REFLECTANCE_SCALING_FACTOR = 0.000348708
MEX:REFLECTANCE_OFFSET = 0.126541
/* IMAGE OBJECT DEFINITIONS */
OBJECT = IMAGE
  INTERCHANGE_FORMAT = BINARY
  LINES = 32849
  LINE_SAMPLES = 6151
  SAMPLE_TYPE = UNSIGNED_INTEGER
  SAMPLE_BITS = 8
  BANDS = 1
  BAND_STORAGE_TYPE = BAND_SEQUENTIAL
  MAXIMUM = 255
  MEAN = 96.8903
  MINIMUM = 1
  STANDARD_DEVIATION = 33.1788
END_OBJECT = IMAGE
/* MAP OBJECT DEFINITIONS */
OBJECT = IMAGE_MAP_PROJECTION
  ^DATA_SET_MAP_PROJECTION_CATALOG= "DSMAP.CAT"
  A_AXIS_RADIUS = 3396.0
  B_AXIS_RADIUS = 3396.0
  C_AXIS_RADIUS = 3396.0
  CENTER_LATITUDE = 0.0
  CENTER_LONGITUDE = 197.0
  COORDINATE_SYSTEM_NAME = PLANETOGRAPHIC
  COORDINATE_SYSTEM_TYPE = "BODY-FIXED ROTATING"
  EASTERNMOST_LONGITUDE = 197.389
  FIRST_STANDARD_PARALLEL = "N/A"
  LINE_FIRST_PIXEL = 1
  LINE_LAST_PIXEL = 32849
  LINE_PROJECTION_OFFSET = -196222.0
  MAP_PROJECTION_ROTATION = 0.0
  MAP_PROJECTION_TYPE = SINUSOIDAL
  MAP_RESOLUTION = 4741.71043093333
  MAP_SCALE = 0.0125
  MAXIMUM_LATITUDE = -41.3833
  MINIMUM_LATITUDE = -48.3115
  POSITIVE_LONGITUDE_DIRECTION = EAST
  REFERENCE_LATITUDE = "N/A"
  REFERENCE_LONGITUDE = "N/A"
  SAMPLE_FIRST_PIXEL = 1
  SAMPLE_LAST_PIXEL = 6151
  SAMPLE_PROJECTION_OFFSET = 4764.0
  SECOND_STANDARD_PARALLEL = "N/A"
  WESTERNMOST_LONGITUDE = 195.492
END_OBJECT = IMAGE_MAP_PROJECTION
END
