PDS_VERSION_ID = PDS3
/* FILE DATA ELEMENTS */
RECORD_TYPE = UNDEFINED
/* POINTERS TO DATA OBJECTS */
^IMAGE = ("H4293_0000_S24.TIF")
/* IDENTIFICATION DATA ELEMENTS */
DATA_SET_ID = "MEX-M-HRSC-4-REFDR-MAPPROJECT-EXT1-V4.0"
DATA_SET_NAME = "MARS EXPRESS HRSC MAP PROJECTED REFDR EXTENSION1 V4.0"
DETECTOR_ID = MEX_HRSC_S2
EVENT_TYPE = "MARS-REGIONAL-MAPPING-Vo-Te-Im"
INSTRUMENT_HOST_ID = MEX
INSTRUMENT_HOST_NAME = "MARS EXPRESS"
INSTRUMENT_ID = HRSC
INSTRUMENT_NAME = "HIGH RESOLUTION STEREO CAMERA"
MISSION_NAME = "MARS EXPRESS"
MISSION_PHASE_NAME = ME_Phase_7
PROCESSING_LEVEL_ID = 4
PRODUCT_CREATION_TIME = 2023-02-10T03:49:22.000Z
PRODUCT_ID = "H4293_0000_S24.TIF"
RELEASE_ID = 0006
REVISION_ID = 0000
/* QUALITY DATA ELEMENTS */
DATA_QUALITY_ID = 1
DATA_QUALITY_DESC = "Data calculated based on original SPICE kernels"
/* TIME DATA ELEMENTS */
SPACECRAFT_CLOCK_START_COUNT = "1/0126815694.09045"
SPACECRAFT_CLOCK_STOP_COUNT = "1/0126815887.57789"
START_TIME = 2007-05-09T18:35:59.194Z
STOP_TIME = 2007-05-09T18:37:17.660Z
/* ORBITAL DATA ELEMENTS */
ASCENDING_NODE_LONGITUDE = 138.39
MAXIMUM_RESOLUTION = 0.0255
FOOTPRINT_POINT_LATITUDE = (-46.5302,-46.5258,-46.5221,-46.5156, -46.5102,-46.5025,-46.494,-46.483, -46.4824,-46.4284,-46.3239,-46.2188, -46.1141,-46.0101,-45.906,-45.8032, -45.7027,-45.6023,-45.5017,-45.4009, -45.2495,-45.0984,-44.9975,-44.8461, -44.7452,-44.5937,-44.4922,-44.3905, -44.2892,-44.1877,-44.0865,-43.9856, -43.8339,-43.7324,-43.5801,-43.4784, -43.3257,-43.1734,-42.9749,-42.7281, -42.482,-42.2356,-42.0873,-41.9882, -41.8399,-41.7411,-41.6421,-41.5431, -41.444,-41.3944,-41.3771,-41.3867, -41.3907,-41.394,-41.4001,-41.4047, -41.4108,-41.411,-41.4114,-41.5605, -41.6597,-41.8085,-41.9076,-42.0068, -42.1059,-42.205,-42.3042,-42.4545, -42.653,-42.8475,-43.0936,-43.245, -43.347,-43.5,-43.6528,-43.8058, -43.9077,-44.0618,-44.1649,-44.2659, -44.3658,-44.4674,-44.5692,-44.671, -44.822,-44.9232,-45.075,-45.1761, -45.3275,-45.4287,-45.5805,-45.6818, -45.7835,-45.8846,-45.9903,-46.1476, -46.3043,-46.4083,-46.4598,-46.5302)
FOOTPRINT_POINT_LONGITUDE = (197.232,197.033,196.881,196.637, 196.454,196.21,195.966,195.677,195.661, 195.638,195.647,195.655,195.664,195.673 ,195.681,195.69,195.698,195.706,195.715 ,195.723,195.735,195.747,195.754, 195.766,195.774,195.785,195.793,195.8, 195.808,195.815,195.822,195.83,195.841, 195.848,195.859,195.866,195.876,195.886 ,195.9,195.915,195.931,195.947,195.956, 195.961,195.97,195.976,195.982,195.988, 195.993,195.996,195.997,196.296,196.432 ,196.622,196.812,197.044,197.384, 197.397,197.402,197.398,197.396,197.392 ,197.39,197.387,197.384,197.382,197.379 ,197.374,197.369,197.365,197.358, 197.354,197.352,197.347,197.343,197.339 ,197.336,197.331,197.327,197.325, 197.323,197.32,197.317,197.313,197.31, 197.307,197.302,197.299,197.295,197.292 ,197.287,197.283,197.28,197.277,197.273 ,197.267,197.262,197.259,197.258, 197.232)
ORBIT_NUMBER = 4293
ORBITAL_ECCENTRICITY = 0.571
ORBITAL_INCLINATION = 86.7
ORBITAL_SEMIMAJOR_AXIS = 8585.92
PERIAPSIS_ALTITUDE = 294.26
PERIAPSIS_ARGUMENT_ANGLE = 321.88
PERIAPSIS_TIME = 2007-05-09T18:38:35.000Z
SPACECRAFT_ORIENTATION = (0.0,1.0,0.0)
^MEX_ORIENTATION_DESC = "MEX_ORIENTATION_DESC.TXT"
SPACECRAFT_POINTING_MODE = NADIR
^MEX_POINTING_DESC = "MEX_POINTING_DESC.TXT"
RIGHT_ASCENSION = -1e+32
DECLINATION = -1e+32
OFFSET_ANGLE = -1e+32
SPACECRAFT_SOLAR_DISTANCE = 2.07378e+08
TARGET_NAME = MARS
/* CAMERA DATA ELEMENTS */
DETECTOR_TEMPERATURE = 18.9822
FOCAL_PLANE_TEMPERATURE = 9.8067
INST_CMPRS_NAME = "DISCRETE COSINE TRANSFORMATION (DCT)"
INST_CMPRS_RATIO = 11.9834
INST_CMPRS_QUALITY = 0
INST_CMPRS_QUANTZ_TBL_ID = 0
INSTRUMENT_TEMPERATURE = 11.8457
LENS_TEMPERATURE = 10.2145
MACROPIXEL_SIZE = 2
MISSING_FRAMES = 0
PIXEL_SUBSAMPLING_FLAG = N
SIGNAL_CHAIN_ID = 1
/* RADIOMETRIC DATA ELEMENTS */
BANDWIDTH = 178.0
CENTER_FILTER_WAVELENGTH = 679.0
RADIANCE_OFFSET = 6.31902
RADIANCE_SCALING_FACTOR = 0.0146954
REFLECTANCE_SCALING_FACTOR = 0.000334686
MEX:REFLECTANCE_OFFSET = 0.143915
/* IMAGE OBJECT DEFINITIONS */
OBJECT = IMAGE
  INTERCHANGE_FORMAT = BINARY
  LINES = 16425
  LINE_SAMPLES = 3076
  SAMPLE_TYPE = UNSIGNED_INTEGER
  SAMPLE_BITS = 8
  BANDS = 1
  BAND_STORAGE_TYPE = BAND_SEQUENTIAL
  MAXIMUM = 255
  MEAN = 98.35
  MINIMUM = 1
  STANDARD_DEVIATION = 37.8922
END_OBJECT = IMAGE
/* MAP OBJECT DEFINITIONS */
OBJECT = IMAGE_MAP_PROJECTION
  ^DATA_SET_MAP_PROJECTION_CATALOG= "DSMAP.CAT"
  A_AXIS_RADIUS = 3396.0
  B_AXIS_RADIUS = 3396.0
  C_AXIS_RADIUS = 3396.0
  CENTER_LATITUDE = 0.0
  CENTER_LONGITUDE = 197.0
  COORDINATE_SYSTEM_NAME = PLANETOGRAPHIC
  COORDINATE_SYSTEM_TYPE = "BODY-FIXED ROTATING"
  EASTERNMOST_LONGITUDE = 197.402
  FIRST_STANDARD_PARALLEL = "N/A"
  LINE_FIRST_PIXEL = 1
  LINE_LAST_PIXEL = 16425
  LINE_PROJECTION_OFFSET = -98111.25
  MAP_PROJECTION_ROTATION = 0.0
  MAP_PROJECTION_TYPE = SINUSOIDAL
  MAP_RESOLUTION = 2370.85521546667
  MAP_SCALE = 0.025
  MAXIMUM_LATITUDE = -41.3771
  MINIMUM_LATITUDE = -46.5302
  POSITIVE_LONGITUDE_DIRECTION = EAST
  REFERENCE_LATITUDE = "N/A"
  REFERENCE_LONGITUDE = "N/A"
  SAMPLE_FIRST_PIXEL = 1
  SAMPLE_LAST_PIXEL = 3076
  SAMPLE_PROJECTION_OFFSET = 2381.75
  SECOND_STANDARD_PARALLEL = "N/A"
  WESTERNMOST_LONGITUDE = 195.638
END_OBJECT = IMAGE_MAP_PROJECTION
END
