PDS_VERSION_ID = PDS3
/* FILE DATA ELEMENTS */
RECORD_TYPE = UNDEFINED
/* POINTERS TO DATA OBJECTS */
^IMAGE = ("H4297_0000_GR4.TIF")
/* IDENTIFICATION DATA ELEMENTS */
DATA_SET_ID = "MEX-M-HRSC-4-REFDR-MAPPROJECT-EXT1-V4.0"
DATA_SET_NAME = "MARS EXPRESS HRSC MAP PROJECTED REFDR EXTENSION1 V4.0"
DETECTOR_ID = MEX_HRSC_GREEN
EVENT_TYPE = "MARS-REGIONAL-MAPPING-Im-Fl-Mw"
INSTRUMENT_HOST_ID = MEX
INSTRUMENT_HOST_NAME = "MARS EXPRESS"
INSTRUMENT_ID = HRSC
INSTRUMENT_NAME = "HIGH RESOLUTION STEREO CAMERA"
MISSION_NAME = "MARS EXPRESS"
MISSION_PHASE_NAME = ME_Phase_7
PROCESSING_LEVEL_ID = 4
PRODUCT_CREATION_TIME = 2023-02-10T03:49:22.000Z
PRODUCT_ID = "H4297_0000_GR4.TIF"
RELEASE_ID = 0006
REVISION_ID = 0000
/* QUALITY DATA ELEMENTS */
DATA_QUALITY_ID = 1
DATA_QUALITY_DESC = "Data calculated based on original SPICE kernels"
/* TIME DATA ELEMENTS */
SPACECRAFT_CLOCK_START_COUNT = "1/0126912558.09082"
SPACECRAFT_CLOCK_STOP_COUNT = "1/0126912835.24077"
START_TIME = 2007-05-10T21:29:54.195Z
STOP_TIME = 2007-05-10T21:33:34.307Z
/* ORBITAL DATA ELEMENTS */
ASCENDING_NODE_LONGITUDE = 138.31
MAXIMUM_RESOLUTION = 0.0937
FOOTPRINT_POINT_LATITUDE = (-44.7415,-44.728,-44.7169,-44.7036, -44.7032,-44.7087,-44.4162,-44.1235, -43.8304,-43.5384,-43.2457,-42.9529, -42.6599,-42.3658,-41.9259,-41.6331, -41.3401,-41.0471,-40.7538,-40.4706, -40.1883,-39.9062,-39.6239,-39.0596, -38.6364,-38.3542,-38.072,-37.6489, -37.3667,-37.0846,-36.5205,-36.0976, -35.5238,-35.2312,-34.9389,-34.6466, -34.3544,-34.0621,-33.6253,-33.3334, -33.0403,-32.7488,-32.4575,-32.1661, -31.7295,-31.2933,-31.0027,-30.7108, -30.4099,-30.2595,-30.1624,-30.1725, -30.1771,-30.1772,-30.1788,-30.48, -30.7807,-31.217,-31.5078,-31.7989, -32.0901,-32.3815,-32.8195,-33.1119, -33.4043,-33.843,-34.1354,-34.5743, -34.8669,-35.3062,-35.599,-35.8893, -36.1718,-36.5954,-37.0192,-37.443, -38.0084,-38.4324,-38.7151,-38.9979, -39.2806,-39.563,-39.8454,-40.1281, -40.411,-40.6938,-41.1317,-41.4252, -41.7186,-42.0128,-42.3055,-42.5988, -42.8925,-43.3334,-43.6272,-43.9209, -44.2143,-44.5079,-44.6546,-44.7415)
FOOTPRINT_POINT_LONGITUDE = (164.141,163.565,163.164,162.736, 162.723,162.695,162.715,162.736,162.757 ,162.775,162.794,162.812,162.83,162.851 ,162.878,162.893,162.909,162.925, 162.941,162.955,162.969,162.982,162.995 ,163.02,163.038,163.05,163.061,163.077, 163.088,163.099,163.119,163.133,163.152 ,163.161,163.169,163.178,163.186, 163.194,163.203,163.21,163.221,163.227, 163.233,163.24,163.249,163.257,163.262, 163.267,163.272,163.274,163.275,164.01, 164.482,164.493,164.501,164.496,164.491 ,164.484,164.478,164.473,164.467, 164.462,164.455,164.451,164.446,164.438 ,164.433,164.425,164.419,164.41,164.404 ,164.397,164.391,164.383,164.374, 164.364,164.351,164.341,164.334,164.328 ,164.32,164.312,164.304,164.296,164.289 ,164.281,164.269,164.26,164.251,164.244 ,164.233,164.224,164.216,164.203, 164.195,164.187,164.177,164.169,164.164 ,164.141)
ORBIT_NUMBER = 4297
ORBITAL_ECCENTRICITY = 0.571
ORBITAL_INCLINATION = 86.69
ORBITAL_SEMIMAJOR_AXIS = 8585.83
PERIAPSIS_ALTITUDE = 294.62
PERIAPSIS_ARGUMENT_ANGLE = 321.2
PERIAPSIS_TIME = 2007-05-10T21:31:21.000Z
SPACECRAFT_ORIENTATION = (0.0,1.0,0.0)
^MEX_ORIENTATION_DESC = "MEX_ORIENTATION_DESC.TXT"
SPACECRAFT_POINTING_MODE = NADIR
^MEX_POINTING_DESC = "MEX_POINTING_DESC.TXT"
RIGHT_ASCENSION = -1e+32
DECLINATION = -1e+32
OFFSET_ANGLE = -1e+32
SPACECRAFT_SOLAR_DISTANCE = 2.07318e+08
TARGET_NAME = MARS
/* CAMERA DATA ELEMENTS */
DETECTOR_TEMPERATURE = 18.3705
FOCAL_PLANE_TEMPERATURE = 8.7872
INST_CMPRS_NAME = "DISCRETE COSINE TRANSFORMATION (DCT)"
INST_CMPRS_RATIO = 19.8293
INST_CMPRS_QUALITY = 0
INST_CMPRS_QUANTZ_TBL_ID = 0
INSTRUMENT_TEMPERATURE = 11.6418
LENS_TEMPERATURE = 9.195
MACROPIXEL_SIZE = 8
MISSING_FRAMES = 0
PIXEL_SUBSAMPLING_FLAG = N
SIGNAL_CHAIN_ID = 2
/* RADIOMETRIC DATA ELEMENTS */
BANDWIDTH = 88.0
CENTER_FILTER_WAVELENGTH = 538.0
RADIANCE_OFFSET = 2.24518
RADIANCE_SCALING_FACTOR = 0.00417539
REFLECTANCE_SCALING_FACTOR = 0.000154511
MEX:REFLECTANCE_OFFSET = 0.0830834
/* IMAGE OBJECT DEFINITIONS */
OBJECT = IMAGE
  INTERCHANGE_FORMAT = BINARY
  LINES = 8645
  LINE_SAMPLES = 814
  SAMPLE_TYPE = UNSIGNED_INTEGER
  SAMPLE_BITS = 8
  BANDS = 1
  BAND_STORAGE_TYPE = BAND_SEQUENTIAL
  MAXIMUM = 255
  MEAN = 115.47
  MINIMUM = 1
  STANDARD_DEVIATION = 36.0191
END_OBJECT = IMAGE
/* MAP OBJECT DEFINITIONS */
OBJECT = IMAGE_MAP_PROJECTION
  ^DATA_SET_MAP_PROJECTION_CATALOG= "DSMAP.CAT"
  A_AXIS_RADIUS = 3396.0
  B_AXIS_RADIUS = 3396.0
  C_AXIS_RADIUS = 3396.0
  CENTER_LATITUDE = 0.0
  CENTER_LONGITUDE = 164.0
  COORDINATE_SYSTEM_NAME = PLANETOGRAPHIC
  COORDINATE_SYSTEM_TYPE = "BODY-FIXED ROTATING"
  EASTERNMOST_LONGITUDE = 164.501
  FIRST_STANDARD_PARALLEL = "N/A"
  LINE_FIRST_PIXEL = 1
  LINE_LAST_PIXEL = 8645
  LINE_PROJECTION_OFFSET = -17881.0625
  MAP_PROJECTION_ROTATION = 0.0
  MAP_PROJECTION_TYPE = SINUSOIDAL
  MAP_RESOLUTION = 592.713803866667
  MAP_SCALE = 0.1
  MAXIMUM_LATITUDE = -30.1624
  MINIMUM_LATITUDE = -44.7415
  POSITIVE_LONGITUDE_DIRECTION = EAST
  REFERENCE_LATITUDE = "N/A"
  REFERENCE_LONGITUDE = "N/A"
  SAMPLE_FIRST_PIXEL = 1
  SAMPLE_LAST_PIXEL = 814
  SAMPLE_PROJECTION_OFFSET = 557.9375
  SECOND_STANDARD_PARALLEL = "N/A"
  WESTERNMOST_LONGITUDE = 162.695
END_OBJECT = IMAGE_MAP_PROJECTION
END
