PDS_VERSION_ID = PDS3
/* FILE DATA ELEMENTS */
RECORD_TYPE = UNDEFINED
/* POINTERS TO DATA OBJECTS */
^IMAGE = ("H4306_0000_P14.TIF")
/* IDENTIFICATION DATA ELEMENTS */
DATA_SET_ID = "MEX-M-HRSC-4-REFDR-MAPPROJECT-EXT1-V4.0"
DATA_SET_NAME = "MARS EXPRESS HRSC MAP PROJECTED REFDR EXTENSION1 V4.0"
DETECTOR_ID = MEX_HRSC_P1
EVENT_TYPE = "MARS-REGIONAL-MAPPING-Vo-Im"
INSTRUMENT_HOST_ID = MEX
INSTRUMENT_HOST_NAME = "MARS EXPRESS"
INSTRUMENT_ID = HRSC
INSTRUMENT_NAME = "HIGH RESOLUTION STEREO CAMERA"
MISSION_NAME = "MARS EXPRESS"
MISSION_PHASE_NAME = ME_Phase_7
PROCESSING_LEVEL_ID = 4
PRODUCT_CREATION_TIME = 2023-02-10T03:49:22.000Z
PRODUCT_ID = "H4306_0000_P14.TIF"
RELEASE_ID = 0006
REVISION_ID = 0000
/* QUALITY DATA ELEMENTS */
DATA_QUALITY_ID = 1
DATA_QUALITY_DESC = "Data calculated based on original SPICE kernels"
/* TIME DATA ELEMENTS */
SPACECRAFT_CLOCK_START_COUNT = "1/0127130350.09043"
SPACECRAFT_CLOCK_STOP_COUNT = "1/0127130620.18027"
START_TIME = 2007-05-13T09:59:57.345Z
STOP_TIME = 2007-05-13T10:03:31.863Z
/* ORBITAL DATA ELEMENTS */
ASCENDING_NODE_LONGITUDE = 138.13
MAXIMUM_RESOLUTION = 0.0447
FOOTPRINT_POINT_LATITUDE = (-41.2418,-41.2301,-41.2222,-41.2129, -41.2125,-41.2381,-41.0245,-40.7041, -40.278,-39.9592,-39.7466,-39.5332, -39.3197,-38.8947,-38.4712,-38.2577, -38.0448,-37.6205,-37.4014,-37.1819, -36.9634,-36.743,-36.5232,-36.3029, -36.0837,-35.7547,-35.4257,-35.207, -34.9888,-34.7701,-34.5515,-34.224, -33.8971,-33.679,-33.4612,-30.39, -30.0493,-29.8186,-29.4727,-29.2424, -29.0149,-28.6692,-28.4381,-28.2094, -27.9753,-27.7392,-27.3862,-27.2684, -27.2602,-27.2632,-27.2653,-27.2664, -27.2696,-27.2697,-27.2705,-27.5066, -27.743,-27.9793,-28.2131,-28.5564, -28.7869,-29.0184,-29.2503,-29.5932, -29.8243,-30.0552,-30.3978,-33.4729, -33.7991,-34.0166,-34.2348,-34.4531, -34.6712,-35.005,-35.2238,-35.4428, -35.6619,-35.9908,-36.2088,-36.4284, -36.6478,-36.8678,-37.0886,-37.309, -37.6392,-38.0634,-38.2813,-38.6006, -38.9181,-39.3407,-39.5536,-39.7684, -39.9823,-40.1954,-40.5135,-40.727, -40.941,-41.1549,-41.2618,-41.2418)
FOOTPRINT_POINT_LONGITUDE = (359.781,359.189,358.844,358.474, 358.461,358.44,358.451,358.468,358.488, 358.503,358.512,358.522,358.532,358.55, 358.566,358.576,358.584,358.6,358.608, 358.616,358.622,358.63,358.638,358.645, 358.652,358.662,358.672,358.678,358.684 ,358.69,358.696,358.704,358.712,358.718 ,358.723,358.778,358.782,358.785, 358.789,358.792,358.793,358.797,358.8, 358.801,358.803,358.805,358.806,358.807 ,358.807,359.12,359.398,359.64,360.087, 360.099,360.103,360.099,360.095,360.091 ,360.087,360.081,360.077,360.074, 360.071,360.063,360.059,360.055,360.05, 359.99,359.983,359.978,359.973,359.969, 359.964,359.896,359.891,359.886,359.881 ,359.873,359.931,359.926,359.92,359.915 ,359.91,359.905,359.897,359.886,359.883 ,359.875,359.866,359.852,359.846, 359.841,359.836,359.829,359.819,359.813 ,359.807,359.8,359.797,359.781)
ORBIT_NUMBER = 4306
ORBITAL_ECCENTRICITY = 0.571
ORBITAL_INCLINATION = 86.69
ORBITAL_SEMIMAJOR_AXIS = 8584.51
PERIAPSIS_ALTITUDE = 293.95
PERIAPSIS_ARGUMENT_ANGLE = 319.59
PERIAPSIS_TIME = 2007-05-13T09:59:55.000Z
SPACECRAFT_ORIENTATION = (0.0,1.0,0.0)
^MEX_ORIENTATION_DESC = "MEX_ORIENTATION_DESC.TXT"
SPACECRAFT_POINTING_MODE = NADIR
^MEX_POINTING_DESC = "MEX_POINTING_DESC.TXT"
RIGHT_ASCENSION = -1e+32
DECLINATION = -1e+32
OFFSET_ANGLE = -1e+32
SPACECRAFT_SOLAR_DISTANCE = 2.07192e+08
TARGET_NAME = MARS
/* CAMERA DATA ELEMENTS */
DETECTOR_TEMPERATURE = 17.7588
FOCAL_PLANE_TEMPERATURE = 10.2145
INST_CMPRS_NAME = "DISCRETE COSINE TRANSFORMATION (DCT)"
INST_CMPRS_RATIO = 14.3112
INST_CMPRS_QUALITY = 0
INST_CMPRS_QUANTZ_TBL_ID = 0
INSTRUMENT_TEMPERATURE = 11.4379
LENS_TEMPERATURE = 9.6028
MACROPIXEL_SIZE = 4
PIXEL_SUBSAMPLING_FLAG = N
SIGNAL_CHAIN_ID = 3
/* RADIOMETRIC DATA ELEMENTS */
BANDWIDTH = 174.0
CENTER_FILTER_WAVELENGTH = 675.0
RADIANCE_OFFSET = 6.85031
RADIANCE_SCALING_FACTOR = 0.0113463
REFLECTANCE_SCALING_FACTOR = 0.00026199
MEX:REFLECTANCE_OFFSET = 0.158177
/* IMAGE OBJECT DEFINITIONS */
OBJECT = IMAGE
  INTERCHANGE_FORMAT = BINARY
  LINES = 16612
  LINE_SAMPLES = 1651
  SAMPLE_TYPE = UNSIGNED_INTEGER
  SAMPLE_BITS = 8
  BANDS = 1
  BAND_STORAGE_TYPE = BAND_SEQUENTIAL
  MAXIMUM = 255
  MEAN = 134.266
  MINIMUM = 1
  STANDARD_DEVIATION = 20.5918
END_OBJECT = IMAGE
/* MAP OBJECT DEFINITIONS */
OBJECT = IMAGE_MAP_PROJECTION
  ^DATA_SET_MAP_PROJECTION_CATALOG= "DSMAP.CAT"
  A_AXIS_RADIUS = 3396.0
  B_AXIS_RADIUS = 3396.0
  C_AXIS_RADIUS = 3396.0
  CENTER_LATITUDE = 0.0
  CENTER_LONGITUDE = 359.0
  COORDINATE_SYSTEM_NAME = PLANETOGRAPHIC
  COORDINATE_SYSTEM_TYPE = "BODY-FIXED ROTATING"
  EASTERNMOST_LONGITUDE = 0.103
  FIRST_STANDARD_PARALLEL = "N/A"
  LINE_FIRST_PIXEL = 1
  LINE_LAST_PIXEL = 16612
  LINE_PROJECTION_OFFSET = -32315.875
  MAP_PROJECTION_ROTATION = 0.0
  MAP_PROJECTION_TYPE = SINUSOIDAL
  MAP_RESOLUTION = 1185.42760773333
  MAP_SCALE = 0.05
  MAXIMUM_LATITUDE = -27.2602
  MINIMUM_LATITUDE = -41.2618
  POSITIVE_LONGITUDE_DIRECTION = EAST
  REFERENCE_LATITUDE = "N/A"
  REFERENCE_LONGITUDE = "N/A"
  SAMPLE_FIRST_PIXEL = 1
  SAMPLE_LAST_PIXEL = 1651
  SAMPLE_PROJECTION_OFFSET = 505.625
  SECOND_STANDARD_PARALLEL = "N/A"
  WESTERNMOST_LONGITUDE = -1.56
END_OBJECT = IMAGE_MAP_PROJECTION
END
