PDS_VERSION_ID = PDS3
/* FILE DATA ELEMENTS */
RECORD_TYPE = UNDEFINED
/* POINTERS TO DATA OBJECTS */
^IMAGE = ("H4306_0000_S14.TIF")
/* IDENTIFICATION DATA ELEMENTS */
DATA_SET_ID = "MEX-M-HRSC-4-REFDR-MAPPROJECT-EXT1-V4.0"
DATA_SET_NAME = "MARS EXPRESS HRSC MAP PROJECTED REFDR EXTENSION1 V4.0"
DETECTOR_ID = MEX_HRSC_S1
EVENT_TYPE = "MARS-REGIONAL-MAPPING-Vo-Im"
INSTRUMENT_HOST_ID = MEX
INSTRUMENT_HOST_NAME = "MARS EXPRESS"
INSTRUMENT_ID = HRSC
INSTRUMENT_NAME = "HIGH RESOLUTION STEREO CAMERA"
MISSION_NAME = "MARS EXPRESS"
MISSION_PHASE_NAME = ME_Phase_7
PROCESSING_LEVEL_ID = 4
PRODUCT_CREATION_TIME = 2023-02-10T03:49:22.000Z
PRODUCT_ID = "H4306_0000_S14.TIF"
RELEASE_ID = 0006
REVISION_ID = 0000
/* QUALITY DATA ELEMENTS */
DATA_QUALITY_ID = 1
DATA_QUALITY_DESC = "Data calculated based on original SPICE kernels"
/* TIME DATA ELEMENTS */
SPACECRAFT_CLOCK_START_COUNT = "1/0127130350.09043"
SPACECRAFT_CLOCK_STOP_COUNT = "1/0127130620.18027"
START_TIME = 2007-05-13T10:00:06.179Z
STOP_TIME = 2007-05-13T10:03:42.369Z
/* ORBITAL DATA ELEMENTS */
ASCENDING_NODE_LONGITUDE = 138.13
MAXIMUM_RESOLUTION = 0.0231
FOOTPRINT_POINT_LATITUDE = (-41.2235,-41.2132,-41.2056,-41.195, -41.1947,-41.235,-41.0229,-40.7055, -40.493,-40.0716,-39.651,-39.4391, -39.1227,-38.8076,-38.3887,-38.1767, -37.9576,-37.7399,-37.4133,-37.1968, -36.8731,-36.6551,-36.4374,-36.2201, -36.0035,-35.7872,-35.5703,-35.3543, -35.1388,-34.9239,-34.7084,-34.4927, -34.2776,-34.0624,-30.9291,-30.7042, -30.4773,-30.1375,-29.798,-29.4586, -29.2329,-29.0117,-28.7867,-28.5493, -28.3179,-28.0855,-27.8544,-27.6246, -27.3946,-27.2793,-27.2609,-27.2632, -27.2651,-27.2662,-27.119,-27.2697, -27.2698,-27.2702,-27.501,-27.7321, -27.9633,-28.1943,-28.5402,-28.7754, -29.1178,-29.3441,-29.5656,-29.7925, -30.0193,-30.2445,-30.4717,-30.7016, -30.9287,-34.0622,-34.2772,-34.5994, -34.9213,-35.3027,-35.5187,-35.7349, -35.9512,-36.2761,-36.5503,-36.7672, -36.9858,-37.2036,-37.5306,-37.7484, -37.9663,-38.1881,-38.6146,-39.0293, -39.3444,-39.7693,-40.1922,-40.5061, -40.9298,-41.1423,-41.2484,-41.2235)
FOOTPRINT_POINT_LONGITUDE = (359.784,359.256,358.909,358.471, 358.458,358.436,358.446,358.462,358.473 ,358.492,358.511,358.521,358.534, 358.547,358.563,358.572,358.581,358.589 ,358.601,358.608,358.618,358.626, 358.633,358.641,358.647,358.654,358.66, 358.666,358.672,358.678,358.684,358.689 ,358.695,358.7,358.76,358.763,358.766, 358.77,358.774,358.778,358.78,358.781, 358.783,358.787,358.788,358.79,358.791, 358.792,358.793,358.794,358.794,359.062 ,359.368,359.611,359.917,360.096, 360.109,360.114,360.11,360.106,360.102, 360.097,360.09,360.087,360.082,360.079, 360.073,360.069,360.065,360.06,360.056, 360.053,360.049,359.984,359.979,359.971 ,359.964,359.894,359.889,359.884, 359.879,359.87,359.928,359.922,359.917, 359.912,359.904,359.898,359.893,359.888 ,359.879,359.865,359.856,359.845, 359.833,359.823,359.81,359.804,359.801, 359.784)
ORBIT_NUMBER = 4306
ORBITAL_ECCENTRICITY = 0.571
ORBITAL_INCLINATION = 86.69
ORBITAL_SEMIMAJOR_AXIS = 8584.51
PERIAPSIS_ALTITUDE = 293.95
PERIAPSIS_ARGUMENT_ANGLE = 319.59
PERIAPSIS_TIME = 2007-05-13T09:59:55.000Z
SPACECRAFT_ORIENTATION = (0.0,1.0,0.0)
^MEX_ORIENTATION_DESC = "MEX_ORIENTATION_DESC.TXT"
SPACECRAFT_POINTING_MODE = NADIR
^MEX_POINTING_DESC = "MEX_POINTING_DESC.TXT"
RIGHT_ASCENSION = -1e+32
DECLINATION = -1e+32
OFFSET_ANGLE = -1e+32
SPACECRAFT_SOLAR_DISTANCE = 2.07192e+08
TARGET_NAME = MARS
/* CAMERA DATA ELEMENTS */
DETECTOR_TEMPERATURE = 17.7588
FOCAL_PLANE_TEMPERATURE = 10.2145
INST_CMPRS_NAME = "DISCRETE COSINE TRANSFORMATION (DCT)"
INST_CMPRS_RATIO = 8.73427
INST_CMPRS_QUALITY = 0
INST_CMPRS_QUANTZ_TBL_ID = 0
INSTRUMENT_TEMPERATURE = 11.4379
LENS_TEMPERATURE = 9.6028
MACROPIXEL_SIZE = 2
PIXEL_SUBSAMPLING_FLAG = N
SIGNAL_CHAIN_ID = 1
/* RADIOMETRIC DATA ELEMENTS */
BANDWIDTH = 180.0
CENTER_FILTER_WAVELENGTH = 677.0
RADIANCE_OFFSET = 7.35284
RADIANCE_SCALING_FACTOR = 0.0112665
REFLECTANCE_SCALING_FACTOR = 0.000252335
MEX:REFLECTANCE_OFFSET = 0.164681
/* IMAGE OBJECT DEFINITIONS */
OBJECT = IMAGE
  INTERCHANGE_FORMAT = BINARY
  LINES = 33223
  LINE_SAMPLES = 3302
  SAMPLE_TYPE = UNSIGNED_INTEGER
  SAMPLE_BITS = 8
  BANDS = 1
  BAND_STORAGE_TYPE = BAND_SEQUENTIAL
  MAXIMUM = 255
  MEAN = 145.364
  MINIMUM = 1
  STANDARD_DEVIATION = 21.5628
END_OBJECT = IMAGE
/* MAP OBJECT DEFINITIONS */
OBJECT = IMAGE_MAP_PROJECTION
  ^DATA_SET_MAP_PROJECTION_CATALOG= "DSMAP.CAT"
  A_AXIS_RADIUS = 3396.0
  B_AXIS_RADIUS = 3396.0
  C_AXIS_RADIUS = 3396.0
  CENTER_LATITUDE = 0.0
  CENTER_LONGITUDE = 359.0
  COORDINATE_SYSTEM_NAME = PLANETOGRAPHIC
  COORDINATE_SYSTEM_TYPE = "BODY-FIXED ROTATING"
  EASTERNMOST_LONGITUDE = 0.114
  FIRST_STANDARD_PARALLEL = "N/A"
  LINE_FIRST_PIXEL = 1
  LINE_LAST_PIXEL = 33223
  LINE_PROJECTION_OFFSET = -64631.25
  MAP_PROJECTION_ROTATION = 0.0
  MAP_PROJECTION_TYPE = SINUSOIDAL
  MAP_RESOLUTION = 2370.85521546667
  MAP_SCALE = 0.025
  MAXIMUM_LATITUDE = -27.119
  MINIMUM_LATITUDE = -41.2484
  POSITIVE_LONGITUDE_DIRECTION = EAST
  REFERENCE_LATITUDE = "N/A"
  REFERENCE_LONGITUDE = "N/A"
  SAMPLE_FIRST_PIXEL = 1
  SAMPLE_LAST_PIXEL = 3302
  SAMPLE_PROJECTION_OFFSET = 1011.75
  SECOND_STANDARD_PARALLEL = "N/A"
  WESTERNMOST_LONGITUDE = -1.564
END_OBJECT = IMAGE_MAP_PROJECTION
END
