PDS_VERSION_ID = PDS3
/* FILE DATA ELEMENTS */
RECORD_TYPE = UNDEFINED
/* POINTERS TO DATA OBJECTS */
^IMAGE = ("H4308_0000_GR4.TIF")
/* IDENTIFICATION DATA ELEMENTS */
DATA_SET_ID = "MEX-M-HRSC-4-REFDR-MAPPROJECT-EXT1-V4.0"
DATA_SET_NAME = "MARS EXPRESS HRSC MAP PROJECTED REFDR EXTENSION1 V4.0"
DETECTOR_ID = MEX_HRSC_GREEN
EVENT_TYPE = "MARS-REGIONAL-MAPPING-Vo-Im-Fl"
INSTRUMENT_HOST_ID = MEX
INSTRUMENT_HOST_NAME = "MARS EXPRESS"
INSTRUMENT_ID = HRSC
INSTRUMENT_NAME = "HIGH RESOLUTION STEREO CAMERA"
MISSION_NAME = "MARS EXPRESS"
MISSION_PHASE_NAME = ME_Phase_7
PROCESSING_LEVEL_ID = 4
PRODUCT_CREATION_TIME = 2023-02-10T03:49:22.000Z
PRODUCT_ID = "H4308_0000_GR4.TIF"
RELEASE_ID = 0006
REVISION_ID = 0000
/* QUALITY DATA ELEMENTS */
DATA_QUALITY_ID = 1
DATA_QUALITY_DESC = "Data calculated based on original SPICE kernels"
/* TIME DATA ELEMENTS */
SPACECRAFT_CLOCK_START_COUNT = "1/0127178688.08243"
SPACECRAFT_CLOCK_STOP_COUNT = "1/0127178927.22947"
START_TIME = 2007-05-13T23:25:23.314Z
STOP_TIME = 2007-05-13T23:28:26.602Z
/* ORBITAL DATA ELEMENTS */
ASCENDING_NODE_LONGITUDE = 138.08
MAXIMUM_RESOLUTION = 0.0934
FOOTPRINT_POINT_LATITUDE = (-44.6347,-44.6266,-44.6127,-44.5974, -44.597,-44.6024,-44.3582,-43.9919, -43.7476,-43.5032,-43.2588,-43.0146, -42.7707,-42.5353,-42.3,-41.947, -41.7117,-41.3587,-41.0057,-40.6527, -40.4173,-40.182,-39.8291,-39.5939, -39.1243,-38.7715,-38.4191,-38.1841, -37.9491,-37.7143,-37.3621,-37.1242, -36.8805,-36.6368,-36.3932,-36.1497, -35.7846,-35.5413,-35.1766,-34.9335, -34.5693,-34.2047,-33.9619,-33.7193, -33.4768,-33.1131,-32.8707,-32.6287, -32.5075,-32.4864,-32.4947,-32.4989, -32.5041,-32.5042,-32.5058,-32.7481, -32.9906,-33.2342,-33.5987,-33.8416, -34.2051,-34.4483,-34.6916,-34.9349, -35.3,-35.5436,-35.7873,-36.031, -36.3968,-36.6408,-36.8848,-37.1289, -37.3679,-37.6031,-37.8383,-38.0736, -38.4266,-38.7796,-39.1326,-39.3679, -39.6032,-39.8387,-40.1921,-40.4277, -40.6635,-41.017,-41.3706,-41.724, -41.9595,-42.1949,-42.4318,-42.7867, -43.0304,-43.2752,-43.52,-43.8864, -44.1317,-44.499,-44.6214,-44.6347)
FOOTPRINT_POINT_LONGITUDE = (163.095,162.74,162.215,161.716,161.703 ,161.675,161.692,161.716,161.733, 161.749,161.764,161.779,161.794,161.808 ,161.822,161.842,161.855,161.874, 161.892,161.91,161.922,161.933,161.95, 161.961,161.979,161.995,162.009,162.018 ,162.027,162.036,162.049,162.057, 162.065,162.074,162.082,162.09,162.101, 162.108,162.119,162.125,162.135,162.145 ,162.151,162.157,162.163,162.171, 162.177,162.182,162.185,162.185,162.664 ,162.957,163.415,163.426,163.434,163.43 ,163.425,163.422,163.416,163.411, 163.402,163.397,163.392,163.386,163.378 ,163.373,163.368,163.362,163.354, 163.348,163.342,163.336,163.331,163.325 ,163.319,163.313,163.304,163.295, 163.285,163.278,163.271,163.264,163.254 ,163.247,163.241,163.23,163.22,163.208, 163.201,163.192,163.188,163.179,163.172 ,163.164,163.155,163.141,163.134, 163.121,163.117,163.095)
ORBIT_NUMBER = 4308
ORBITAL_ECCENTRICITY = 0.571
ORBITAL_INCLINATION = 86.69
ORBITAL_SEMIMAJOR_AXIS = 8583.0
PERIAPSIS_ALTITUDE = 294.29
PERIAPSIS_ARGUMENT_ANGLE = 319.27
PERIAPSIS_TIME = 2007-05-13T23:26:19.000Z
SPACECRAFT_ORIENTATION = (0.0,1.0,0.0)
^MEX_ORIENTATION_DESC = "MEX_ORIENTATION_DESC.TXT"
SPACECRAFT_POINTING_MODE = NADIR
^MEX_POINTING_DESC = "MEX_POINTING_DESC.TXT"
RIGHT_ASCENSION = -1e+32
DECLINATION = -1e+32
OFFSET_ANGLE = -1e+32
SPACECRAFT_SOLAR_DISTANCE = 2.07166e+08
TARGET_NAME = MARS
/* CAMERA DATA ELEMENTS */
DETECTOR_TEMPERATURE = 19.7978
FOCAL_PLANE_TEMPERATURE = 8.7872
INST_CMPRS_NAME = "DISCRETE COSINE TRANSFORMATION (DCT)"
INST_CMPRS_RATIO = 17.7323
INST_CMPRS_QUALITY = 0
INST_CMPRS_QUANTZ_TBL_ID = 0
INSTRUMENT_TEMPERATURE = 11.6418
LENS_TEMPERATURE = 10.4184
MACROPIXEL_SIZE = 8
MISSING_FRAMES = 0
PIXEL_SUBSAMPLING_FLAG = N
SIGNAL_CHAIN_ID = 2
/* RADIOMETRIC DATA ELEMENTS */
BANDWIDTH = 88.0
CENTER_FILTER_WAVELENGTH = 538.0
RADIANCE_OFFSET = 2.53108
RADIANCE_SCALING_FACTOR = 0.0037305
REFLECTANCE_SCALING_FACTOR = 0.000137846
MEX:REFLECTANCE_OFFSET = 0.093526
/* IMAGE OBJECT DEFINITIONS */
OBJECT = IMAGE
  INTERCHANGE_FORMAT = BINARY
  LINES = 7200
  LINE_SAMPLES = 784
  SAMPLE_TYPE = UNSIGNED_INTEGER
  SAMPLE_BITS = 8
  BANDS = 1
  BAND_STORAGE_TYPE = BAND_SEQUENTIAL
  MAXIMUM = 255
  MEAN = 133.432
  MINIMUM = 1
  STANDARD_DEVIATION = 56.1399
END_OBJECT = IMAGE
/* MAP OBJECT DEFINITIONS */
OBJECT = IMAGE_MAP_PROJECTION
  ^DATA_SET_MAP_PROJECTION_CATALOG= "DSMAP.CAT"
  A_AXIS_RADIUS = 3396.0
  B_AXIS_RADIUS = 3396.0
  C_AXIS_RADIUS = 3396.0
  CENTER_LATITUDE = 0.0
  CENTER_LONGITUDE = 163.0
  COORDINATE_SYSTEM_NAME = PLANETOGRAPHIC
  COORDINATE_SYSTEM_TYPE = "BODY-FIXED ROTATING"
  EASTERNMOST_LONGITUDE = 163.434
  FIRST_STANDARD_PARALLEL = "N/A"
  LINE_FIRST_PIXEL = 1
  LINE_LAST_PIXEL = 7200
  LINE_PROJECTION_OFFSET = -19261.3125
  MAP_PROJECTION_ROTATION = 0.0
  MAP_PROJECTION_TYPE = SINUSOIDAL
  MAP_RESOLUTION = 592.713803866667
  MAP_SCALE = 0.1
  MAXIMUM_LATITUDE = -32.4864
  MINIMUM_LATITUDE = -44.6347
  POSITIVE_LONGITUDE_DIRECTION = EAST
  REFERENCE_LATITUDE = "N/A"
  REFERENCE_LONGITUDE = "N/A"
  SAMPLE_FIRST_PIXEL = 1
  SAMPLE_LAST_PIXEL = 784
  SAMPLE_PROJECTION_OFFSET = 566.6875
  SECOND_STANDARD_PARALLEL = "N/A"
  WESTERNMOST_LONGITUDE = 161.675
END_OBJECT = IMAGE_MAP_PROJECTION
END
