PDS_VERSION_ID = PDS3
/* FILE DATA ELEMENTS */
RECORD_TYPE = UNDEFINED
/* POINTERS TO DATA OBJECTS */
^IMAGE = ("H4308_0000_RE4.TIF")
/* IDENTIFICATION DATA ELEMENTS */
DATA_SET_ID = "MEX-M-HRSC-4-REFDR-MAPPROJECT-EXT1-V4.0"
DATA_SET_NAME = "MARS EXPRESS HRSC MAP PROJECTED REFDR EXTENSION1 V4.0"
DETECTOR_ID = MEX_HRSC_RED
EVENT_TYPE = "MARS-REGIONAL-MAPPING-Vo-Im-Fl"
INSTRUMENT_HOST_ID = MEX
INSTRUMENT_HOST_NAME = "MARS EXPRESS"
INSTRUMENT_ID = HRSC
INSTRUMENT_NAME = "HIGH RESOLUTION STEREO CAMERA"
MISSION_NAME = "MARS EXPRESS"
MISSION_PHASE_NAME = ME_Phase_7
PROCESSING_LEVEL_ID = 4
PRODUCT_CREATION_TIME = 2023-02-10T03:49:22.000Z
PRODUCT_ID = "H4308_0000_RE4.TIF"
RELEASE_ID = 0006
REVISION_ID = 0000
/* QUALITY DATA ELEMENTS */
DATA_QUALITY_ID = 1
DATA_QUALITY_DESC = "Data calculated based on original SPICE kernels"
/* TIME DATA ELEMENTS */
SPACECRAFT_CLOCK_START_COUNT = "1/0127178688.08243"
SPACECRAFT_CLOCK_STOP_COUNT = "1/0127178927.22947"
START_TIME = 2007-05-13T23:24:56.955Z
STOP_TIME = 2007-05-13T23:27:59.873Z
/* ORBITAL DATA ELEMENTS */
ASCENDING_NODE_LONGITUDE = 138.08
MAXIMUM_RESOLUTION = 0.0977
FOOTPRINT_POINT_LATITUDE = (-44.6842,-44.6762,-44.6628,-44.6446, -44.6441,-44.5982,-44.2382,-43.9976, -43.7575,-43.5172,-43.2764,-43.0348, -42.673,-42.4313,-42.1892,-41.8264, -41.4627,-41.2202,-40.6303,-40.1628, -39.8115,-39.5765,-39.2224,-38.9849, -38.5151,-38.2796,-37.9265,-37.6905, -37.3364,-37.1004,-36.8641,-36.6285, -36.3922,-36.1562,-35.9179,-35.6829, -35.4445,-35.1986,-34.9525,-34.7069, -34.4584,-34.2157,-33.9704,-33.7245, -33.4783,-33.233,-32.7421,-32.6181, -32.4997,-32.5057,-32.5126,-32.5183, -32.5184,-32.5201,-32.8897,-33.2539, -33.4987,-33.8689,-34.1198,-34.3652, -34.6117,-34.8575,-35.1036,-35.3504, -35.5932,-35.8301,-36.0672,-36.3034, -36.6579,-37.013,-37.3672,-37.6034, -37.8398,-38.0748,-38.312,-38.5483, -38.7846,-39.0212,-39.2575,-39.4938, -39.848,-40.084,-40.4361,-40.7877, -41.0224,-41.2623,-41.5065,-41.8731, -42.1178,-42.3572,-42.592,-42.8332, -43.0751,-43.3168,-43.5593,-43.8064, -44.1651,-44.4048,-44.525,-44.6842)
FOOTPRINT_POINT_LONGITUDE = (163.104,162.743,162.248,161.699, 161.686,161.661,161.686,161.703,161.719 ,161.736,161.751,161.767,161.789, 161.804,161.818,161.839,161.86,161.873, 161.904,161.928,161.945,161.956,161.971 ,161.981,162.001,162.011,162.025, 162.035,162.048,162.057,162.065,162.074 ,162.082,162.09,162.097,162.105,162.112 ,162.12,162.127,162.134,162.14,162.147, 162.154,162.161,162.167,162.173,162.185 ,162.187,162.19,162.502,162.931,163.406 ,163.418,163.425,163.419,163.415, 163.411,163.404,163.397,163.393,163.388 ,163.383,163.378,163.373,163.368, 163.363,163.358,163.353,163.345,163.337 ,163.329,163.324,163.318,163.313, 163.307,163.301,163.295,163.289,163.283 ,163.276,163.266,163.26,163.251,163.241 ,163.235,163.228,163.221,163.209, 163.201,163.196,163.192,163.186,163.178 ,163.171,163.163,163.152,163.142, 163.135,163.131,163.104)
ORBIT_NUMBER = 4308
ORBITAL_ECCENTRICITY = 0.571
ORBITAL_INCLINATION = 86.69
ORBITAL_SEMIMAJOR_AXIS = 8583.0
PERIAPSIS_ALTITUDE = 294.29
PERIAPSIS_ARGUMENT_ANGLE = 319.27
PERIAPSIS_TIME = 2007-05-13T23:26:19.000Z
SPACECRAFT_ORIENTATION = (0.0,1.0,0.0)
^MEX_ORIENTATION_DESC = "MEX_ORIENTATION_DESC.TXT"
SPACECRAFT_POINTING_MODE = NADIR
^MEX_POINTING_DESC = "MEX_POINTING_DESC.TXT"
RIGHT_ASCENSION = -1e+32
DECLINATION = -1e+32
OFFSET_ANGLE = -1e+32
SPACECRAFT_SOLAR_DISTANCE = 2.07166e+08
TARGET_NAME = MARS
/* CAMERA DATA ELEMENTS */
DETECTOR_TEMPERATURE = 18.7783
FOCAL_PLANE_TEMPERATURE = 8.7872
INST_CMPRS_NAME = "DISCRETE COSINE TRANSFORMATION (DCT)"
INST_CMPRS_RATIO = 24.1989
INST_CMPRS_QUALITY = 0
INST_CMPRS_QUANTZ_TBL_ID = 0
INSTRUMENT_TEMPERATURE = 11.6418
LENS_TEMPERATURE = 10.4184
MACROPIXEL_SIZE = 8
MISSING_FRAMES = 0
PIXEL_SUBSAMPLING_FLAG = N
SIGNAL_CHAIN_ID = 2
/* RADIOMETRIC DATA ELEMENTS */
BANDWIDTH = 48.0
CENTER_FILTER_WAVELENGTH = 748.0
RADIANCE_OFFSET = 1.67425
RADIANCE_SCALING_FACTOR = 0.00532687
REFLECTANCE_SCALING_FACTOR = 0.000521716
MEX:REFLECTANCE_OFFSET = 0.163977
/* IMAGE OBJECT DEFINITIONS */
OBJECT = IMAGE
  INTERCHANGE_FORMAT = BINARY
  LINES = 7200
  LINE_SAMPLES = 784
  SAMPLE_TYPE = UNSIGNED_INTEGER
  SAMPLE_BITS = 8
  BANDS = 1
  BAND_STORAGE_TYPE = BAND_SEQUENTIAL
  MAXIMUM = 255
  MEAN = 128.612
  MINIMUM = 1
  STANDARD_DEVIATION = 58.5333
END_OBJECT = IMAGE
/* MAP OBJECT DEFINITIONS */
OBJECT = IMAGE_MAP_PROJECTION
  ^DATA_SET_MAP_PROJECTION_CATALOG= "DSMAP.CAT"
  A_AXIS_RADIUS = 3396.0
  B_AXIS_RADIUS = 3396.0
  C_AXIS_RADIUS = 3396.0
  CENTER_LATITUDE = 0.0
  CENTER_LONGITUDE = 163.0
  COORDINATE_SYSTEM_NAME = PLANETOGRAPHIC
  COORDINATE_SYSTEM_TYPE = "BODY-FIXED ROTATING"
  EASTERNMOST_LONGITUDE = 163.425
  FIRST_STANDARD_PARALLEL = "N/A"
  LINE_FIRST_PIXEL = 1
  LINE_LAST_PIXEL = 7200
  LINE_PROJECTION_OFFSET = -19261.3125
  MAP_PROJECTION_ROTATION = 0.0
  MAP_PROJECTION_TYPE = SINUSOIDAL
  MAP_RESOLUTION = 592.713803866667
  MAP_SCALE = 0.1
  MAXIMUM_LATITUDE = -32.4997
  MINIMUM_LATITUDE = -44.6842
  POSITIVE_LONGITUDE_DIRECTION = EAST
  REFERENCE_LATITUDE = "N/A"
  REFERENCE_LONGITUDE = "N/A"
  SAMPLE_FIRST_PIXEL = 1
  SAMPLE_LAST_PIXEL = 784
  SAMPLE_PROJECTION_OFFSET = 566.6875
  SECOND_STANDARD_PARALLEL = "N/A"
  WESTERNMOST_LONGITUDE = 161.661
END_OBJECT = IMAGE_MAP_PROJECTION
END
