PDS_VERSION_ID = PDS3
/* FILE DATA ELEMENTS */
RECORD_TYPE = UNDEFINED
/* POINTERS TO DATA OBJECTS */
^IMAGE = ("H4309_0000_P14.TIF")
/* IDENTIFICATION DATA ELEMENTS */
DATA_SET_ID = "MEX-M-HRSC-4-REFDR-MAPPROJECT-EXT1-V4.0"
DATA_SET_NAME = "MARS EXPRESS HRSC MAP PROJECTED REFDR EXTENSION1 V4.0"
DETECTOR_ID = MEX_HRSC_P1
EVENT_TYPE = "MARS-REGIONAL-VARIABLE-At"
INSTRUMENT_HOST_ID = MEX
INSTRUMENT_HOST_NAME = "MARS EXPRESS"
INSTRUMENT_ID = HRSC
INSTRUMENT_NAME = "HIGH RESOLUTION STEREO CAMERA"
MISSION_NAME = "MARS EXPRESS"
MISSION_PHASE_NAME = ME_Phase_7
PROCESSING_LEVEL_ID = 4
PRODUCT_CREATION_TIME = 2023-02-10T03:49:22.000Z
PRODUCT_ID = "H4309_0000_P14.TIF"
RELEASE_ID = 0006
REVISION_ID = 0000
/* QUALITY DATA ELEMENTS */
DATA_QUALITY_ID = 1
DATA_QUALITY_DESC = "Data calculated based on original SPICE kernels"
/* TIME DATA ELEMENTS */
SPACECRAFT_CLOCK_START_COUNT = "1/0127202755.08408"
SPACECRAFT_CLOCK_STOP_COUNT = "1/0127202919.33434"
START_TIME = 2007-05-14T06:06:48.436Z
STOP_TIME = 2007-05-14T06:08:32.747Z
/* ORBITAL DATA ELEMENTS */
ASCENDING_NODE_LONGITUDE = 138.06
MAXIMUM_RESOLUTION = 0.0499
FOOTPRINT_POINT_LATITUDE = (-52.5499,-52.5356,-52.5261,-52.5162, -52.5059,-52.4951,-52.4839,-52.4831, -52.5487,-52.4093,-52.2692,-52.0597, -51.9203,-51.7806,-51.5711,-51.361, -51.1507,-51.0104,-50.8711,-50.7314, -50.5914,-50.4514,-50.3111,-50.1716, -50.0318,-49.8922,-49.7524,-49.6124, -49.4726,-49.3319,-49.1919,-49.0524, -48.9141,-48.6434,-48.4401,-48.3045, -48.1013,-47.9658,-47.7626,-47.4933, -47.357,-47.0851,-46.8838,-46.6162, -46.3461,-46.2108,-45.9405,-45.7376, -45.6702,-45.6044,-45.6126,-45.6264, -45.6337,-45.6431,-45.6543,-45.6547, -45.6556,-45.9258,-46.0616,-46.2646, -46.6017,-46.7376,-46.8735,-47.0093, -47.2127,-47.4834,-47.6861,-47.8222, -47.9585,-48.0939,-48.2965,-48.4996, -48.6352,-48.8384,-48.9749,-49.1139, -49.2529,-49.394,-49.5349,-49.6753, -49.8857,-50.0258,-50.2365,-50.3772, -50.5177,-50.7285,-50.9392,-51.0796, -51.2199,-51.3601,-51.5006,-51.641, -51.7811,-51.9215,-52.0618,-52.202, -52.3423,-52.4825,-52.5526,-52.5499)
FOOTPRINT_POINT_LONGITUDE = (64.9656,64.5327,64.2678,64.0042,63.742 ,63.4807,63.2205,63.2042,63.1713, 63.1873,63.2033,63.2268,63.2421,63.2574 ,63.2799,63.3023,63.3244,63.3389, 63.3529,63.3669,63.3808,63.3946,63.4084 ,63.4216,63.4349,63.4479,63.4608, 63.4737,63.4863,63.4992,63.5116,63.5237 ,63.5357,63.559,63.5762,63.5875,63.6043 ,63.6153,63.6315,63.6522,63.6629, 63.6838,63.6983,63.717,63.736,63.7455, 63.764,63.7777,63.7821,63.7864,64.0098, 64.3908,64.6178,64.9177,65.2917,65.3061 ,65.3109,65.302,65.2983,65.2919,65.2796 ,65.2757,65.2719,65.2678,65.2613, 65.2519,65.2445,65.2405,65.2365,65.2317 ,65.2239,65.2164,65.2116,65.2041, 65.2002,65.1952,65.1884,65.1837,65.1787 ,65.1731,65.1645,65.1585,65.15,65.1445, 65.1389,65.1303,65.1215,65.1154,65.1092 ,65.103,65.097,65.0907,65.0842,65.0779, 65.0715,65.065,65.0584,65.0517,65.0484, 64.9656)
ORBIT_NUMBER = 4309
ORBITAL_ECCENTRICITY = 0.571
ORBITAL_INCLINATION = 86.7
ORBITAL_SEMIMAJOR_AXIS = 8585.78
PERIAPSIS_ALTITUDE = 293.22
PERIAPSIS_ARGUMENT_ANGLE = 319.08
PERIAPSIS_TIME = 2007-05-14T06:09:28.000Z
SPACECRAFT_ORIENTATION = (0.0,1.0,0.0)
^MEX_ORIENTATION_DESC = "MEX_ORIENTATION_DESC.TXT"
SPACECRAFT_POINTING_MODE = ACROSSTRACK
^MEX_POINTING_DESC = "MEX_POINTING_DESC.TXT"
RIGHT_ASCENSION = -1e+32
DECLINATION = -1e+32
OFFSET_ANGLE = -0.3
SPACECRAFT_SOLAR_DISTANCE = 2.07153e+08
TARGET_NAME = MARS
/* CAMERA DATA ELEMENTS */
DETECTOR_TEMPERATURE = 17.9627
FOCAL_PLANE_TEMPERATURE = 9.6028
INST_CMPRS_NAME = "DISCRETE COSINE TRANSFORMATION (DCT)"
INST_CMPRS_RATIO = 13.0352
INST_CMPRS_QUALITY = 0
INST_CMPRS_QUANTZ_TBL_ID = 0
INSTRUMENT_TEMPERATURE = 11.8457
LENS_TEMPERATURE = 9.8067
MACROPIXEL_SIZE = 4
MISSING_FRAMES = 0
PIXEL_SUBSAMPLING_FLAG = N
SIGNAL_CHAIN_ID = 1
/* RADIOMETRIC DATA ELEMENTS */
BANDWIDTH = 174.0
CENTER_FILTER_WAVELENGTH = 675.0
RADIANCE_OFFSET = 9.51104
RADIANCE_SCALING_FACTOR = 0.00700525
REFLECTANCE_SCALING_FACTOR = 0.000161693
MEX:REFLECTANCE_OFFSET = 0.219531
/* IMAGE OBJECT DEFINITIONS */
OBJECT = IMAGE
  INTERCHANGE_FORMAT = BINARY
  LINES = 8311
  LINE_SAMPLES = 1699
  SAMPLE_TYPE = UNSIGNED_INTEGER
  SAMPLE_BITS = 8
  BANDS = 1
  BAND_STORAGE_TYPE = BAND_SEQUENTIAL
  MAXIMUM = 254
  MEAN = 130.483
  MINIMUM = 2
  STANDARD_DEVIATION = 40.5668
END_OBJECT = IMAGE
/* MAP OBJECT DEFINITIONS */
OBJECT = IMAGE_MAP_PROJECTION
  ^DATA_SET_MAP_PROJECTION_CATALOG= "DSMAP.CAT"
  A_AXIS_RADIUS = 3396.0
  B_AXIS_RADIUS = 3396.0
  C_AXIS_RADIUS = 3396.0
  CENTER_LATITUDE = 0.0
  CENTER_LONGITUDE = 64.0
  COORDINATE_SYSTEM_NAME = PLANETOGRAPHIC
  COORDINATE_SYSTEM_TYPE = "BODY-FIXED ROTATING"
  EASTERNMOST_LONGITUDE = 65.3109
  FIRST_STANDARD_PARALLEL = "N/A"
  LINE_FIRST_PIXEL = 1
  LINE_LAST_PIXEL = 8311
  LINE_PROJECTION_OFFSET = -54032.0
  MAP_PROJECTION_ROTATION = 0.0
  MAP_PROJECTION_TYPE = SINUSOIDAL
  MAP_RESOLUTION = 1185.42760773333
  MAP_SCALE = 0.05
  MAXIMUM_LATITUDE = -45.6044
  MINIMUM_LATITUDE = -52.5526
  POSITIVE_LONGITUDE_DIRECTION = EAST
  REFERENCE_LATITUDE = "N/A"
  REFERENCE_LONGITUDE = "N/A"
  SAMPLE_FIRST_PIXEL = 1
  SAMPLE_LAST_PIXEL = 1699
  SAMPLE_PROJECTION_OFFSET = 609.0
  SECOND_STANDARD_PARALLEL = "N/A"
  WESTERNMOST_LONGITUDE = 63.1713
END_OBJECT = IMAGE_MAP_PROJECTION
END
