PDS_VERSION_ID = PDS3
/* FILE DATA ELEMENTS */
RECORD_TYPE = UNDEFINED
/* POINTERS TO DATA OBJECTS */
^IMAGE = ("H4317_0000_BL4.TIF")
/* IDENTIFICATION DATA ELEMENTS */
DATA_SET_ID = "MEX-M-HRSC-4-REFDR-MAPPROJECT-EXT1-V4.0"
DATA_SET_NAME = "MARS EXPRESS HRSC MAP PROJECTED REFDR EXTENSION1 V4.0"
DETECTOR_ID = MEX_HRSC_BLUE
EVENT_TYPE = "MARS-REGIONAL-MAPPING-Vo-Im"
INSTRUMENT_HOST_ID = MEX
INSTRUMENT_HOST_NAME = "MARS EXPRESS"
INSTRUMENT_ID = HRSC
INSTRUMENT_NAME = "HIGH RESOLUTION STEREO CAMERA"
MISSION_NAME = "MARS EXPRESS"
MISSION_PHASE_NAME = ME_Phase_7
PROCESSING_LEVEL_ID = 4
PRODUCT_CREATION_TIME = 2023-02-10T03:49:22.000Z
PRODUCT_ID = "H4317_0000_BL4.TIF"
RELEASE_ID = 0006
REVISION_ID = 0000
/* QUALITY DATA ELEMENTS */
DATA_QUALITY_ID = 1
DATA_QUALITY_DESC = "Data calculated based on original SPICE kernels"
/* TIME DATA ELEMENTS */
SPACECRAFT_CLOCK_START_COUNT = "1/0127396480.08253"
SPACECRAFT_CLOCK_STOP_COUNT = "1/0127396754.25216"
START_TIME = 2007-05-16T11:55:05.732Z
STOP_TIME = 2007-05-16T11:57:01.464Z
/* ORBITAL DATA ELEMENTS */
ASCENDING_NODE_LONGITUDE = 137.9
MAXIMUM_RESOLUTION = 0.0934
FOOTPRINT_POINT_LATITUDE = (-41.3009,-41.2937,-41.2836,-41.272, -41.2716,-41.2615,-41.0364,-40.8864, -40.6613,-40.5112,-40.3612,-40.1361, -39.986,-39.8359,-39.6106,-39.4606, -39.3104,-39.0852,-38.9352,-38.785, -38.6349,-38.4098,-38.2597,-38.1096, -37.8846,-37.6558,-37.4221,-37.2663, -37.1104,-36.8767,-36.721,-36.5652, -36.4096,-36.2538,-36.0981,-35.9425, -35.7868,-35.5534,-35.3978,-35.2422, -35.0866,-34.9311,-34.6978,-34.4647, -34.3094,-34.1539,-33.9209,-33.6879, -33.6102,-33.595,-33.5988,-33.6042, -33.6098,-33.6128,-33.6129,-33.6145, -33.77,-33.9256,-34.159,-34.3146, -34.4702,-34.6259,-34.8595,-35.0154, -35.1712,-35.4049,-35.5608,-35.7168, -35.8726,-36.1064,-36.2623,-36.4183, -36.5738,-36.7299,-36.9638,-37.198, -37.3541,-37.5102,-37.6664,-37.8208, -37.9713,-38.2714,-38.4969,-38.6472, -38.798,-38.9486,-39.2489,-39.3992, -39.6247,-39.8502,-40.0005,-40.151, -40.3766,-40.527,-40.6773,-40.9027, -41.0531,-41.2035,-41.2786,-41.3009)
FOOTPRINT_POINT_LONGITUDE = (358.796,358.402,357.948,357.507, 357.495,357.475,357.486,357.493,357.504 ,357.511,357.518,357.528,357.535, 357.542,357.551,357.558,357.564,357.573 ,357.58,357.586,357.592,357.6,357.606, 357.612,357.62,357.628,357.637,357.642, 357.647,357.655,357.66,357.665,357.67, 357.674,357.679,357.684,357.688,357.695 ,357.699,357.704,357.708,357.712, 357.718,357.724,357.728,357.731,357.737 ,357.742,357.744,357.744,357.954, 358.284,358.698,358.981,358.993,359.001 ,358.998,358.995,358.99,358.987,358.984 ,358.98,358.976,358.972,358.969,358.964 ,358.96,358.956,358.953,358.948,358.944 ,358.941,358.938,358.934,358.929, 358.923,358.919,358.916,358.912,358.908 ,358.904,358.898,358.892,358.888, 358.883,358.879,358.872,358.868,358.862 ,358.856,358.852,358.848,358.841, 358.837,358.833,358.826,358.822,358.817 ,358.815,358.796)
ORBIT_NUMBER = 4317
ORBITAL_ECCENTRICITY = 0.571
ORBITAL_INCLINATION = 86.69
ORBITAL_SEMIMAJOR_AXIS = 8581.24
PERIAPSIS_ALTITUDE = 293.65
PERIAPSIS_ARGUMENT_ANGLE = 317.66
PERIAPSIS_TIME = 2007-05-16T11:54:56.000Z
SPACECRAFT_ORIENTATION = (0.0,1.0,0.0)
^MEX_ORIENTATION_DESC = "MEX_ORIENTATION_DESC.TXT"
SPACECRAFT_POINTING_MODE = ACROSSTRACK
^MEX_POINTING_DESC = "MEX_POINTING_DESC.TXT"
RIGHT_ASCENSION = -1e+32
DECLINATION = -1e+32
OFFSET_ANGLE = -0.05
SPACECRAFT_SOLAR_DISTANCE = 2.07056e+08
TARGET_NAME = MARS
/* CAMERA DATA ELEMENTS */
DETECTOR_TEMPERATURE = 18.1666
FOCAL_PLANE_TEMPERATURE = 9.6028
INST_CMPRS_NAME = "DISCRETE COSINE TRANSFORMATION (DCT)"
INST_CMPRS_RATIO = 21.3161
INST_CMPRS_QUALITY = 0
INST_CMPRS_QUANTZ_TBL_ID = 0
INSTRUMENT_TEMPERATURE = 10.6223
LENS_TEMPERATURE = 9.8067
MACROPIXEL_SIZE = 8
MISSING_FRAMES = 0
PIXEL_SUBSAMPLING_FLAG = N
SIGNAL_CHAIN_ID = 2
/* RADIOMETRIC DATA ELEMENTS */
BANDWIDTH = 76.0
CENTER_FILTER_WAVELENGTH = 444.0
RADIANCE_OFFSET = 1.06855
RADIANCE_SCALING_FACTOR = 0.000753666
REFLECTANCE_SCALING_FACTOR = 3.3198e-05
MEX:REFLECTANCE_OFFSET = 0.0470682
/* IMAGE OBJECT DEFINITIONS */
OBJECT = IMAGE
  INTERCHANGE_FORMAT = BINARY
  LINES = 4418
  LINE_SAMPLES = 734
  SAMPLE_TYPE = UNSIGNED_INTEGER
  SAMPLE_BITS = 8
  BANDS = 1
  BAND_STORAGE_TYPE = BAND_SEQUENTIAL
  MAXIMUM = 255
  MEAN = 166.285
  MINIMUM = 1
  STANDARD_DEVIATION = 14.8601
END_OBJECT = IMAGE
/* MAP OBJECT DEFINITIONS */
OBJECT = IMAGE_MAP_PROJECTION
  ^DATA_SET_MAP_PROJECTION_CATALOG= "DSMAP.CAT"
  A_AXIS_RADIUS = 3396.0
  B_AXIS_RADIUS = 3396.0
  C_AXIS_RADIUS = 3396.0
  CENTER_LATITUDE = 0.0
  CENTER_LONGITUDE = 358.0
  COORDINATE_SYSTEM_NAME = PLANETOGRAPHIC
  COORDINATE_SYSTEM_TYPE = "BODY-FIXED ROTATING"
  EASTERNMOST_LONGITUDE = 359.001
  FIRST_STANDARD_PARALLEL = "N/A"
  LINE_FIRST_PIXEL = 1
  LINE_LAST_PIXEL = 4418
  LINE_PROJECTION_OFFSET = -20060.6875
  MAP_PROJECTION_ROTATION = 0.0
  MAP_PROJECTION_TYPE = SINUSOIDAL
  MAP_RESOLUTION = 592.713803866667
  MAP_SCALE = 0.1
  MAXIMUM_LATITUDE = -33.595
  MINIMUM_LATITUDE = -41.3009
  POSITIVE_LONGITUDE_DIRECTION = EAST
  REFERENCE_LATITUDE = "N/A"
  REFERENCE_LONGITUDE = "N/A"
  SAMPLE_FIRST_PIXEL = 1
  SAMPLE_LAST_PIXEL = 734
  SAMPLE_PROJECTION_OFFSET = 241.6875
  SECOND_STANDARD_PARALLEL = "N/A"
  WESTERNMOST_LONGITUDE = 357.475
END_OBJECT = IMAGE_MAP_PROJECTION
END
