PDS_VERSION_ID = PDS3
/* FILE DATA ELEMENTS */
RECORD_TYPE = UNDEFINED
/* POINTERS TO DATA OBJECTS */
^IMAGE = ("H4326_0000_IR4.TIF")
/* IDENTIFICATION DATA ELEMENTS */
DATA_SET_ID = "MEX-M-HRSC-4-REFDR-MAPPROJECT-EXT1-V4.0"
DATA_SET_NAME = "MARS EXPRESS HRSC MAP PROJECTED REFDR EXTENSION1 V4.0"
DETECTOR_ID = MEX_HRSC_IR
EVENT_TYPE = "MARS-REGIONAL-MAPPING-Vo-Te-Im"
INSTRUMENT_HOST_ID = MEX
INSTRUMENT_HOST_NAME = "MARS EXPRESS"
INSTRUMENT_ID = HRSC
INSTRUMENT_NAME = "HIGH RESOLUTION STEREO CAMERA"
MISSION_NAME = "MARS EXPRESS"
MISSION_PHASE_NAME = ME_Phase_7
PROCESSING_LEVEL_ID = 4
PRODUCT_CREATION_TIME = 2023-02-10T03:49:22.000Z
PRODUCT_ID = "H4326_0000_IR4.TIF"
RELEASE_ID = 0006
REVISION_ID = 0000
/* QUALITY DATA ELEMENTS */
DATA_QUALITY_ID = 1
DATA_QUALITY_DESC = "Data calculated based on original SPICE kernels"
/* TIME DATA ELEMENTS */
SPACECRAFT_CLOCK_START_COUNT = "1/0127613930.09072"
SPACECRAFT_CLOCK_STOP_COUNT = "1/0127614272.08882"
START_TIME = 2007-05-19T00:19:54.150Z
STOP_TIME = 2007-05-19T00:24:29.851Z
/* ORBITAL DATA ELEMENTS */
ASCENDING_NODE_LONGITUDE = 137.71
MAXIMUM_RESOLUTION = 0.0974
FOOTPRINT_POINT_LATITUDE = (-60.0365,-59.9909,-59.955,-59.954, -60.0107,-59.6038,-59.192,-58.7892, -58.395,-57.7965,-57.3974,-56.998, -56.619,-56.2339,-55.6572,-55.2703, -54.8845,-54.5125,-53.9517,-53.3923, -53.02,-52.6464,-52.2739,-51.7267, -51.3637,-51.0134,-50.478,-50.1187, -49.76,-49.4011,-49.042,-48.6831, -48.3241,-47.9647,-47.6053,-47.0741, -46.7285,-46.3804,-46.0316,-45.3437, -45.0011,-44.6568,-44.3134,-43.9701, -43.6267,-43.1129,-42.7694,-42.4274, -41.9143,-41.743,-41.6925,-41.7008, -41.7066,-41.7066,-41.7081,-42.2219, -42.7367,-43.08,-43.4238,-43.9399, -44.2842,-44.8017,-45.1471,-45.4923, -45.8374,-46.1836,-46.6987,-47.0438, -47.3946,-47.7593,-48.1204,-48.4821, -49.0231,-49.3839,-49.9249,-50.2847, -50.8246,-51.1828,-51.723,-52.0836, -52.6425,-53.0166,-53.579,-53.9529, -54.3274,-54.7011,-55.0785,-55.6642, -56.0521,-56.435,-56.8212,-57.2091, -57.6109,-58.0066,-58.4044,-58.8035, -59.2099,-59.8312,-60.0398,-60.0365)
FOOTPRINT_POINT_LONGITUDE = (192.332,190.967,190.082,190.06,189.961 ,190.058,190.158,190.251,190.335, 190.465,190.549,190.635,190.701,190.773 ,190.875,190.943,191.01,191.07,191.16, 191.245,191.298,191.352,191.403,191.477 ,191.527,191.561,191.622,191.664, 191.703,191.743,191.781,191.818,191.855 ,191.891,191.926,191.977,192.009, 192.042,192.075,192.13,192.155,192.181, 192.206,192.231,192.255,192.289,192.312 ,192.333,192.364,192.374,192.378, 193.013,193.729,193.741,193.75,193.728, 193.705,193.689,193.674,193.649,193.633 ,193.607,193.59,193.572,193.554,193.535 ,193.507,193.487,193.467,193.447, 193.426,193.404,193.37,193.347,193.311, 193.287,193.249,193.223,193.182,193.155 ,193.111,193.081,193.035,193.003,192.97 ,192.936,192.901,192.846,192.808, 192.769,192.728,192.687,192.644,192.598 ,192.551,192.503,192.454,192.375, 192.348,192.332)
ORBIT_NUMBER = 4326
ORBITAL_ECCENTRICITY = 0.571
ORBITAL_INCLINATION = 86.7
ORBITAL_SEMIMAJOR_AXIS = 8576.7
PERIAPSIS_ALTITUDE = 293.29
PERIAPSIS_ARGUMENT_ANGLE = 316.1
PERIAPSIS_TIME = 2007-05-19T00:23:37.000Z
SPACECRAFT_ORIENTATION = (0.0,1.0,0.0)
^MEX_ORIENTATION_DESC = "MEX_ORIENTATION_DESC.TXT"
SPACECRAFT_POINTING_MODE = ACROSSTRACK
^MEX_POINTING_DESC = "MEX_POINTING_DESC.TXT"
RIGHT_ASCENSION = -1e+32
DECLINATION = -1e+32
OFFSET_ANGLE = 0.35
SPACECRAFT_SOLAR_DISTANCE = 2.0696e+08
TARGET_NAME = MARS
/* CAMERA DATA ELEMENTS */
DETECTOR_TEMPERATURE = 17.9627
FOCAL_PLANE_TEMPERATURE = 10.2145
INST_CMPRS_NAME = "DISCRETE COSINE TRANSFORMATION (DCT)"
INST_CMPRS_RATIO = 20.8873
INST_CMPRS_QUALITY = 0
INST_CMPRS_QUANTZ_TBL_ID = 0
INSTRUMENT_TEMPERATURE = 11.6418
LENS_TEMPERATURE = 10.6223
MACROPIXEL_SIZE = 8
MISSING_FRAMES = 0
PIXEL_SUBSAMPLING_FLAG = N
SIGNAL_CHAIN_ID = 2
/* RADIOMETRIC DATA ELEMENTS */
BANDWIDTH = 81.0
CENTER_FILTER_WAVELENGTH = 955.5
RADIANCE_OFFSET = 1.41404
RADIANCE_SCALING_FACTOR = 0.00509967
REFLECTANCE_SCALING_FACTOR = 0.000471243
MEX:REFLECTANCE_OFFSET = 0.130667
/* IMAGE OBJECT DEFINITIONS */
OBJECT = IMAGE
  INTERCHANGE_FORMAT = BINARY
  LINES = 10930
  LINE_SAMPLES = 1392
  SAMPLE_TYPE = UNSIGNED_INTEGER
  SAMPLE_BITS = 8
  BANDS = 1
  BAND_STORAGE_TYPE = BAND_SEQUENTIAL
  MAXIMUM = 255
  MEAN = 107.756
  MINIMUM = 1
  STANDARD_DEVIATION = 40.4987
END_OBJECT = IMAGE
/* MAP OBJECT DEFINITIONS */
OBJECT = IMAGE_MAP_PROJECTION
  ^DATA_SET_MAP_PROJECTION_CATALOG= "DSMAP.CAT"
  A_AXIS_RADIUS = 3396.0
  B_AXIS_RADIUS = 3396.0
  C_AXIS_RADIUS = 3396.0
  CENTER_LATITUDE = 0.0
  CENTER_LONGITUDE = 192.0
  COORDINATE_SYSTEM_NAME = PLANETOGRAPHIC
  COORDINATE_SYSTEM_TYPE = "BODY-FIXED ROTATING"
  EASTERNMOST_LONGITUDE = 193.75
  FIRST_STANDARD_PARALLEL = "N/A"
  LINE_FIRST_PIXEL = 1
  LINE_LAST_PIXEL = 10930
  LINE_PROJECTION_OFFSET = -24716.0625
  MAP_PROJECTION_ROTATION = 0.0
  MAP_PROJECTION_TYPE = SINUSOIDAL
  MAP_RESOLUTION = 592.713803866667
  MAP_SCALE = 0.1
  MAXIMUM_LATITUDE = -41.6925
  MINIMUM_LATITUDE = -60.0398
  POSITIVE_LONGITUDE_DIRECTION = EAST
  REFERENCE_LATITUDE = "N/A"
  REFERENCE_LONGITUDE = "N/A"
  SAMPLE_FIRST_PIXEL = 1
  SAMPLE_LAST_PIXEL = 1392
  SAMPLE_PROJECTION_OFFSET = 619.9375
  SECOND_STANDARD_PARALLEL = "N/A"
  WESTERNMOST_LONGITUDE = 189.961
END_OBJECT = IMAGE_MAP_PROJECTION
END
