PDS_VERSION_ID = PDS3
/* FILE DATA ELEMENTS */
RECORD_TYPE = UNDEFINED
/* POINTERS TO DATA OBJECTS */
^IMAGE = ("H4327_0000_S24.TIF")
/* IDENTIFICATION DATA ELEMENTS */
DATA_SET_ID = "MEX-M-HRSC-4-REFDR-MAPPROJECT-EXT1-V4.0"
DATA_SET_NAME = "MARS EXPRESS HRSC MAP PROJECTED REFDR EXTENSION1 V4.0"
DETECTOR_ID = MEX_HRSC_S2
EVENT_TYPE = "MARS-REGIONAL-MAPPING-Vo-Te-Im"
INSTRUMENT_HOST_ID = MEX
INSTRUMENT_HOST_NAME = "MARS EXPRESS"
INSTRUMENT_ID = HRSC
INSTRUMENT_NAME = "HIGH RESOLUTION STEREO CAMERA"
MISSION_NAME = "MARS EXPRESS"
MISSION_PHASE_NAME = ME_Phase_7
PROCESSING_LEVEL_ID = 4
PRODUCT_CREATION_TIME = 2023-02-10T03:49:22.000Z
PRODUCT_ID = "H4327_0000_S24.TIF"
RELEASE_ID = 0006
REVISION_ID = 0000
/* QUALITY DATA ELEMENTS */
DATA_QUALITY_ID = 1
DATA_QUALITY_DESC = "Data calculated based on original SPICE kernels"
/* TIME DATA ELEMENTS */
SPACECRAFT_CLOCK_START_COUNT = "1/0127638122.09062"
SPACECRAFT_CLOCK_STOP_COUNT = "1/0127638349.09623"
START_TIME = 2007-05-19T07:02:06.287Z
STOP_TIME = 2007-05-19T07:04:58.006Z
/* ORBITAL DATA ELEMENTS */
ASCENDING_NODE_LONGITUDE = 137.69
MAXIMUM_RESOLUTION = 0.0261
FOOTPRINT_POINT_LATITUDE = (-60.4782,-60.4405,-60.397,-60.3376, -60.3359,-60.2543,-59.9395,-59.7186, -59.496,-59.276,-59.0591,-58.8413, -58.6244,-58.4068,-58.0796,-57.7517, -57.5328,-57.1997,-56.9725,-56.752, -56.5331,-56.2113,-55.8846,-55.6597, -55.4449,-55.127,-54.9132,-54.6852, -54.4651,-54.2474,-54.0322,-53.8215, -53.6103,-53.3992,-53.188,-52.9765, -52.7649,-52.4483,-52.2372,-52.0297, -51.6263,-51.3228,-51.1112,-50.6948, -50.4776,-50.2696,-49.9591,-49.6474, -49.5438,-49.5138,-49.5448,-49.5703, -49.5968,-49.5974,-49.5981,-49.8065, -50.1185,-50.442,-50.7583,-50.9735, -51.1785,-51.6841,-52.0891,-52.3006, -52.514,-52.7282,-52.9421,-53.1544, -53.3682,-53.5824,-53.7934,-54.0077, -54.2189,-54.4348,-54.6525,-54.8744, -55.0898,-55.3107,-55.5274,-55.7357, -55.9523,-56.1783,-56.4057,-56.6283, -56.9625,-57.2973,-57.521,-57.7519, -57.9739,-58.1935,-58.5234,-58.7419, -58.9535,-59.1722,-59.5057,-59.8304, -60.0469,-60.2648,-60.3736,-60.4782)
FOOTPRINT_POINT_LONGITUDE = (94.2793,93.503,92.7241,91.7951,91.7706 ,91.7164,91.8037,91.8547,91.9041, 91.9543,92.0056,92.0559,92.106,92.1551, 92.2273,92.2977,92.3439,92.4093,92.4493 ,92.4927,92.5364,92.605,92.6696,92.7039 ,92.7423,92.8016,92.8395,92.8689, 92.9025,92.937,92.9715,93.004,93.0359, 93.0676,93.0988,93.1295,93.1599,93.2053 ,93.2351,93.2661,93.3248,93.3675, 93.3904,93.4393,93.4583,93.4823,93.5185 ,93.5536,93.5654,93.5687,94.1192,94.602 ,95.2096,95.2256,95.2313,95.2191, 95.2006,95.178,95.1572,95.1416,95.1291, 95.0992,95.0743,95.0599,95.0451,95.0297 ,95.0142,94.999,94.9829,94.9664,94.9509 ,94.9337,94.9178,94.9016,94.8845, 94.8654,94.8485,94.8291,94.8109,94.7959 ,94.7773,94.7567,94.735,94.7149,94.6838 ,94.6516,94.6293,94.6033,94.5808, 94.5589,94.525,94.5025,94.4828,94.4593, 94.4204,94.3846,94.3601,94.3343,94.3213 ,94.2793)
ORBIT_NUMBER = 4327
ORBITAL_ECCENTRICITY = 0.571
ORBITAL_INCLINATION = 86.69
ORBITAL_SEMIMAJOR_AXIS = 8581.51
PERIAPSIS_ALTITUDE = 292.43
PERIAPSIS_ARGUMENT_ANGLE = 315.91
PERIAPSIS_TIME = 2007-05-19T07:06:50.000Z
SPACECRAFT_ORIENTATION = (0.0,1.0,0.0)
^MEX_ORIENTATION_DESC = "MEX_ORIENTATION_DESC.TXT"
SPACECRAFT_POINTING_MODE = ACROSSTRACK
^MEX_POINTING_DESC = "MEX_POINTING_DESC.TXT"
RIGHT_ASCENSION = -1e+32
DECLINATION = -1e+32
OFFSET_ANGLE = 0.25
SPACECRAFT_SOLAR_DISTANCE = 2.0695e+08
TARGET_NAME = MARS
/* CAMERA DATA ELEMENTS */
DETECTOR_TEMPERATURE = 18.7783
FOCAL_PLANE_TEMPERATURE = 9.3989
INST_CMPRS_NAME = "DISCRETE COSINE TRANSFORMATION (DCT)"
INST_CMPRS_RATIO = 11.9438
INST_CMPRS_QUALITY = 0
INST_CMPRS_QUANTZ_TBL_ID = 0
INSTRUMENT_TEMPERATURE = 11.4379
LENS_TEMPERATURE = 9.6028
MACROPIXEL_SIZE = 2
MISSING_FRAMES = 0
PIXEL_SUBSAMPLING_FLAG = N
SIGNAL_CHAIN_ID = 1
/* RADIOMETRIC DATA ELEMENTS */
BANDWIDTH = 178.0
CENTER_FILTER_WAVELENGTH = 679.0
RADIANCE_OFFSET = 7.83604
RADIANCE_SCALING_FACTOR = 0.0145561
REFLECTANCE_SCALING_FACTOR = 0.000330148
MEX:REFLECTANCE_OFFSET = 0.177729
/* IMAGE OBJECT DEFINITIONS */
OBJECT = IMAGE
  INTERCHANGE_FORMAT = BINARY
  LINES = 25705
  LINE_SAMPLES = 4475
  SAMPLE_TYPE = UNSIGNED_INTEGER
  SAMPLE_BITS = 8
  BANDS = 1
  BAND_STORAGE_TYPE = BAND_SEQUENTIAL
  MAXIMUM = 255
  MEAN = 98.4389
  MINIMUM = 1
  STANDARD_DEVIATION = 33.878
END_OBJECT = IMAGE
/* MAP OBJECT DEFINITIONS */
OBJECT = IMAGE_MAP_PROJECTION
  ^DATA_SET_MAP_PROJECTION_CATALOG= "DSMAP.CAT"
  A_AXIS_RADIUS = 3396.0
  B_AXIS_RADIUS = 3396.0
  C_AXIS_RADIUS = 3396.0
  CENTER_LATITUDE = 0.0
  CENTER_LONGITUDE = 94.0
  COORDINATE_SYSTEM_NAME = PLANETOGRAPHIC
  COORDINATE_SYSTEM_TYPE = "BODY-FIXED ROTATING"
  EASTERNMOST_LONGITUDE = 95.2313
  FIRST_STANDARD_PARALLEL = "N/A"
  LINE_FIRST_PIXEL = 1
  LINE_LAST_PIXEL = 25705
  LINE_PROJECTION_OFFSET = -117421.75
  MAP_PROJECTION_ROTATION = 0.0
  MAP_PROJECTION_TYPE = SINUSOIDAL
  MAP_RESOLUTION = 2370.85521546667
  MAP_SCALE = 0.025
  MAXIMUM_LATITUDE = -49.5138
  MINIMUM_LATITUDE = -60.4782
  POSITIVE_LONGITUDE_DIRECTION = EAST
  REFERENCE_LATITUDE = "N/A"
  REFERENCE_LONGITUDE = "N/A"
  SAMPLE_FIRST_PIXEL = 1
  SAMPLE_LAST_PIXEL = 4475
  SAMPLE_PROJECTION_OFFSET = 2609.25
  SECOND_STANDARD_PARALLEL = "N/A"
  WESTERNMOST_LONGITUDE = 91.71639999999999
END_OBJECT = IMAGE_MAP_PROJECTION
END
