PDS_VERSION_ID = PDS3
/* FILE DATA ELEMENTS */
RECORD_TYPE = UNDEFINED
/* POINTERS TO DATA OBJECTS */
^IMAGE = ("H4332_0009_S14.TIF")
/* IDENTIFICATION DATA ELEMENTS */
DATA_SET_ID = "MEX-M-HRSC-4-REFDR-MAPPROJECT-EXT1-V4.0"
DATA_SET_NAME = "MARS EXPRESS HRSC MAP PROJECTED REFDR EXTENSION1 V4.0"
DETECTOR_ID = MEX_HRSC_S1
EVENT_TYPE = "MARS-LOCAL-STEREO-Fl-Lc-Ot"
INSTRUMENT_HOST_ID = MEX
INSTRUMENT_HOST_NAME = "MARS EXPRESS"
INSTRUMENT_ID = HRSC
INSTRUMENT_NAME = "HIGH RESOLUTION STEREO CAMERA"
MISSION_NAME = "MARS EXPRESS"
MISSION_PHASE_NAME = ME_Phase_7
PROCESSING_LEVEL_ID = 4
PRODUCT_CREATION_TIME = 2023-02-10T03:49:22.000Z
PRODUCT_ID = "H4332_0009_S14.TIF"
RELEASE_ID = 0006
REVISION_ID = 0000
/* QUALITY DATA ELEMENTS */
DATA_QUALITY_ID = 1
DATA_QUALITY_DESC = "Data calculated based on original SPICE kernels"
/* TIME DATA ELEMENTS */
SPACECRAFT_CLOCK_START_COUNT = "1/0127759518.09066"
SPACECRAFT_CLOCK_STOP_COUNT = "1/0127759727.27153"
START_TIME = 2007-05-20T16:46:19.516Z
STOP_TIME = 2007-05-20T16:48:49.506Z
/* ORBITAL DATA ELEMENTS */
ASCENDING_NODE_LONGITUDE = 137.59
MAXIMUM_RESOLUTION = 0.0141
FOOTPRINT_POINT_LATITUDE = (-32.4705,-32.4686,-32.4673,-32.4658, -32.4642,-32.4616,-32.4615,-32.5024, -32.2384,-31.9024,-31.7321,-31.3936, -31.2228,-31.0496,-30.7907,-30.5304, -30.3564,-30.1816,-29.9987,-29.8227, -29.6495,-29.4782,-29.1412,-28.9706, -28.7073,-28.4477,-28.2741,-28.1013, -27.9299,-27.5981,-27.2595,-27.0684, -26.7513,-26.4498,-26.1473,-25.8456, -25.6439,-25.4441,-25.2439,-25.044, -24.8447,-24.6456,-24.4468,-24.2484, -24.0503,-23.8525,-23.6551,-23.458, -23.3597,-23.3583,-23.3577,-23.3573, -23.3566,-23.356,-23.3557,-23.3557, -23.3556,-23.3558,-23.5527,-23.8498, -24.0479,-24.246,-24.5429,-24.8409, -25.0402,-25.2431,-25.4489,-25.6523, -25.9573,-26.261,-26.4632,-26.6649, -26.8612,-27.0659,-27.2582,-27.5968, -27.8505,-28.1081,-28.3651,-28.5368, -28.7079,-28.878,-29.1358,-29.3084, -29.4811,-29.74,-29.9984,-30.1719, -30.3467,-30.6081,-30.7828,-30.9585, -31.2214,-31.5676,-31.8208,-31.9904, -32.249,-32.4222,-32.5092,-32.4705)
FOOTPRINT_POINT_LONGITUDE = (324.723,324.324,324.111,323.897, 323.683,323.389,323.375,323.35,323.358, 323.361,323.364,323.368,323.369,323.37, 323.372,323.374,323.376,323.378,323.383 ,323.386,323.387,323.388,323.387, 323.387,323.39,323.392,323.394,323.395, 323.396,323.392,323.392,323.392,323.398 ,323.397,323.396,323.396,323.395, 323.394,323.394,323.393,323.392,323.39, 323.389,323.388,323.386,323.385,323.383 ,323.381,323.38,323.38,323.61,323.855, 324.16,324.435,324.664,324.908,324.923, 324.93,324.926,324.921,324.917,324.913, 324.907,324.9,324.896,324.893,324.891, 324.887,324.882,324.876,324.872,324.868 ,324.862,324.858,324.855,324.847, 324.841,324.835,324.83,324.826,324.822, 324.817,324.811,324.807,324.804,324.797 ,324.791,324.787,324.783,324.777, 324.773,324.769,324.763,324.756,324.749 ,324.745,324.74,324.736,324.734, 324.723)
ORBIT_NUMBER = 4332
ORBITAL_ECCENTRICITY = 0.571
ORBITAL_INCLINATION = 86.7
ORBITAL_SEMIMAJOR_AXIS = 8574.73
PERIAPSIS_ALTITUDE = 293.24
PERIAPSIS_ARGUMENT_ANGLE = 315.06
PERIAPSIS_TIME = 2007-05-20T16:42:44.000Z
SPACECRAFT_ORIENTATION = (0.0,1.0,0.0)
^MEX_ORIENTATION_DESC = "MEX_ORIENTATION_DESC.TXT"
SPACECRAFT_POINTING_MODE = ACROSSTRACK
^MEX_POINTING_DESC = "MEX_POINTING_DESC.TXT"
RIGHT_ASCENSION = -1e+32
DECLINATION = -1e+32
OFFSET_ANGLE = 0.1
SPACECRAFT_SOLAR_DISTANCE = 2.06904e+08
TARGET_NAME = MARS
/* CAMERA DATA ELEMENTS */
DETECTOR_TEMPERATURE = 17.9627
FOCAL_PLANE_TEMPERATURE = 9.6028
INST_CMPRS_NAME = "DISCRETE COSINE TRANSFORMATION (DCT)"
INST_CMPRS_RATIO = 8.18899
INST_CMPRS_QUALITY = 0
INST_CMPRS_QUANTZ_TBL_ID = 0
INSTRUMENT_TEMPERATURE = 12.2535
LENS_TEMPERATURE = 10.4184
MACROPIXEL_SIZE = 1
MISSING_FRAMES = 0
PIXEL_SUBSAMPLING_FLAG = N
SIGNAL_CHAIN_ID = 2
/* RADIOMETRIC DATA ELEMENTS */
BANDWIDTH = 180.0
CENTER_FILTER_WAVELENGTH = 677.0
RADIANCE_OFFSET = 6.07307
RADIANCE_SCALING_FACTOR = 0.011908
REFLECTANCE_SCALING_FACTOR = 0.00026596
MEX:REFLECTANCE_OFFSET = 0.135639
/* IMAGE OBJECT DEFINITIONS */
OBJECT = IMAGE
  INTERCHANGE_FORMAT = BINARY
  LINES = 43403
  LINE_SAMPLES = 6339
  SAMPLE_TYPE = UNSIGNED_INTEGER
  SAMPLE_BITS = 8
  BANDS = 1
  BAND_STORAGE_TYPE = BAND_SEQUENTIAL
  MAXIMUM = 255
  MEAN = 93.4477
  MINIMUM = 1
  STANDARD_DEVIATION = 32.028
END_OBJECT = IMAGE
/* MAP OBJECT DEFINITIONS */
OBJECT = IMAGE_MAP_PROJECTION
  ^DATA_SET_MAP_PROJECTION_CATALOG= "DSMAP.CAT"
  A_AXIS_RADIUS = 3396.0
  B_AXIS_RADIUS = 3396.0
  C_AXIS_RADIUS = 3396.0
  CENTER_LATITUDE = 0.0
  CENTER_LONGITUDE = 324.0
  COORDINATE_SYSTEM_NAME = PLANETOGRAPHIC
  COORDINATE_SYSTEM_TYPE = "BODY-FIXED ROTATING"
  EASTERNMOST_LONGITUDE = 324.93
  FIRST_STANDARD_PARALLEL = "N/A"
  LINE_FIRST_PIXEL = 1
  LINE_LAST_PIXEL = 43403
  LINE_PROJECTION_OFFSET = -110736.0
  MAP_PROJECTION_ROTATION = 0.0
  MAP_PROJECTION_TYPE = SINUSOIDAL
  MAP_RESOLUTION = 4741.71043093333
  MAP_SCALE = 0.0125
  MAXIMUM_LATITUDE = -23.3556
  MINIMUM_LATITUDE = -32.5092
  POSITIVE_LONGITUDE_DIRECTION = EAST
  REFERENCE_LATITUDE = "N/A"
  REFERENCE_LONGITUDE = "N/A"
  SAMPLE_FIRST_PIXEL = 1
  SAMPLE_LAST_PIXEL = 6339
  SAMPLE_PROJECTION_OFFSET = 2502.0
  SECOND_STANDARD_PARALLEL = "N/A"
  WESTERNMOST_LONGITUDE = 323.35
END_OBJECT = IMAGE_MAP_PROJECTION
END
