PDS_VERSION_ID = PDS3
/* FILE DATA ELEMENTS */
RECORD_TYPE = UNDEFINED
/* POINTERS TO DATA OBJECTS */
^IMAGE = ("H4337_0000_P14.TIF")
/* IDENTIFICATION DATA ELEMENTS */
DATA_SET_ID = "MEX-M-HRSC-4-REFDR-MAPPROJECT-EXT1-V4.0"
DATA_SET_NAME = "MARS EXPRESS HRSC MAP PROJECTED REFDR EXTENSION1 V4.0"
DETECTOR_ID = MEX_HRSC_P1
EVENT_TYPE = "MARS-REGIONAL-MAPPING-Vo-Te-Im"
INSTRUMENT_HOST_ID = MEX
INSTRUMENT_HOST_NAME = "MARS EXPRESS"
INSTRUMENT_ID = HRSC
INSTRUMENT_NAME = "HIGH RESOLUTION STEREO CAMERA"
MISSION_NAME = "MARS EXPRESS"
MISSION_PHASE_NAME = ME_Phase_7
PROCESSING_LEVEL_ID = 4
PRODUCT_CREATION_TIME = 2023-02-10T03:49:22.000Z
PRODUCT_ID = "H4337_0000_P14.TIF"
RELEASE_ID = 0006
REVISION_ID = 0000
/* QUALITY DATA ELEMENTS */
DATA_QUALITY_ID = 1
DATA_QUALITY_DESC = "Data calculated based on original SPICE kernels"
/* TIME DATA ELEMENTS */
SPACECRAFT_CLOCK_START_COUNT = "1/0127880179.08423"
SPACECRAFT_CLOCK_STOP_COUNT = "1/0127880406.24636"
START_TIME = 2007-05-22T02:17:08.795Z
STOP_TIME = 2007-05-22T02:19:59.423Z
/* ORBITAL DATA ELEMENTS */
ASCENDING_NODE_LONGITUDE = 137.48
MAXIMUM_RESOLUTION = 0.0477
FOOTPRINT_POINT_LATITUDE = (-52.9574,-52.9459,-52.9324,-52.9116, -52.9111,-52.9497,-52.7158,-52.4866, -52.1428,-51.9139,-51.5707,-51.3419, -50.9989,-50.6547,-50.3106,-50.0811, -49.8515,-49.6221,-49.2778,-49.0481, -48.8186,-48.5915,-48.3705,-48.1494, -47.9285,-47.7075,-47.4866,-47.2654, -47.0444,-46.8236,-46.6024,-46.379, -46.0454,-45.8265,-45.6073,-45.3868, -45.0584,-44.8383,-44.6184,-44.3986, -44.069,-43.8501,-43.6303,-43.4102, -43.1909,-42.8511,-42.6239,-42.3965, -42.0549,-41.828,-41.7144,-41.6494, -41.6551,-41.6615,-41.6653,-41.6654, -41.6662,-42.0083,-42.3496,-42.5771, -42.8048,-43.0331,-43.3686,-43.8071, -44.0273,-44.3573,-44.5778,-44.9081, -45.2401,-45.4604,-45.6811,-45.9006, -46.2315,-46.4543,-46.6764,-47.0098, -47.2314,-47.5646,-47.7866,-48.1195, -48.452,-48.6737,-48.9038,-49.249, -49.4791,-49.8245,-50.0547,-50.2849, -50.5148,-50.7449,-50.9734,-51.1973, -51.4247,-51.6582,-52.0068,-52.2385, -52.4703,-52.814,-52.9299,-52.9574)
FOOTPRINT_POINT_LONGITUDE = (191.832,191.334,190.829,190.158, 190.141,190.07,190.11,190.142,190.188, 190.218,190.261,190.289,190.33,190.372, 190.413,190.44,190.466,190.492,190.53, 190.556,190.58,190.603,190.626,190.649, 190.671,190.693,190.714,190.736,190.757 ,190.778,190.798,190.822,190.855, 190.872,190.888,190.907,190.931,190.948 ,190.965,190.982,191.006,191.021, 191.037,191.053,191.068,191.091,191.105 ,191.12,191.142,191.156,191.163,191.167 ,191.614,192.068,192.542,192.554, 192.558,192.543,192.526,192.516,192.504 ,192.493,192.477,192.454,192.443, 192.425,192.414,192.396,192.377,192.365 ,192.352,192.34,192.32,192.307,192.294, 192.274,192.26,192.239,192.225,192.204, 192.182,192.167,192.151,192.127,192.111 ,192.086,192.069,192.052,192.035, 192.017,192.0,191.982,191.963,191.945, 191.917,191.897,191.878,191.848,191.838 ,191.832)
ORBIT_NUMBER = 4337
ORBITAL_ECCENTRICITY = 0.571
ORBITAL_INCLINATION = 86.7
ORBITAL_SEMIMAJOR_AXIS = 8573.61
PERIAPSIS_ALTITUDE = 292.99
PERIAPSIS_ARGUMENT_ANGLE = 314.18
PERIAPSIS_TIME = 2007-05-22T02:18:42.000Z
SPACECRAFT_ORIENTATION = (0.0,1.0,0.0)
^MEX_ORIENTATION_DESC = "MEX_ORIENTATION_DESC.TXT"
SPACECRAFT_POINTING_MODE = ACROSSTRACK
^MEX_POINTING_DESC = "MEX_POINTING_DESC.TXT"
RIGHT_ASCENSION = -1e+32
DECLINATION = -1e+32
OFFSET_ANGLE = 0.45
SPACECRAFT_SOLAR_DISTANCE = 2.06861e+08
TARGET_NAME = MARS
/* CAMERA DATA ELEMENTS */
DETECTOR_TEMPERATURE = 17.7588
FOCAL_PLANE_TEMPERATURE = 8.7872
INST_CMPRS_NAME = "DISCRETE COSINE TRANSFORMATION (DCT)"
INST_CMPRS_RATIO = 12.954
INST_CMPRS_QUALITY = 0
INST_CMPRS_QUANTZ_TBL_ID = 0
INSTRUMENT_TEMPERATURE = 11.4379
LENS_TEMPERATURE = 8.9911
MACROPIXEL_SIZE = 4
MISSING_FRAMES = 0
PIXEL_SUBSAMPLING_FLAG = N
SIGNAL_CHAIN_ID = 3
/* RADIOMETRIC DATA ELEMENTS */
BANDWIDTH = 174.0
CENTER_FILTER_WAVELENGTH = 675.0
RADIANCE_OFFSET = 6.38218
RADIANCE_SCALING_FACTOR = 0.0170562
REFLECTANCE_SCALING_FACTOR = 0.00039258
MEX:REFLECTANCE_OFFSET = 0.146898
/* IMAGE OBJECT DEFINITIONS */
OBJECT = IMAGE
  INTERCHANGE_FORMAT = BINARY
  LINES = 13480
  LINE_SAMPLES = 1878
  SAMPLE_TYPE = UNSIGNED_INTEGER
  SAMPLE_BITS = 8
  BANDS = 1
  BAND_STORAGE_TYPE = BAND_SEQUENTIAL
  MAXIMUM = 255
  MEAN = 129.627
  MINIMUM = 1
  STANDARD_DEVIATION = 38.4183
END_OBJECT = IMAGE
/* MAP OBJECT DEFINITIONS */
OBJECT = IMAGE_MAP_PROJECTION
  ^DATA_SET_MAP_PROJECTION_CATALOG= "DSMAP.CAT"
  A_AXIS_RADIUS = 3396.0
  B_AXIS_RADIUS = 3396.0
  C_AXIS_RADIUS = 3396.0
  CENTER_LATITUDE = 0.0
  CENTER_LONGITUDE = 192.0
  COORDINATE_SYSTEM_NAME = PLANETOGRAPHIC
  COORDINATE_SYSTEM_TYPE = "BODY-FIXED ROTATING"
  EASTERNMOST_LONGITUDE = 192.558
  FIRST_STANDARD_PARALLEL = "N/A"
  LINE_FIRST_PIXEL = 1
  LINE_LAST_PIXEL = 13480
  LINE_PROJECTION_OFFSET = -49369.875
  MAP_PROJECTION_ROTATION = 0.0
  MAP_PROJECTION_TYPE = SINUSOIDAL
  MAP_RESOLUTION = 1185.42760773333
  MAP_SCALE = 0.05
  MAXIMUM_LATITUDE = -41.6494
  MINIMUM_LATITUDE = -52.9574
  POSITIVE_LONGITUDE_DIRECTION = EAST
  REFERENCE_LATITUDE = "N/A"
  REFERENCE_LONGITUDE = "N/A"
  SAMPLE_FIRST_PIXEL = 1
  SAMPLE_LAST_PIXEL = 1878
  SAMPLE_PROJECTION_OFFSET = 1389.125
  SECOND_STANDARD_PARALLEL = "N/A"
  WESTERNMOST_LONGITUDE = 190.07
END_OBJECT = IMAGE_MAP_PROJECTION
END
