PDS_VERSION_ID = PDS3
/* FILE DATA ELEMENTS */
RECORD_TYPE = UNDEFINED
/* POINTERS TO DATA OBJECTS */
^IMAGE = ("H4339_0000_S24.TIF")
/* IDENTIFICATION DATA ELEMENTS */
DATA_SET_ID = "MEX-M-HRSC-4-REFDR-MAPPROJECT-EXT1-V4.0"
DATA_SET_NAME = "MARS EXPRESS HRSC MAP PROJECTED REFDR EXTENSION1 V4.0"
DETECTOR_ID = MEX_HRSC_S2
EVENT_TYPE = "MARS-REGIONAL-MAPPING-Vo-Im"
INSTRUMENT_HOST_ID = MEX
INSTRUMENT_HOST_NAME = "MARS EXPRESS"
INSTRUMENT_ID = HRSC
INSTRUMENT_NAME = "HIGH RESOLUTION STEREO CAMERA"
MISSION_NAME = "MARS EXPRESS"
MISSION_PHASE_NAME = ME_Phase_7
PROCESSING_LEVEL_ID = 4
PRODUCT_CREATION_TIME = 2023-02-10T03:49:22.000Z
PRODUCT_ID = "H4339_0000_S24.TIF"
RELEASE_ID = 0006
REVISION_ID = 0000
/* QUALITY DATA ELEMENTS */
DATA_QUALITY_ID = 1
DATA_QUALITY_DESC = "Data calculated based on original SPICE kernels"
/* TIME DATA ELEMENTS */
SPACECRAFT_CLOCK_START_COUNT = "1/0127928653.07290"
SPACECRAFT_CLOCK_STOP_COUNT = "1/0127928958.15035"
START_TIME = 2007-05-22T15:44:17.256Z
STOP_TIME = 2007-05-22T15:48:20.241Z
/* ORBITAL DATA ELEMENTS */
ASCENDING_NODE_LONGITUDE = 137.45
MAXIMUM_RESOLUTION = 0.0248
FOOTPRINT_POINT_LATITUDE = (-47.4956,-47.4809,-47.4681,-47.4494, -47.4488,-47.3956,-47.0764,-46.7672, -46.4583,-46.1458,-45.6802,-45.3691, -44.9059,-44.5951,-44.2836,-43.9718, -43.6596,-43.3468,-43.0356,-42.7229, -42.4106,-42.0972,-41.6276,-41.3106, -41.0016,-40.6866,-40.2125,-39.7327, -39.4072,-39.0921,-38.765,-38.2743, -37.7847,-37.4583,-37.1318,-36.8038, -36.3122,-35.8209,-35.4932,-35.1588, -34.8183,-34.4784,-33.9681,-33.4569, -33.1167,-32.7765,-32.4301,-32.0774, -31.7264,-31.3739,-31.1977,-31.1885, -31.2026,-31.2068,-31.2069,-31.2074, -31.5547,-31.9131,-32.2662,-32.6193, -32.9574,-33.3001,-33.8114,-34.1518, -34.6631,-35.0039,-35.3444,-35.6738, -36.168,-36.6599,-36.9877,-37.3057, -37.6315,-37.9626,-38.4612,-38.9521, -39.2787,-39.7686,-40.0827,-40.5544, -40.8687,-41.1831,-41.6545,-42.1245, -42.4387,-42.7519,-43.2217,-43.6903, -44.0027,-44.3155,-44.6272,-44.9388, -45.4069,-45.7188,-46.0289,-46.3387, -46.8038,-47.2727,-47.4331,-47.4956)
FOOTPRINT_POINT_LONGITUDE = (356.37,355.811,355.411,354.91,354.895, 354.872,354.898,354.923,354.947,354.97, 355.004,355.026,355.059,355.08,355.101, 355.12,355.139,355.158,355.177,355.194, 355.212,355.228,355.253,355.267,355.284 ,355.299,355.319,355.337,355.351, 355.368,355.38,355.399,355.417,355.428, 355.439,355.449,355.464,355.478,355.487 ,355.496,355.504,355.512,355.523, 355.534,355.54,355.547,355.552,355.558, 355.564,355.569,355.571,355.571,356.402 ,356.875,356.888,356.893,356.888, 356.879,356.871,356.864,356.858,356.85, 356.839,356.831,356.819,356.811,356.803 ,356.795,356.782,356.77,356.762,356.757 ,356.749,356.739,356.723,356.709,356.7, 356.685,356.676,356.661,356.651,356.641 ,356.626,356.61,356.599,356.588,356.571 ,356.554,356.542,356.53,356.518,356.505 ,356.486,356.473,356.46,356.447,356.426 ,356.405,356.397,356.37)
ORBIT_NUMBER = 4339
ORBITAL_ECCENTRICITY = 0.571
ORBITAL_INCLINATION = 86.69
ORBITAL_SEMIMAJOR_AXIS = 8574.61
PERIAPSIS_ALTITUDE = 293.01
PERIAPSIS_ARGUMENT_ANGLE = 313.81
PERIAPSIS_TIME = 2007-05-22T15:45:04.000Z
SPACECRAFT_ORIENTATION = (0.0,1.0,0.0)
^MEX_ORIENTATION_DESC = "MEX_ORIENTATION_DESC.TXT"
SPACECRAFT_POINTING_MODE = NADIR
^MEX_POINTING_DESC = "MEX_POINTING_DESC.TXT"
RIGHT_ASCENSION = -1e+32
DECLINATION = -1e+32
OFFSET_ANGLE = -1e+32
SPACECRAFT_SOLAR_DISTANCE = 2.06845e+08
TARGET_NAME = MARS
/* CAMERA DATA ELEMENTS */
DETECTOR_TEMPERATURE = 17.9627
FOCAL_PLANE_TEMPERATURE = 9.195
INST_CMPRS_NAME = "DISCRETE COSINE TRANSFORMATION (DCT)"
INST_CMPRS_RATIO = 11.5296
INST_CMPRS_QUALITY = 0
INST_CMPRS_QUANTZ_TBL_ID = 0
INSTRUMENT_TEMPERATURE = 11.6418
LENS_TEMPERATURE = 9.8067
MACROPIXEL_SIZE = 2
MISSING_FRAMES = 0
PIXEL_SUBSAMPLING_FLAG = N
SIGNAL_CHAIN_ID = 1
/* RADIOMETRIC DATA ELEMENTS */
BANDWIDTH = 178.0
CENTER_FILTER_WAVELENGTH = 679.0
RADIANCE_OFFSET = 6.90684
RADIANCE_SCALING_FACTOR = 0.0123902
REFLECTANCE_SCALING_FACTOR = 0.000280738
MEX:REFLECTANCE_OFFSET = 0.156495
/* IMAGE OBJECT DEFINITIONS */
OBJECT = IMAGE
  INTERCHANGE_FORMAT = BINARY
  LINES = 38532
  LINE_SAMPLES = 3642
  SAMPLE_TYPE = UNSIGNED_INTEGER
  SAMPLE_BITS = 8
  BANDS = 1
  BAND_STORAGE_TYPE = BAND_SEQUENTIAL
  MAXIMUM = 255
  MEAN = 147.285
  MINIMUM = 1
  STANDARD_DEVIATION = 27.6547
END_OBJECT = IMAGE
/* MAP OBJECT DEFINITIONS */
OBJECT = IMAGE_MAP_PROJECTION
  ^DATA_SET_MAP_PROJECTION_CATALOG= "DSMAP.CAT"
  A_AXIS_RADIUS = 3396.0
  B_AXIS_RADIUS = 3396.0
  C_AXIS_RADIUS = 3396.0
  CENTER_LATITUDE = 0.0
  CENTER_LONGITUDE = 356.0
  COORDINATE_SYSTEM_NAME = PLANETOGRAPHIC
  COORDINATE_SYSTEM_TYPE = "BODY-FIXED ROTATING"
  EASTERNMOST_LONGITUDE = 356.893
  FIRST_STANDARD_PARALLEL = "N/A"
  LINE_FIRST_PIXEL = 1
  LINE_LAST_PIXEL = 38532
  LINE_PROJECTION_OFFSET = -73919.75
  MAP_PROJECTION_ROTATION = 0.0
  MAP_PROJECTION_TYPE = SINUSOIDAL
  MAP_RESOLUTION = 2370.85521546667
  MAP_SCALE = 0.025
  MAXIMUM_LATITUDE = -31.1885
  MINIMUM_LATITUDE = -47.4956
  POSITIVE_LONGITUDE_DIRECTION = EAST
  REFERENCE_LATITUDE = "N/A"
  REFERENCE_LONGITUDE = "N/A"
  SAMPLE_FIRST_PIXEL = 1
  SAMPLE_LAST_PIXEL = 3642
  SAMPLE_PROJECTION_OFFSET = 1797.75
  SECOND_STANDARD_PARALLEL = "N/A"
  WESTERNMOST_LONGITUDE = 354.872
END_OBJECT = IMAGE_MAP_PROJECTION
END
