PDS_VERSION_ID = PDS3
/* FILE DATA ELEMENTS */
RECORD_TYPE = UNDEFINED
/* POINTERS TO DATA OBJECTS */
^IMAGE = ("H4340_0010_S14.TIF")
/* IDENTIFICATION DATA ELEMENTS */
DATA_SET_ID = "MEX-M-HRSC-4-REFDR-MAPPROJECT-EXT1-V4.0"
DATA_SET_NAME = "MARS EXPRESS HRSC MAP PROJECTED REFDR EXTENSION1 V4.0"
DETECTOR_ID = MEX_HRSC_S1
EVENT_TYPE = "MARS-REGIONAL-MAPPING-Vo-Te"
INSTRUMENT_HOST_ID = MEX
INSTRUMENT_HOST_NAME = "MARS EXPRESS"
INSTRUMENT_ID = HRSC
INSTRUMENT_NAME = "HIGH RESOLUTION STEREO CAMERA"
MISSION_NAME = "MARS EXPRESS"
MISSION_PHASE_NAME = ME_Phase_7
PROCESSING_LEVEL_ID = 4
PRODUCT_CREATION_TIME = 2023-02-10T03:49:22.000Z
PRODUCT_ID = "H4340_0010_S14.TIF"
RELEASE_ID = 0006
REVISION_ID = 0000
/* QUALITY DATA ELEMENTS */
DATA_QUALITY_ID = 1
DATA_QUALITY_DESC = "Data calculated based on original SPICE kernels"
/* TIME DATA ELEMENTS */
SPACECRAFT_CLOCK_START_COUNT = "1/0127953197.07299"
SPACECRAFT_CLOCK_STOP_COUNT = "1/0127953341.38101"
START_TIME = 2007-05-22T22:34:33.373Z
STOP_TIME = 2007-05-22T22:35:43.737Z
/* ORBITAL DATA ELEMENTS */
ASCENDING_NODE_LONGITUDE = 137.43
MAXIMUM_RESOLUTION = 0.0343
FOOTPRINT_POINT_LATITUDE = (-24.1219,-24.1244,-24.1269,-24.1293, -24.1317,-24.1341,-24.1365,-24.1389, -24.1412,-24.1435,-24.1459,-24.1482, -24.1505,-24.1522,-24.1524,-24.1284, -24.0116,-23.8563,-23.7011,-23.5847, -23.4301,-23.2725,-23.1141,-22.9143, -22.758,-22.6397,-22.4809,-22.3195, -22.1585,-21.9974,-21.8766,-21.716, -21.6345,-21.5525,-21.4705,-21.3886, -21.3067,-21.2249,-21.1431,-21.0615, -20.9799,-20.8985,-20.8153,-20.7319, -20.6485,-20.5661,-20.4828,-20.3988, -20.3158,-20.2327,-20.1498,-20.1079, -20.0841,-20.0815,-20.0785,-20.0764, -20.0728,-20.0707,-20.0677,-20.065, -20.0621,-20.0577,-20.055,-20.0521, -20.0492,-20.0488,-20.0492,-20.2164, -20.2997,-20.383,-20.4665,-20.55, -20.6335,-20.717,-20.8005,-20.8835, -20.9651,-21.0467,-21.1283,-21.2101, -21.292,-21.4149,-21.4969,-21.5794, -21.7424,-21.903,-22.1448,-22.3059, -22.5076,-22.6656,-22.8239,-22.9821, -23.1805,-23.3784,-23.4947,-23.6498, -23.8445,-24.0391,-24.078,-24.1219)
FOOTPRINT_POINT_LONGITUDE = (258.263,258.143,258.023,257.903, 257.782,257.66,257.539,257.417,257.295, 257.172,257.05,256.926,256.803,256.71, 256.694,256.703,256.702,256.701,256.7, 256.7,256.698,256.697,256.696,256.696, 256.693,256.692,256.691,256.689,256.688 ,256.686,256.685,256.683,256.682, 256.681,256.68,256.679,256.678,256.677, 256.676,256.675,256.674,256.673,256.672 ,256.67,256.669,256.668,256.667,256.666 ,256.664,256.663,256.662,256.661, 256.661,256.777,256.91,257.025,257.19, 257.305,257.453,257.6,257.731,257.943, 258.073,258.203,258.332,258.348,258.354 ,258.35,258.348,258.346,258.345,258.343 ,258.341,258.339,258.337,258.335, 258.334,258.332,258.33,258.328,258.326, 258.323,258.321,258.32,258.316,258.312, 258.307,258.303,258.298,258.295,258.291 ,258.287,258.283,258.278,258.275, 258.272,258.267,258.262,258.261, 258.263)
ORBIT_NUMBER = 4340
ORBITAL_ECCENTRICITY = 0.571
ORBITAL_INCLINATION = 86.69
ORBITAL_SEMIMAJOR_AXIS = 8577.03
PERIAPSIS_ALTITUDE = 292.3
PERIAPSIS_ARGUMENT_ANGLE = 313.63
PERIAPSIS_TIME = 2007-05-22T22:28:17.000Z
SPACECRAFT_ORIENTATION = (0.0,1.0,0.0)
^MEX_ORIENTATION_DESC = "MEX_ORIENTATION_DESC.TXT"
SPACECRAFT_POINTING_MODE = ACROSSTRACK
^MEX_POINTING_DESC = "MEX_POINTING_DESC.TXT"
RIGHT_ASCENSION = -1e+32
DECLINATION = -1e+32
OFFSET_ANGLE = 0.48
SPACECRAFT_SOLAR_DISTANCE = 2.06838e+08
TARGET_NAME = MARS
/* CAMERA DATA ELEMENTS */
DETECTOR_TEMPERATURE = 19.39
FOCAL_PLANE_TEMPERATURE = 10.0106
INST_CMPRS_NAME = "DISCRETE COSINE TRANSFORMATION (DCT)"
INST_CMPRS_RATIO = 8.57857
INST_CMPRS_QUALITY = 0
INST_CMPRS_QUANTZ_TBL_ID = 0
INSTRUMENT_TEMPERATURE = 14.0886
LENS_TEMPERATURE = 10.4184
MACROPIXEL_SIZE = 2
MISSING_FRAMES = 0
PIXEL_SUBSAMPLING_FLAG = N
SIGNAL_CHAIN_ID = 1
/* RADIOMETRIC DATA ELEMENTS */
BANDWIDTH = 180.0
CENTER_FILTER_WAVELENGTH = 677.0
RADIANCE_OFFSET = 6.95201
RADIANCE_SCALING_FACTOR = 0.0240554
REFLECTANCE_SCALING_FACTOR = 0.000536926
MEX:REFLECTANCE_OFFSET = 0.155172
/* IMAGE OBJECT DEFINITIONS */
OBJECT = IMAGE
  INTERCHANGE_FORMAT = BINARY
  LINES = 9633
  LINE_SAMPLES = 3493
  SAMPLE_TYPE = UNSIGNED_INTEGER
  SAMPLE_BITS = 8
  BANDS = 1
  BAND_STORAGE_TYPE = BAND_SEQUENTIAL
  MAXIMUM = 254
  MEAN = 142.66
  MINIMUM = 1
  STANDARD_DEVIATION = 33.5635
END_OBJECT = IMAGE
/* MAP OBJECT DEFINITIONS */
OBJECT = IMAGE_MAP_PROJECTION
  ^DATA_SET_MAP_PROJECTION_CATALOG= "DSMAP.CAT"
  A_AXIS_RADIUS = 3396.0
  B_AXIS_RADIUS = 3396.0
  C_AXIS_RADIUS = 3396.0
  CENTER_LATITUDE = 0.0
  CENTER_LONGITUDE = 258.0
  COORDINATE_SYSTEM_NAME = PLANETOGRAPHIC
  COORDINATE_SYSTEM_TYPE = "BODY-FIXED ROTATING"
  EASTERNMOST_LONGITUDE = 258.354
  FIRST_STANDARD_PARALLEL = "N/A"
  LINE_FIRST_PIXEL = 1
  LINE_LAST_PIXEL = 9633
  LINE_PROJECTION_OFFSET = -47661.75
  MAP_PROJECTION_ROTATION = 0.0
  MAP_PROJECTION_TYPE = SINUSOIDAL
  MAP_RESOLUTION = 2370.85521546667
  MAP_SCALE = 0.025
  MAXIMUM_LATITUDE = -20.0488
  MINIMUM_LATITUDE = -24.1524
  POSITIVE_LONGITUDE_DIRECTION = EAST
  REFERENCE_LATITUDE = "N/A"
  REFERENCE_LONGITUDE = "N/A"
  SAMPLE_FIRST_PIXEL = 1
  SAMPLE_LAST_PIXEL = 3493
  SAMPLE_PROJECTION_OFFSET = 2845.25
  SECOND_STANDARD_PARALLEL = "N/A"
  WESTERNMOST_LONGITUDE = 256.661
END_OBJECT = IMAGE_MAP_PROJECTION
END
