PDS_VERSION_ID = PDS3
/* FILE DATA ELEMENTS */
RECORD_TYPE = UNDEFINED
/* POINTERS TO DATA OBJECTS */
^IMAGE = ("H4350_0000_P14.TIF")
/* IDENTIFICATION DATA ELEMENTS */
DATA_SET_ID = "MEX-M-HRSC-4-REFDR-MAPPROJECT-EXT1-V4.0"
DATA_SET_NAME = "MARS EXPRESS HRSC MAP PROJECTED REFDR EXTENSION1 V4.0"
DETECTOR_ID = MEX_HRSC_P1
EVENT_TYPE = "MARS-REGIONAL-MAPPING-Gl-Pf-La"
INSTRUMENT_HOST_ID = MEX
INSTRUMENT_HOST_NAME = "MARS EXPRESS"
INSTRUMENT_ID = HRSC
INSTRUMENT_NAME = "HIGH RESOLUTION STEREO CAMERA"
MISSION_NAME = "MARS EXPRESS"
MISSION_PHASE_NAME = ME_Phase_7
PROCESSING_LEVEL_ID = 4
PRODUCT_CREATION_TIME = 2023-02-10T03:49:22.000Z
PRODUCT_ID = "H4350_0000_P14.TIF"
RELEASE_ID = 0006
REVISION_ID = 0000
/* QUALITY DATA ELEMENTS */
DATA_QUALITY_ID = 1
DATA_QUALITY_DESC = "Data calculated based on original SPICE kernels"
/* TIME DATA ELEMENTS */
SPACECRAFT_CLOCK_START_COUNT = "1/0128194237.07285"
SPACECRAFT_CLOCK_STOP_COUNT = "1/0128194484.45479"
START_TIME = 2007-05-25T17:32:12.737Z
STOP_TIME = 2007-05-25T17:34:34.710Z
/* ORBITAL DATA ELEMENTS */
ASCENDING_NODE_LONGITUDE = 137.22
MAXIMUM_RESOLUTION = 0.0326
FOOTPRINT_POINT_LATITUDE = (-80.099,-80.0253,-79.9454,-79.8593, -79.7673,-79.6693,-79.5247,-79.5178, -79.5541,-79.3743,-79.1953,-79.0175, -78.8387,-78.6585,-78.4806,-78.2141, -78.0357,-77.8569,-77.6811,-77.5043, -77.3271,-77.1484,-76.9741,-76.7987, -76.6237,-76.4476,-76.2727,-76.0998, -75.9262,-75.6656,-75.4926,-75.3223, -75.1514,-74.9802,-74.8084,-74.553, -74.3847,-74.1325,-73.8784,-73.7102, -73.3815,-73.1302,-72.7973,-72.4718, -72.1453,-71.8185,-71.499,-71.0985, -71.0182,-71.0132,-71.0751,-71.1409, -71.1818,-71.2108,-71.2401,-71.2418, -71.243,-71.6529,-71.8985,-72.3964, -72.7314,-73.0665,-73.2372,-73.4077, -73.5787,-73.7497,-74.006,-74.2667, -74.4413,-74.6155,-74.7899,-74.964, -75.1418,-75.3207,-75.4981,-75.677, -75.853,-76.0323,-76.2139,-76.4858, -76.6665,-76.8494,-77.0337,-77.2185, -77.4024,-77.6813,-77.8697,-78.0569, -78.3372,-78.5272,-78.7168,-78.9076, -79.0975,-79.2894,-79.4823,-79.6751, -79.8665,-80.0623,-80.1605,-80.099)
FOOTPRINT_POINT_LONGITUDE = (343.029,341.597,340.18,338.779,337.395 ,336.03,334.18,334.096,333.658,334.161, 334.642,335.101,335.547,335.983,336.395 ,336.987,337.365,337.732,338.081, 338.422,338.752,339.079,339.383,339.683 ,339.969,340.252,340.524,340.786, 341.043,341.413,341.648,341.875,342.097 ,342.314,342.527,342.833,343.029, 343.311,343.589,343.768,344.094,344.349 ,344.666,344.961,345.244,345.517, 345.773,346.081,346.141,346.145,347.142 ,348.302,349.087,349.705,350.363, 350.404,350.419,350.243,350.133,349.901 ,349.736,349.565,349.475,349.383, 349.289,349.193,349.045,348.889,348.781 ,348.671,348.558,348.443,348.322, 348.198,348.071,347.941,347.808,347.669 ,347.525,347.301,347.148,346.987, 346.821,346.65,346.474,346.197,346.003, 345.802,345.49,345.269,345.04,344.803, 344.558,344.3,344.031,343.752,343.463, 343.156,342.998,343.029)
ORBIT_NUMBER = 4350
ORBITAL_ECCENTRICITY = 0.571
ORBITAL_INCLINATION = 86.69
ORBITAL_SEMIMAJOR_AXIS = 8571.35
PERIAPSIS_ALTITUDE = 292.81
PERIAPSIS_ARGUMENT_ANGLE = 311.88
PERIAPSIS_TIME = 2007-05-25T17:40:10.000Z
SPACECRAFT_ORIENTATION = (0.0,1.0,0.0)
^MEX_ORIENTATION_DESC = "MEX_ORIENTATION_DESC.TXT"
SPACECRAFT_POINTING_MODE = ACROSSTRACK
^MEX_POINTING_DESC = "MEX_POINTING_DESC.TXT"
RIGHT_ASCENSION = -1e+32
DECLINATION = -1e+32
OFFSET_ANGLE = 0.5
SPACECRAFT_SOLAR_DISTANCE = 2.0677e+08
TARGET_NAME = MARS
/* CAMERA DATA ELEMENTS */
DETECTOR_TEMPERATURE = 17.9627
FOCAL_PLANE_TEMPERATURE = 9.6028
INST_CMPRS_NAME = "DISCRETE COSINE TRANSFORMATION (DCT)"
INST_CMPRS_RATIO = 12.2304
INST_CMPRS_QUALITY = 0
INST_CMPRS_QUANTZ_TBL_ID = 0
INSTRUMENT_TEMPERATURE = 11.8457
LENS_TEMPERATURE = 10.0106
MACROPIXEL_SIZE = 2
MISSING_FRAMES = 0
PIXEL_SUBSAMPLING_FLAG = N
SIGNAL_CHAIN_ID = 3
/* RADIOMETRIC DATA ELEMENTS */
BANDWIDTH = 174.0
CENTER_FILTER_WAVELENGTH = 675.0
RADIANCE_OFFSET = 7.85546
RADIANCE_SCALING_FACTOR = 0.0497292
REFLECTANCE_SCALING_FACTOR = 0.00114359
MEX:REFLECTANCE_OFFSET = 0.180648
/* IMAGE OBJECT DEFINITIONS */
OBJECT = IMAGE
  INTERCHANGE_FORMAT = BINARY
  LINES = 21840
  LINE_SAMPLES = 9161
  SAMPLE_TYPE = UNSIGNED_INTEGER
  SAMPLE_BITS = 8
  BANDS = 1
  BAND_STORAGE_TYPE = BAND_SEQUENTIAL
  MAXIMUM = 255
  MEAN = 170.329
  MINIMUM = 1
  STANDARD_DEVIATION = 25.7515
END_OBJECT = IMAGE
/* MAP OBJECT DEFINITIONS */
OBJECT = IMAGE_MAP_PROJECTION
  ^DATA_SET_MAP_PROJECTION_CATALOG= "DSMAP.CAT"
  A_AXIS_RADIUS = 3396.0
  B_AXIS_RADIUS = 3396.0
  C_AXIS_RADIUS = 3396.0
  CENTER_LATITUDE = 0.0
  CENTER_LONGITUDE = 345.0
  COORDINATE_SYSTEM_NAME = PLANETOGRAPHIC
  COORDINATE_SYSTEM_TYPE = "BODY-FIXED ROTATING"
  EASTERNMOST_LONGITUDE = 350.419
  FIRST_STANDARD_PARALLEL = "N/A"
  LINE_FIRST_PIXEL = 1
  LINE_LAST_PIXEL = 21840
  LINE_PROJECTION_OFFSET = -168342.75
  MAP_PROJECTION_ROTATION = 0.0
  MAP_PROJECTION_TYPE = SINUSOIDAL
  MAP_RESOLUTION = 2370.85521546667
  MAP_SCALE = 0.025
  MAXIMUM_LATITUDE = -71.0132
  MINIMUM_LATITUDE = -80.1605
  POSITIVE_LONGITUDE_DIRECTION = EAST
  REFERENCE_LATITUDE = "N/A"
  REFERENCE_LONGITUDE = "N/A"
  SAMPLE_FIRST_PIXEL = 1
  SAMPLE_LAST_PIXEL = 9161
  SAMPLE_PROJECTION_OFFSET = 4987.75
  SECOND_STANDARD_PARALLEL = "N/A"
  WESTERNMOST_LONGITUDE = 333.658
END_OBJECT = IMAGE_MAP_PROJECTION
END
