PDS_VERSION_ID = PDS3
/* FILE DATA ELEMENTS */
RECORD_TYPE = UNDEFINED
/* POINTERS TO DATA OBJECTS */
^IMAGE = ("H4359_0000_S24.TIF")
/* IDENTIFICATION DATA ELEMENTS */
DATA_SET_ID = "MEX-M-HRSC-4-REFDR-MAPPROJECT-EXT1-V4.0"
DATA_SET_NAME = "MARS EXPRESS HRSC MAP PROJECTED REFDR EXTENSION1 V4.0"
DETECTOR_ID = MEX_HRSC_S2
EVENT_TYPE = "MARS-REGIONAL-MAPPING-Te-Im"
INSTRUMENT_HOST_ID = MEX
INSTRUMENT_HOST_NAME = "MARS EXPRESS"
INSTRUMENT_ID = HRSC
INSTRUMENT_NAME = "HIGH RESOLUTION STEREO CAMERA"
MISSION_NAME = "MARS EXPRESS"
MISSION_PHASE_NAME = ME_Phase_7
PROCESSING_LEVEL_ID = 4
PRODUCT_CREATION_TIME = 2023-02-10T03:49:22.000Z
PRODUCT_ID = "H4359_0000_S24.TIF"
RELEASE_ID = 0006
REVISION_ID = 0000
/* QUALITY DATA ELEMENTS */
DATA_QUALITY_ID = 1
DATA_QUALITY_DESC = "Data calculated based on original SPICE kernels"
/* TIME DATA ELEMENTS */
SPACECRAFT_CLOCK_START_COUNT = "1/0128412418.09067"
SPACECRAFT_CLOCK_STOP_COUNT = "1/0128412679.42815"
START_TIME = 2007-05-28T06:07:02.235Z
STOP_TIME = 2007-05-28T06:10:28.392Z
/* ORBITAL DATA ELEMENTS */
ASCENDING_NODE_LONGITUDE = 137.03
MAXIMUM_RESOLUTION = 0.0246
FOOTPRINT_POINT_LATITUDE = (-55.3857,-55.3607,-55.3319,-55.3312, -55.2586,-54.9784,-54.7066,-54.4379, -54.1584,-53.881,-53.6124,-53.3394, -53.0634,-52.79,-52.5213,-52.2543, -51.9768,-51.5618,-51.2845,-51.0063, -50.7314,-50.465,-50.0653,-49.6655, -49.399,-49.1319,-48.7313,-48.4641, -48.1968,-47.7955,-47.3929,-47.1246, -46.8564,-46.5884,-46.3234,-46.058, -45.7916,-45.5162,-45.1088,-44.8388, -44.4334,-44.0277,-43.7573,-43.4871, -43.0815,-42.8023,-42.5201,-42.2363, -41.8155,-41.6742,-41.6616,-41.6755, -41.6839,-41.684,-41.6844,-41.9673, -42.2481,-42.5292,-42.8115,-43.0921, -43.3635,-43.6319,-43.903,-44.1769, -44.5826,-44.8531,-45.1234,-45.3949, -45.6666,-45.9367,-46.3421,-47.0074, -47.2758,-47.6784,-47.9467,-48.2149, -48.6172,-48.8855,-49.1542,-49.4224, -49.6889,-49.9578,-50.2248,-50.4921, -50.7595,-51.1762,-51.454,-51.8694, -52.2861,-52.5604,-52.838,-53.1104, -53.3836,-53.6601,-54.0682,-54.4776, -54.7505,-55.1638,-55.3033,-55.3857)
FOOTPRINT_POINT_LONGITUDE = (190.537,189.568,188.748,188.73,188.709 ,188.749,188.787,188.825,188.859, 188.893,188.929,188.963,188.995,189.028 ,189.061,189.093,189.123,189.167, 189.195,189.223,189.25,189.276,189.314, 189.351,189.375,189.398,189.432,189.454 ,189.476,189.508,189.538,189.558, 189.578,189.597,189.616,189.635,189.653 ,189.669,189.694,189.71,189.733,189.756 ,189.771,189.785,189.806,189.82,189.834 ,189.847,189.866,189.872,189.873, 190.559,191.251,191.264,191.269,191.26, 191.251,191.242,191.232,191.223,191.213 ,191.205,191.195,191.183,191.168, 191.158,191.147,191.136,191.124,191.113 ,191.096,191.072,191.061,191.043, 191.031,191.019,191.0,190.986,190.973, 190.959,190.946,190.931,190.917,190.902 ,190.887,190.862,190.845,190.82,190.792 ,190.776,190.757,190.741,190.724, 190.704,190.678,190.65,190.631,190.602, 190.592,190.537)
ORBIT_NUMBER = 4359
ORBITAL_ECCENTRICITY = 0.571
ORBITAL_INCLINATION = 86.69
ORBITAL_SEMIMAJOR_AXIS = 8567.6
PERIAPSIS_ALTITUDE = 292.64
PERIAPSIS_ARGUMENT_ANGLE = 310.33
PERIAPSIS_TIME = 2007-05-28T06:08:56.000Z
SPACECRAFT_ORIENTATION = (0.0,1.0,0.0)
^MEX_ORIENTATION_DESC = "MEX_ORIENTATION_DESC.TXT"
SPACECRAFT_POINTING_MODE = ACROSSTRACK
^MEX_POINTING_DESC = "MEX_POINTING_DESC.TXT"
RIGHT_ASCENSION = -1e+32
DECLINATION = -1e+32
OFFSET_ANGLE = -0.16
SPACECRAFT_SOLAR_DISTANCE = 2.06724e+08
TARGET_NAME = MARS
/* CAMERA DATA ELEMENTS */
DETECTOR_TEMPERATURE = 18.9822
FOCAL_PLANE_TEMPERATURE = 10.2145
INST_CMPRS_NAME = "DISCRETE COSINE TRANSFORMATION (DCT)"
INST_CMPRS_RATIO = 9.45514
INST_CMPRS_QUALITY = 0
INST_CMPRS_QUANTZ_TBL_ID = 0
INSTRUMENT_TEMPERATURE = 11.8457
LENS_TEMPERATURE = 10.6223
MACROPIXEL_SIZE = 2
MISSING_FRAMES = 0
PIXEL_SUBSAMPLING_FLAG = N
SIGNAL_CHAIN_ID = 1
/* RADIOMETRIC DATA ELEMENTS */
BANDWIDTH = 178.0
CENTER_FILTER_WAVELENGTH = 679.0
RADIANCE_OFFSET = 6.45071
RADIANCE_SCALING_FACTOR = 0.0181294
REFLECTANCE_SCALING_FACTOR = 0.000410294
MEX:REFLECTANCE_OFFSET = 0.145988
/* IMAGE OBJECT DEFINITIONS */
OBJECT = IMAGE
  INTERCHANGE_FORMAT = BINARY
  LINES = 32330
  LINE_SAMPLES = 3972
  SAMPLE_TYPE = UNSIGNED_INTEGER
  SAMPLE_BITS = 8
  BANDS = 1
  BAND_STORAGE_TYPE = BAND_SEQUENTIAL
  MAXIMUM = 255
  MEAN = 132.921
  MINIMUM = 1
  STANDARD_DEVIATION = 39.0442
END_OBJECT = IMAGE
/* MAP OBJECT DEFINITIONS */
OBJECT = IMAGE_MAP_PROJECTION
  ^DATA_SET_MAP_PROJECTION_CATALOG= "DSMAP.CAT"
  A_AXIS_RADIUS = 3396.0
  B_AXIS_RADIUS = 3396.0
  C_AXIS_RADIUS = 3396.0
  CENTER_LATITUDE = 0.0
  CENTER_LONGITUDE = 190.0
  COORDINATE_SYSTEM_NAME = PLANETOGRAPHIC
  COORDINATE_SYSTEM_TYPE = "BODY-FIXED ROTATING"
  EASTERNMOST_LONGITUDE = 191.269
  FIRST_STANDARD_PARALLEL = "N/A"
  LINE_FIRST_PIXEL = 1
  LINE_LAST_PIXEL = 32330
  LINE_PROJECTION_OFFSET = -98770.75
  MAP_PROJECTION_ROTATION = 0.0
  MAP_PROJECTION_TYPE = SINUSOIDAL
  MAP_RESOLUTION = 2370.85521546667
  MAP_SCALE = 0.025
  MAXIMUM_LATITUDE = -41.6616
  MINIMUM_LATITUDE = -55.3857
  POSITIVE_LONGITUDE_DIRECTION = EAST
  REFERENCE_LATITUDE = "N/A"
  REFERENCE_LONGITUDE = "N/A"
  SAMPLE_FIRST_PIXEL = 1
  SAMPLE_LAST_PIXEL = 3972
  SAMPLE_PROJECTION_OFFSET = 1714.25
  SECOND_STANDARD_PARALLEL = "N/A"
  WESTERNMOST_LONGITUDE = 188.709
END_OBJECT = IMAGE_MAP_PROJECTION
END
