PDS_VERSION_ID = PDS3
/* FILE DATA ELEMENTS */
RECORD_TYPE = UNDEFINED
/* POINTERS TO DATA OBJECTS */
^IMAGE = ("H4360_0000_BL4.TIF")
/* IDENTIFICATION DATA ELEMENTS */
DATA_SET_ID = "MEX-M-HRSC-4-REFDR-MAPPROJECT-EXT1-V4.0"
DATA_SET_NAME = "MARS EXPRESS HRSC MAP PROJECTED REFDR EXTENSION1 V4.0"
DETECTOR_ID = MEX_HRSC_BLUE
EVENT_TYPE = "MARS-REGIONAL-MAPPING-Vo-Fl-Pf"
INSTRUMENT_HOST_ID = MEX
INSTRUMENT_HOST_NAME = "MARS EXPRESS"
INSTRUMENT_ID = HRSC
INSTRUMENT_NAME = "HIGH RESOLUTION STEREO CAMERA"
MISSION_NAME = "MARS EXPRESS"
MISSION_PHASE_NAME = ME_Phase_7
PROCESSING_LEVEL_ID = 4
PRODUCT_CREATION_TIME = 2023-02-10T03:49:22.000Z
PRODUCT_ID = "H4360_0000_BL4.TIF"
RELEASE_ID = 0006
REVISION_ID = 0000
/* QUALITY DATA ELEMENTS */
DATA_QUALITY_ID = 1
DATA_QUALITY_DESC = "Data calculated based on original SPICE kernels"
/* TIME DATA ELEMENTS */
SPACECRAFT_CLOCK_START_COUNT = "1/0128436842.09055"
SPACECRAFT_CLOCK_STOP_COUNT = "1/0128437093.07529"
START_TIME = 2007-05-28T12:54:28.429Z
STOP_TIME = 2007-05-28T12:57:32.146Z
/* ORBITAL DATA ELEMENTS */
ASCENDING_NODE_LONGITUDE = 137.01
MAXIMUM_RESOLUTION = 0.0991
FOOTPRINT_POINT_LATITUDE = (-40.1618,-40.1536,-40.142,-40.1327, -40.1324,-40.1152,-39.6613,-39.2082, -38.868,-38.5278,-37.9614,-37.5089, -37.2756,-37.0415,-36.8076,-36.5738, -36.3401,-36.1057,-35.8726,-35.6397, -35.2841,-35.0426,-34.6829,-34.4426, -34.2021,-33.9618,-33.7216,-33.4763, -33.2286,-32.9811,-32.7336,-32.4864, -32.2397,-31.9928,-31.7464,-31.377, -31.1308,-30.885,-30.6393,-30.3938, -30.1488,-29.7813,-29.5365,-29.2922, -29.048,-28.8041,-28.5615,-28.316, -28.1943,-28.1571,-28.1644,-28.168, -28.1695,-28.1696,-28.1713,-28.5369, -28.781,-29.0255,-29.27,-29.6372, -29.8822,-30.1277,-30.3735,-30.6194, -30.8657,-31.1118,-31.3582,-31.6048, -31.8515,-32.0983,-32.3455,-32.7166, -32.9641,-33.2101,-33.4577,-33.7045, -33.9463,-34.1884,-34.4292,-34.7902, -35.0309,-35.2734,-35.5127,-35.7466, -35.9803,-36.2141,-36.5652,-36.7993, -37.0336,-37.3852,-37.6161,-38.0695, -38.5232,-38.8633,-39.3186,-39.5459, -39.7734,-40.0009,-40.1147,-40.1618)
FOOTPRINT_POINT_LONGITUDE = (92.804,92.3497,91.8327,91.4793,91.4667 ,91.4313,91.4489,91.4675,91.4797, 91.4912,91.5094,91.5233,91.5302,91.5369 ,91.5433,91.5498,91.5557,91.5602, 91.5665,91.5728,91.5782,91.5824,91.5927 ,91.5979,91.6023,91.6066,91.6106, 91.6146,91.6186,91.6225,91.6258,91.6292 ,91.6327,91.6356,91.6387,91.6427, 91.6448,91.647,91.649,91.6507,91.6526, 91.6546,91.6555,91.6569,91.6576,91.6585 ,91.6609,91.6579,91.6579,91.6579, 92.2813,92.7398,93.1151,93.129,93.1382, 93.1312,93.1264,93.1213,93.1165,93.1091 ,93.1044,93.0991,93.0936,93.0881, 93.0823,93.0773,93.072,93.0667,93.0615, 93.0563,93.0508,93.0425,93.0372,93.0352 ,93.0304,93.0244,93.0159,93.007,93.001, 92.9928,92.9876,92.9789,92.9724,92.9655 ,92.9592,92.9528,92.9429,92.9365, 92.9298,92.9199,92.9131,92.8995,92.8856 ,92.8762,92.8597,92.8524,92.8448, 92.8374,92.8336,92.804)
ORBIT_NUMBER = 4360
ORBITAL_ECCENTRICITY = 0.571
ORBITAL_INCLINATION = 86.7
ORBITAL_SEMIMAJOR_AXIS = 8571.55
PERIAPSIS_ALTITUDE = 291.7
PERIAPSIS_ARGUMENT_ANGLE = 310.14
PERIAPSIS_TIME = 2007-05-28T12:52:08.000Z
SPACECRAFT_ORIENTATION = (0.0,1.0,0.0)
^MEX_ORIENTATION_DESC = "MEX_ORIENTATION_DESC.TXT"
SPACECRAFT_POINTING_MODE = NADIR
^MEX_POINTING_DESC = "MEX_POINTING_DESC.TXT"
RIGHT_ASCENSION = -1e+32
DECLINATION = -1e+32
OFFSET_ANGLE = -1e+32
SPACECRAFT_SOLAR_DISTANCE = 2.06719e+08
TARGET_NAME = MARS
/* CAMERA DATA ELEMENTS */
DETECTOR_TEMPERATURE = 18.5744
FOCAL_PLANE_TEMPERATURE = 9.3989
INST_CMPRS_NAME = "DISCRETE COSINE TRANSFORMATION (DCT)"
INST_CMPRS_RATIO = 25.9364
INST_CMPRS_QUALITY = 0
INST_CMPRS_QUANTZ_TBL_ID = 0
INSTRUMENT_TEMPERATURE = 11.4379
LENS_TEMPERATURE = 9.8067
MACROPIXEL_SIZE = 8
MISSING_FRAMES = 0
PIXEL_SUBSAMPLING_FLAG = N
SIGNAL_CHAIN_ID = 2
/* RADIOMETRIC DATA ELEMENTS */
BANDWIDTH = 76.0
CENTER_FILTER_WAVELENGTH = 444.0
RADIANCE_OFFSET = 1.22017
RADIANCE_SCALING_FACTOR = 0.000934569
REFLECTANCE_SCALING_FACTOR = 4.10325e-05
MEX:REFLECTANCE_OFFSET = 0.0535721
/* IMAGE OBJECT DEFINITIONS */
OBJECT = IMAGE
  INTERCHANGE_FORMAT = BINARY
  LINES = 7109
  LINE_SAMPLES = 866
  SAMPLE_TYPE = UNSIGNED_INTEGER
  SAMPLE_BITS = 8
  BANDS = 1
  BAND_STORAGE_TYPE = BAND_SEQUENTIAL
  MAXIMUM = 255
  MEAN = 168.165
  MINIMUM = 10
  STANDARD_DEVIATION = 32.9807
END_OBJECT = IMAGE
/* MAP OBJECT DEFINITIONS */
OBJECT = IMAGE_MAP_PROJECTION
  ^DATA_SET_MAP_PROJECTION_CATALOG= "DSMAP.CAT"
  A_AXIS_RADIUS = 3396.0
  B_AXIS_RADIUS = 3396.0
  C_AXIS_RADIUS = 3396.0
  CENTER_LATITUDE = 0.0
  CENTER_LONGITUDE = 92.0
  COORDINATE_SYSTEM_NAME = PLANETOGRAPHIC
  COORDINATE_SYSTEM_TYPE = "BODY-FIXED ROTATING"
  EASTERNMOST_LONGITUDE = 93.1382
  FIRST_STANDARD_PARALLEL = "N/A"
  LINE_FIRST_PIXEL = 1
  LINE_LAST_PIXEL = 7109
  LINE_PROJECTION_OFFSET = -16691.1875
  MAP_PROJECTION_ROTATION = 0.0
  MAP_PROJECTION_TYPE = SINUSOIDAL
  MAP_RESOLUTION = 592.713803866667
  MAP_SCALE = 0.1
  MAXIMUM_LATITUDE = -28.1571
  MINIMUM_LATITUDE = -40.1618
  POSITIVE_LONGITUDE_DIRECTION = EAST
  REFERENCE_LATITUDE = "N/A"
  REFERENCE_LONGITUDE = "N/A"
  SAMPLE_FIRST_PIXEL = 1
  SAMPLE_LAST_PIXEL = 866
  SAMPLE_PROJECTION_OFFSET = 266.4375
  SECOND_STANDARD_PARALLEL = "N/A"
  WESTERNMOST_LONGITUDE = 91.43129999999999
END_OBJECT = IMAGE_MAP_PROJECTION
END
