PDS_VERSION_ID = PDS3
/* FILE DATA ELEMENTS */
RECORD_TYPE = UNDEFINED
/* POINTERS TO DATA OBJECTS */
^IMAGE = ("H4364_0000_GR4.TIF")
/* IDENTIFICATION DATA ELEMENTS */
DATA_SET_ID = "MEX-M-HRSC-4-REFDR-MAPPROJECT-EXT1-V4.0"
DATA_SET_NAME = "MARS EXPRESS HRSC MAP PROJECTED REFDR EXTENSION1 V4.0"
DETECTOR_ID = MEX_HRSC_GREEN
EVENT_TYPE = "MARS-REGIONAL-MAPPING-Vo-Gl"
INSTRUMENT_HOST_ID = MEX
INSTRUMENT_HOST_NAME = "MARS EXPRESS"
INSTRUMENT_ID = HRSC
INSTRUMENT_NAME = "HIGH RESOLUTION STEREO CAMERA"
MISSION_NAME = "MARS EXPRESS"
MISSION_PHASE_NAME = ME_Phase_7
PROCESSING_LEVEL_ID = 4
PRODUCT_CREATION_TIME = 2023-02-10T03:49:22.000Z
PRODUCT_ID = "H4364_0000_GR4.TIF"
RELEASE_ID = 0006
REVISION_ID = 0000
/* QUALITY DATA ELEMENTS */
DATA_QUALITY_ID = 1
DATA_QUALITY_DESC = "Data calculated based on original SPICE kernels"
/* TIME DATA ELEMENTS */
SPACECRAFT_CLOCK_START_COUNT = "1/0128533136.08241"
SPACECRAFT_CLOCK_STOP_COUNT = "1/0128533344.31030"
START_TIME = 2007-05-29T15:39:44.565Z
STOP_TIME = 2007-05-29T15:42:03.500Z
/* ORBITAL DATA ELEMENTS */
ASCENDING_NODE_LONGITUDE = 136.93
MAXIMUM_RESOLUTION = 0.1025
FOOTPRINT_POINT_LATITUDE = (-70.9843,-70.943,-70.9067,-70.8757, -70.8429,-70.781,-70.7786,-70.7823, -70.5814,-70.3802,-70.1786,-69.9768, -69.7747,-69.4708,-69.2679,-69.0649, -68.8648,-68.6944,-68.4384,-68.2675, -68.0964,-67.9252,-67.7537,-67.5821, -67.4104,-67.2384,-67.0664,-66.8942, -66.7218,-66.463,-66.2903,-66.1174, -65.9444,-65.7712,-65.5979,-65.4246, -65.2509,-65.0773,-64.9035,-64.7295, -64.4711,-64.0494,-63.7959,-63.4576, -63.2036,-63.0341,-62.6966,-62.3682, -62.0394,-61.9572,-61.9024,-61.9361, -61.9628,-61.9825,-62.0102,-62.011, -62.0132,-62.4275,-62.8413,-63.0969, -63.2677,-63.4385,-63.6093,-63.78, -63.9507,-64.1211,-64.2916,-64.6321, -64.8939,-65.0695,-65.2451,-65.4207, -65.5961,-65.7714,-65.9466,-66.2092, -66.384,-66.6462,-66.8209,-66.9953, -67.2569,-67.4311,-67.6052,-67.7792, -67.953,-68.2136,-68.4739,-68.6472, -68.8205,-68.9935,-69.1858,-69.3919, -69.5977,-69.9059,-70.1123,-70.3176, -70.6255,-70.8304,-70.9327,-70.9843)
FOOTPRINT_POINT_LONGITUDE = (55.441,54.5452,53.8287,53.2567,52.6852 ,51.6849,51.6492,51.5161,51.6468,51.775 ,51.9006,52.0231,52.1443,52.3234, 52.4396,52.5507,52.6565,52.7453,52.8756 ,52.9611,53.0457,53.1283,53.2102, 53.2904,53.3691,53.4471,53.5227,53.5975 ,53.6722,53.7802,53.8506,53.9205,53.989 ,54.0565,54.1236,54.188,54.2531,54.3153 ,54.3774,54.4391,54.5289,54.6694, 54.7517,54.8588,54.9374,54.9887,55.0897 ,55.1848,55.2772,55.2996,55.3144, 55.9531,56.5049,56.9457,57.6264,57.6484 ,57.6627,57.5969,57.5286,57.485,57.4551 ,57.4249,57.3944,57.3637,57.3325, 57.3007,57.2686,57.2027,57.1506,57.115, 57.0791,57.0429,57.0058,56.9681,56.93, 56.8717,56.8318,56.7712,56.7299,56.6878 ,56.6237,56.58,56.5357,56.4907,56.4448, 56.3747,56.3028,56.2538,56.2041,56.1534 ,56.0955,56.0324,55.9676,55.8673, 55.8023,55.7332,55.6278,55.5552,55.5183 ,55.441)
ORBIT_NUMBER = 4364
ORBITAL_ECCENTRICITY = 0.571
ORBITAL_INCLINATION = 86.7
ORBITAL_SEMIMAJOR_AXIS = 8569.59
PERIAPSIS_ALTITUDE = 292.16
PERIAPSIS_ARGUMENT_ANGLE = 309.46
PERIAPSIS_TIME = 2007-05-29T15:44:54.000Z
SPACECRAFT_ORIENTATION = (0.0,1.0,0.0)
^MEX_ORIENTATION_DESC = "MEX_ORIENTATION_DESC.TXT"
SPACECRAFT_POINTING_MODE = ACROSSTRACK
^MEX_POINTING_DESC = "MEX_POINTING_DESC.TXT"
RIGHT_ASCENSION = -1e+32
DECLINATION = -1e+32
OFFSET_ANGLE = 0.2
SPACECRAFT_SOLAR_DISTANCE = 2.06704e+08
TARGET_NAME = MARS
/* CAMERA DATA ELEMENTS */
DETECTOR_TEMPERATURE = 18.5744
FOCAL_PLANE_TEMPERATURE = 9.6028
INST_CMPRS_NAME = "DISCRETE COSINE TRANSFORMATION (DCT)"
INST_CMPRS_RATIO = 15.8213
INST_CMPRS_QUALITY = 0
INST_CMPRS_QUANTZ_TBL_ID = 0
INSTRUMENT_TEMPERATURE = 11.4379
LENS_TEMPERATURE = 8.3794
MACROPIXEL_SIZE = 8
MISSING_FRAMES = 0
PIXEL_SUBSAMPLING_FLAG = N
SIGNAL_CHAIN_ID = 2
/* RADIOMETRIC DATA ELEMENTS */
BANDWIDTH = 88.0
CENTER_FILTER_WAVELENGTH = 538.0
RADIANCE_OFFSET = 2.1322
RADIANCE_SCALING_FACTOR = 0.00928522
REFLECTANCE_SCALING_FACTOR = 0.000341568
MEX:REFLECTANCE_OFFSET = 0.0784354
/* IMAGE OBJECT DEFINITIONS */
OBJECT = IMAGE
  INTERCHANGE_FORMAT = BINARY
  LINES = 5394
  LINE_SAMPLES = 1436
  SAMPLE_TYPE = UNSIGNED_INTEGER
  SAMPLE_BITS = 8
  BANDS = 1
  BAND_STORAGE_TYPE = BAND_SEQUENTIAL
  MAXIMUM = 255
  MEAN = 59.7743
  MINIMUM = 1
  STANDARD_DEVIATION = 28.8385
END_OBJECT = IMAGE
/* MAP OBJECT DEFINITIONS */
OBJECT = IMAGE_MAP_PROJECTION
  ^DATA_SET_MAP_PROJECTION_CATALOG= "DSMAP.CAT"
  A_AXIS_RADIUS = 3396.0
  B_AXIS_RADIUS = 3396.0
  C_AXIS_RADIUS = 3396.0
  CENTER_LATITUDE = 0.0
  CENTER_LONGITUDE = 55.0
  COORDINATE_SYSTEM_NAME = PLANETOGRAPHIC
  COORDINATE_SYSTEM_TYPE = "BODY-FIXED ROTATING"
  EASTERNMOST_LONGITUDE = 57.6627
  FIRST_STANDARD_PARALLEL = "N/A"
  LINE_FIRST_PIXEL = 1
  LINE_LAST_PIXEL = 5394
  LINE_PROJECTION_OFFSET = -36695.8125
  MAP_PROJECTION_ROTATION = 0.0
  MAP_PROJECTION_TYPE = SINUSOIDAL
  MAP_RESOLUTION = 592.713803866667
  MAP_SCALE = 0.1
  MAXIMUM_LATITUDE = -61.9024
  MINIMUM_LATITUDE = -70.9843
  POSITIVE_LONGITUDE_DIRECTION = EAST
  REFERENCE_LATITUDE = "N/A"
  REFERENCE_LONGITUDE = "N/A"
  SAMPLE_FIRST_PIXEL = 1
  SAMPLE_LAST_PIXEL = 1436
  SAMPLE_PROJECTION_OFFSET = 692.8125
  SECOND_STANDARD_PARALLEL = "N/A"
  WESTERNMOST_LONGITUDE = 51.5161
END_OBJECT = IMAGE_MAP_PROJECTION
END
