PDS_VERSION_ID = PDS3
/* FILE DATA ELEMENTS */
RECORD_TYPE = UNDEFINED
/* POINTERS TO DATA OBJECTS */
^IMAGE = ("H4364_0001_GR4.TIF")
/* IDENTIFICATION DATA ELEMENTS */
DATA_SET_ID = "MEX-M-HRSC-4-REFDR-MAPPROJECT-EXT1-V4.0"
DATA_SET_NAME = "MARS EXPRESS HRSC MAP PROJECTED REFDR EXTENSION1 V4.0"
DETECTOR_ID = MEX_HRSC_GREEN
EVENT_TYPE = "MARS-REGIONAL-MAPPING-Im-Fl-Lc"
INSTRUMENT_HOST_ID = MEX
INSTRUMENT_HOST_NAME = "MARS EXPRESS"
INSTRUMENT_ID = HRSC
INSTRUMENT_NAME = "HIGH RESOLUTION STEREO CAMERA"
MISSION_NAME = "MARS EXPRESS"
MISSION_PHASE_NAME = ME_Phase_7
PROCESSING_LEVEL_ID = 4
PRODUCT_CREATION_TIME = 2023-02-10T03:49:22.000Z
PRODUCT_ID = "H4364_0001_GR4.TIF"
RELEASE_ID = 0006
REVISION_ID = 0000
/* QUALITY DATA ELEMENTS */
DATA_QUALITY_ID = 1
DATA_QUALITY_DESC = "Data calculated based on original SPICE kernels"
/* TIME DATA ELEMENTS */
SPACECRAFT_CLOCK_START_COUNT = "1/0128533843.08419"
SPACECRAFT_CLOCK_STOP_COUNT = "1/0128534094.46108"
START_TIME = 2007-05-29T15:51:30.804Z
STOP_TIME = 2007-05-29T15:54:06.347Z
/* ORBITAL DATA ELEMENTS */
ASCENDING_NODE_LONGITUDE = 136.93
MAXIMUM_RESOLUTION = 0.0676
FOOTPRINT_POINT_LATITUDE = (-25.0769,-25.0767,-25.076,-25.075, -25.0736,-25.0703,-25.0702,-25.073, -24.6562,-24.3189,-23.8927,-23.5519, -23.2046,-22.8581,-22.5942,-22.4174, -22.2405,-21.9754,-21.7958,-21.6158, -21.436,-21.2564,-20.9826,-20.7077, -20.5244,-20.2454,-20.0591,-19.8731, -19.5911,-19.4016,-19.2127,-19.0239, -18.8308,-18.5419,-18.3495,-18.0562, -17.8608,-17.5665,-17.2694,-17.0713, -16.8703,-16.6687,-16.4674,-16.2638, -16.059,-15.9568,-15.8571,-15.8565, -15.8556,-15.8538,-15.8518,-15.8486, -15.8456,-15.8432,-15.843,-15.8442, -16.049,-16.254,-16.4582,-16.6607, -16.863,-17.0645,-17.2632,-17.4613, -17.7588,-17.9547,-18.1508,-18.3468, -18.6358,-18.8285,-19.0207,-19.2103, -19.4006,-19.5912,-19.7802,-19.9666, -20.1533,-20.3405,-20.6177,-20.8007, -20.9841,-21.2588,-21.4379,-21.6184, -21.8002,-21.981,-22.1577,-22.3345, -22.5115,-22.7769,-23.1238,-23.2977, -23.4717,-23.6454,-23.986,-24.3271, -24.5816,-24.9155,-24.9991,-25.0769)
FOOTPRINT_POINT_LONGITUDE = (59.8804,59.5074,59.2081,58.9683, 58.7281,58.2907,58.2756,58.2608,58.2575 ,58.2549,58.2528,58.2481,58.2442, 58.2401,58.2365,58.2342,58.2325,58.23, 58.2256,58.2227,58.2197,58.2169,58.2118 ,58.2074,58.2055,58.2019,58.1984, 58.1947,58.1899,58.1859,58.1811,58.1764 ,58.1739,58.1681,58.1642,58.1573, 58.1526,58.1447,58.1348,58.1293,58.1239 ,58.1184,58.1129,58.1074,58.102,58.0992 ,58.0966,58.3332,58.5531,58.8639,59.174 ,59.5568,59.8105,60.0282,60.0464, 60.0524,60.0489,60.0451,60.042,60.0399, 60.0367,60.0334,60.0299,60.025,60.0208, 60.0177,60.0143,60.0112,60.0061,60.0025 ,59.998,59.995,59.9926,59.9902,59.9869, 59.9836,59.9804,59.9777,59.9728,59.969, 59.9653,59.9605,59.9559,59.9529,59.9518 ,59.9487,59.9454,59.9419,59.9383, 59.9322,59.9249,59.9216,59.9183,59.9151 ,59.9085,59.9016,59.8967,59.8899, 59.8882,59.8804)
ORBIT_NUMBER = 4364
ORBITAL_ECCENTRICITY = 0.571
ORBITAL_INCLINATION = 86.7
ORBITAL_SEMIMAJOR_AXIS = 8569.59
PERIAPSIS_ALTITUDE = 292.16
PERIAPSIS_ARGUMENT_ANGLE = 309.46
PERIAPSIS_TIME = 2007-05-29T15:44:54.000Z
SPACECRAFT_ORIENTATION = (0.0,1.0,0.0)
^MEX_ORIENTATION_DESC = "MEX_ORIENTATION_DESC.TXT"
SPACECRAFT_POINTING_MODE = ACROSSTRACK
^MEX_POINTING_DESC = "MEX_POINTING_DESC.TXT"
RIGHT_ASCENSION = -1e+32
DECLINATION = -1e+32
OFFSET_ANGLE = 0.2
SPACECRAFT_SOLAR_DISTANCE = 2.06704e+08
TARGET_NAME = MARS
/* CAMERA DATA ELEMENTS */
DETECTOR_TEMPERATURE = 20.0017
FOCAL_PLANE_TEMPERATURE = 10.0106
INST_CMPRS_NAME = "DISCRETE COSINE TRANSFORMATION (DCT)"
INST_CMPRS_RATIO = 12.0672
INST_CMPRS_QUALITY = 0
INST_CMPRS_QUANTZ_TBL_ID = 0
INSTRUMENT_TEMPERATURE = 13.8847
LENS_TEMPERATURE = 10.2145
MACROPIXEL_SIZE = 4
MISSING_FRAMES = 0
PIXEL_SUBSAMPLING_FLAG = N
SIGNAL_CHAIN_ID = 2
/* RADIOMETRIC DATA ELEMENTS */
BANDWIDTH = 88.0
CENTER_FILTER_WAVELENGTH = 538.0
RADIANCE_OFFSET = 2.39762
RADIANCE_SCALING_FACTOR = 0.0039245
REFLECTANCE_SCALING_FACTOR = 0.000144368
MEX:REFLECTANCE_OFFSET = 0.0881997
/* IMAGE OBJECT DEFINITIONS */
OBJECT = IMAGE
  INTERCHANGE_FORMAT = BINARY
  LINES = 10941
  LINE_SAMPLES = 2209
  SAMPLE_TYPE = UNSIGNED_INTEGER
  SAMPLE_BITS = 8
  BANDS = 1
  BAND_STORAGE_TYPE = BAND_SEQUENTIAL
  MAXIMUM = 255
  MEAN = 124.522
  MINIMUM = 1
  STANDARD_DEVIATION = 26.3923
END_OBJECT = IMAGE
/* MAP OBJECT DEFINITIONS */
OBJECT = IMAGE_MAP_PROJECTION
  ^DATA_SET_MAP_PROJECTION_CATALOG= "DSMAP.CAT"
  A_AXIS_RADIUS = 3396.0
  B_AXIS_RADIUS = 3396.0
  C_AXIS_RADIUS = 3396.0
  CENTER_LATITUDE = 0.0
  CENTER_LONGITUDE = 59.0
  COORDINATE_SYSTEM_NAME = PLANETOGRAPHIC
  COORDINATE_SYSTEM_TYPE = "BODY-FIXED ROTATING"
  EASTERNMOST_LONGITUDE = 60.0524
  FIRST_STANDARD_PARALLEL = "N/A"
  LINE_FIRST_PIXEL = 1
  LINE_LAST_PIXEL = 10941
  LINE_PROJECTION_OFFSET = -18787.125
  MAP_PROJECTION_ROTATION = 0.0
  MAP_PROJECTION_TYPE = SINUSOIDAL
  MAP_RESOLUTION = 1185.42760773333
  MAP_SCALE = 0.05
  MAXIMUM_LATITUDE = -15.843
  MINIMUM_LATITUDE = -25.0769
  POSITIVE_LONGITUDE_DIRECTION = EAST
  REFERENCE_LATITUDE = "N/A"
  REFERENCE_LONGITUDE = "N/A"
  SAMPLE_FIRST_PIXEL = 1
  SAMPLE_LAST_PIXEL = 2209
  SAMPLE_PROJECTION_OFFSET = 1024.375
  SECOND_STANDARD_PARALLEL = "N/A"
  WESTERNMOST_LONGITUDE = 58.0966
END_OBJECT = IMAGE_MAP_PROJECTION
END
