PDS_VERSION_ID = PDS3
/* FILE DATA ELEMENTS */
RECORD_TYPE = UNDEFINED
/* POINTERS TO DATA OBJECTS */
^IMAGE = ("H4364_0001_ND4.TIF")
/* IDENTIFICATION DATA ELEMENTS */
DATA_SET_ID = "MEX-M-HRSC-4-REFDR-MAPPROJECT-EXT1-V4.0"
DATA_SET_NAME = "MARS EXPRESS HRSC MAP PROJECTED REFDR EXTENSION1 V4.0"
DETECTOR_ID = MEX_HRSC_NADIR
EVENT_TYPE = "MARS-REGIONAL-MAPPING-Im-Fl-Lc"
INSTRUMENT_HOST_ID = MEX
INSTRUMENT_HOST_NAME = "MARS EXPRESS"
INSTRUMENT_ID = HRSC
INSTRUMENT_NAME = "HIGH RESOLUTION STEREO CAMERA"
MISSION_NAME = "MARS EXPRESS"
MISSION_PHASE_NAME = ME_Phase_7
PROCESSING_LEVEL_ID = 4
PRODUCT_CREATION_TIME = 2023-02-10T03:49:22.000Z
PRODUCT_ID = "H4364_0001_ND4.TIF"
RELEASE_ID = 0006
REVISION_ID = 0000
/* QUALITY DATA ELEMENTS */
DATA_QUALITY_ID = 1
DATA_QUALITY_DESC = "Data calculated based on original SPICE kernels"
/* TIME DATA ELEMENTS */
SPACECRAFT_CLOCK_START_COUNT = "1/0128533843.08419"
SPACECRAFT_CLOCK_STOP_COUNT = "1/0128534094.46108"
START_TIME = 2007-05-29T15:51:24.120Z
STOP_TIME = 2007-05-29T15:53:57.102Z
/* ORBITAL DATA ELEMENTS */
ASCENDING_NODE_LONGITUDE = 136.93
MAXIMUM_RESOLUTION = 0.0167
FOOTPRINT_POINT_LATITUDE = (-25.0789,-25.0783,-25.0774,-25.0757, -25.0738,-25.0704,-25.0702,-25.0693, -24.8185,-24.4821,-24.1464,-23.8905, -23.5472,-23.2047,-22.7675,-22.4181, -22.0628,-21.8845,-21.5285,-21.3467, -21.165,-20.9835,-20.8023,-20.6184, -20.4335,-20.2487,-20.0642,-19.8775, -19.6892,-19.5012,-19.3133,-19.123, -18.9316,-18.7404,-18.5495,-18.258, -18.0636,-17.8694,-17.5732,-17.3755, -17.1782,-16.9776,-16.7767,-16.5762, -16.3733,-16.1693,-15.9657,-15.8639, -15.8607,-15.8604,-15.8598,-15.8588, -15.8576,-15.8559,-15.8545,-15.8519, -15.8499,-15.8497,-15.8499,-16.0541, -16.2584,-16.5641,-16.7651,-16.9664, -17.1676,-17.4645,-17.6627,-17.8604, -18.055,-18.2499,-18.5421,-18.7335, -18.9252,-19.1172,-19.3079,-19.496, -19.6844,-19.8732,-20.0603,-20.2453, -20.4304,-20.6158,-20.8002,-20.9819, -21.1636,-21.3458,-21.5281,-21.8846, -22.0632,-22.242,-22.5943,-22.8572, -23.2077,-23.5509,-23.8947,-24.1512, -24.4876,-24.9935,-25.0759,-25.0789)
FOOTPRINT_POINT_LONGITUDE = (59.8718,59.464,59.2122,58.9128,58.66, 58.2951,58.2792,58.2606,58.2591,58.2563 ,58.2543,58.2537,58.2489,58.2449, 58.2396,58.2352,58.2324,58.229,58.2225, 58.2199,58.2167,58.2135,58.2104,58.2083 ,58.206,58.2039,58.2005,58.1969,58.1936 ,58.1905,58.186,58.1812,58.1775,58.1749 ,58.1711,58.165,58.1604,58.156,58.1484, 58.1412,58.1357,58.1304,58.1251,58.1197 ,58.1143,58.1088,58.1036,58.1011,58.101 ,58.2924,58.5033,58.7713,59.0006, 59.2869,59.4777,59.8004,60.0092,60.0282 ,60.0375,60.0341,60.0306,60.0265, 60.0241,60.0211,60.0178,60.0111,60.0085 ,60.0059,60.0027,59.9998,59.9947,59.992 ,59.9884,59.9844,59.9811,59.9798, 59.9767,59.9735,59.9702,59.9674,59.9648 ,59.9615,59.9577,59.9541,59.9523, 59.9473,59.9435,59.9399,59.9367,59.9333 ,59.9266,59.9203,59.9136,59.9074,59.901 ,59.8959,59.8896,59.8795,59.878, 59.8718)
ORBIT_NUMBER = 4364
ORBITAL_ECCENTRICITY = 0.571
ORBITAL_INCLINATION = 86.7
ORBITAL_SEMIMAJOR_AXIS = 8569.59
PERIAPSIS_ALTITUDE = 292.16
PERIAPSIS_ARGUMENT_ANGLE = 309.46
PERIAPSIS_TIME = 2007-05-29T15:44:54.000Z
SPACECRAFT_ORIENTATION = (0.0,1.0,0.0)
^MEX_ORIENTATION_DESC = "MEX_ORIENTATION_DESC.TXT"
SPACECRAFT_POINTING_MODE = ACROSSTRACK
^MEX_POINTING_DESC = "MEX_POINTING_DESC.TXT"
RIGHT_ASCENSION = -1e+32
DECLINATION = -1e+32
OFFSET_ANGLE = 0.2
SPACECRAFT_SOLAR_DISTANCE = 2.06704e+08
TARGET_NAME = MARS
/* CAMERA DATA ELEMENTS */
DETECTOR_TEMPERATURE = 20.0017
FOCAL_PLANE_TEMPERATURE = 10.0106
INST_CMPRS_NAME = "DISCRETE COSINE TRANSFORMATION (DCT)"
INST_CMPRS_RATIO = 6.59691
INST_CMPRS_QUALITY = 0
INST_CMPRS_QUANTZ_TBL_ID = 0
INSTRUMENT_TEMPERATURE = 13.8847
LENS_TEMPERATURE = 10.2145
MACROPIXEL_SIZE = 1
MISSING_FRAMES = 0
PIXEL_SUBSAMPLING_FLAG = N
SIGNAL_CHAIN_ID = 0
/* RADIOMETRIC DATA ELEMENTS */
BANDWIDTH = 177.0
CENTER_FILTER_WAVELENGTH = 677.5
RADIANCE_OFFSET = 5.91421
RADIANCE_SCALING_FACTOR = 0.0150894
REFLECTANCE_SCALING_FACTOR = 0.000342493
MEX:REFLECTANCE_OFFSET = 0.134238
/* IMAGE OBJECT DEFINITIONS */
OBJECT = IMAGE
  INTERCHANGE_FORMAT = BINARY
  LINES = 43763
  LINE_SAMPLES = 8836
  SAMPLE_TYPE = UNSIGNED_INTEGER
  SAMPLE_BITS = 8
  BANDS = 1
  BAND_STORAGE_TYPE = BAND_SEQUENTIAL
  MAXIMUM = 255
  MEAN = 101.92
  MINIMUM = 1
  STANDARD_DEVIATION = 29.3625
END_OBJECT = IMAGE
/* MAP OBJECT DEFINITIONS */
OBJECT = IMAGE_MAP_PROJECTION
  ^DATA_SET_MAP_PROJECTION_CATALOG= "DSMAP.CAT"
  A_AXIS_RADIUS = 3396.0
  B_AXIS_RADIUS = 3396.0
  C_AXIS_RADIUS = 3396.0
  CENTER_LATITUDE = 0.0
  CENTER_LONGITUDE = 59.0
  COORDINATE_SYSTEM_NAME = PLANETOGRAPHIC
  COORDINATE_SYSTEM_TYPE = "BODY-FIXED ROTATING"
  EASTERNMOST_LONGITUDE = 60.0375
  FIRST_STANDARD_PARALLEL = "N/A"
  LINE_FIRST_PIXEL = 1
  LINE_LAST_PIXEL = 43763
  LINE_PROJECTION_OFFSET = -75147.0
  MAP_PROJECTION_ROTATION = 0.0
  MAP_PROJECTION_TYPE = SINUSOIDAL
  MAP_RESOLUTION = 4741.71043093333
  MAP_SCALE = 0.0125
  MAXIMUM_LATITUDE = -15.8497
  MINIMUM_LATITUDE = -25.0789
  POSITIVE_LONGITUDE_DIRECTION = EAST
  REFERENCE_LATITUDE = "N/A"
  REFERENCE_LONGITUDE = "N/A"
  SAMPLE_FIRST_PIXEL = 1
  SAMPLE_LAST_PIXEL = 8836
  SAMPLE_PROJECTION_OFFSET = 4099.0
  SECOND_STANDARD_PARALLEL = "N/A"
  WESTERNMOST_LONGITUDE = 58.101
END_OBJECT = IMAGE_MAP_PROJECTION
END
