PDS_VERSION_ID = PDS3
/* FILE DATA ELEMENTS */
RECORD_TYPE = UNDEFINED
/* POINTERS TO DATA OBJECTS */
^IMAGE = ("H4365_0000_GR4.TIF")
/* IDENTIFICATION DATA ELEMENTS */
DATA_SET_ID = "MEX-M-HRSC-4-REFDR-MAPPROJECT-EXT1-V4.0"
DATA_SET_NAME = "MARS EXPRESS HRSC MAP PROJECTED REFDR EXTENSION1 V4.0"
DETECTOR_ID = MEX_HRSC_GREEN
EVENT_TYPE = "MARS-REGIONAL-MAPPING-Gl-La"
INSTRUMENT_HOST_ID = MEX
INSTRUMENT_HOST_NAME = "MARS EXPRESS"
INSTRUMENT_ID = HRSC
INSTRUMENT_NAME = "HIGH RESOLUTION STEREO CAMERA"
MISSION_NAME = "MARS EXPRESS"
MISSION_PHASE_NAME = ME_Phase_7
PROCESSING_LEVEL_ID = 4
PRODUCT_CREATION_TIME = 2023-02-10T03:49:22.000Z
PRODUCT_ID = "H4365_0000_GR4.TIF"
RELEASE_ID = 0006
REVISION_ID = 0000
/* QUALITY DATA ELEMENTS */
DATA_QUALITY_ID = 1
DATA_QUALITY_DESC = "Data calculated based on original SPICE kernels"
/* TIME DATA ELEMENTS */
SPACECRAFT_CLOCK_START_COUNT = "1/0128557078.09057"
SPACECRAFT_CLOCK_STOP_COUNT = "1/0128557360.59143"
START_TIME = 2007-05-29T22:19:14.758Z
STOP_TIME = 2007-05-29T22:22:12.878Z
/* ORBITAL DATA ELEMENTS */
ASCENDING_NODE_LONGITUDE = 136.92
MAXIMUM_RESOLUTION = 0.0326
FOOTPRINT_POINT_LATITUDE = (-84.2627,-84.0311,-83.87,-83.6999, -83.521,-83.3336,-83.1755,-83.1631, -83.1362,-82.7836,-82.6017,-82.419, -82.2331,-81.9508,-81.7607,-81.5667, -81.2787,-81.0836,-80.791,-80.5948, -80.2983,-80.1021,-79.9039,-79.6081, -79.4111,-79.2126,-79.0138,-78.8175, -78.6201,-78.4216,-78.2253,-78.0294, -77.8326,-77.5371,-77.3428,-77.0499, -76.8538,-76.6609,-76.4681,-76.2746, -75.9839,-75.6029,-75.4116,-75.1241, -74.7481,-74.1825,-73.6259,-73.5328, -73.5141,-73.567,-73.6333,-73.7294, -73.7807,-73.8206,-73.823,-73.8243, -74.1121,-74.5904,-75.0795,-75.4696, -75.7679,-75.967,-76.1658,-76.3643, -76.5661,-76.7688,-76.9712,-77.1732, -77.3775,-77.5837,-77.7894,-77.9946, -78.2024,-78.4115,-78.6202,-78.8285, -79.1457,-79.3575,-79.5687,-79.8899, -80.1043,-80.3181,-80.6427,-80.8593, -81.0752,-81.2948,-81.5134,-81.731, -81.9518,-82.1718,-82.3907,-82.6126, -82.8331,-83.1635,-83.3844,-83.6038, -83.9341,-84.1519,-84.2607,-84.2627)
FOOTPRINT_POINT_LONGITUDE = (295.998,292.337,290.131,288.033, 286.038,284.14,282.667,282.557,282.135, 284.909,286.192,287.39,288.538,290.14, 291.14,292.069,293.408,294.244,295.416, 296.152,297.183,297.836,298.452,299.355 ,299.915,300.445,300.956,301.445, 301.916,302.374,302.809,303.225,303.627 ,304.201,304.564,305.083,305.417, 305.739,306.046,306.346,306.78,307.318, 307.578,307.953,308.42,309.075,309.67, 309.766,309.785,310.509,311.475,313.018 ,313.935,314.706,314.754,314.771, 314.599,314.297,313.967,313.687,313.462 ,313.307,313.147,312.982,312.809,312.63 ,312.446,312.255,312.056,311.849, 311.634,311.412,311.18,310.936,310.684, 310.422,310.004,309.71,309.404,308.913, 308.567,308.206,307.623,307.21,306.777, 306.314,305.826,305.314,304.763,304.181 ,303.566,302.902,302.197,301.046, 300.206,299.31,297.82,296.732,296.154, 295.998)
ORBIT_NUMBER = 4365
ORBITAL_ECCENTRICITY = 0.571
ORBITAL_INCLINATION = 86.7
ORBITAL_SEMIMAJOR_AXIS = 8565.62
PERIAPSIS_ALTITUDE = 292.68
PERIAPSIS_ARGUMENT_ANGLE = 309.29
PERIAPSIS_TIME = 2007-05-29T22:28:06.000Z
SPACECRAFT_ORIENTATION = (0.0,1.0,0.0)
^MEX_ORIENTATION_DESC = "MEX_ORIENTATION_DESC.TXT"
SPACECRAFT_POINTING_MODE = ACROSSTRACK
^MEX_POINTING_DESC = "MEX_POINTING_DESC.TXT"
RIGHT_ASCENSION = -1e+32
DECLINATION = -1e+32
OFFSET_ANGLE = 0.52
SPACECRAFT_SOLAR_DISTANCE = 2.067e+08
TARGET_NAME = MARS
/* CAMERA DATA ELEMENTS */
DETECTOR_TEMPERATURE = 18.7783
FOCAL_PLANE_TEMPERATURE = 9.3989
INST_CMPRS_NAME = "DISCRETE COSINE TRANSFORMATION (DCT)"
INST_CMPRS_RATIO = 42.8897
INST_CMPRS_QUALITY = 0
INST_CMPRS_QUANTZ_TBL_ID = 0
INSTRUMENT_TEMPERATURE = 11.6418
LENS_TEMPERATURE = 9.8067
MACROPIXEL_SIZE = 2
MISSING_FRAMES = 0
PIXEL_SUBSAMPLING_FLAG = N
SIGNAL_CHAIN_ID = 2
/* RADIOMETRIC DATA ELEMENTS */
BANDWIDTH = 88.0
CENTER_FILTER_WAVELENGTH = 538.0
RADIANCE_OFFSET = 3.50832
RADIANCE_SCALING_FACTOR = 0.0131727
REFLECTANCE_SCALING_FACTOR = 0.000484558
MEX:REFLECTANCE_OFFSET = 0.129054
/* IMAGE OBJECT DEFINITIONS */
OBJECT = IMAGE
  INTERCHANGE_FORMAT = BINARY
  LINES = 25581
  LINE_SAMPLES = 12618
  SAMPLE_TYPE = UNSIGNED_INTEGER
  SAMPLE_BITS = 8
  BANDS = 1
  BAND_STORAGE_TYPE = BAND_SEQUENTIAL
  MAXIMUM = 255
  MEAN = 198.201
  MINIMUM = 1
  STANDARD_DEVIATION = 57.6228
END_OBJECT = IMAGE
/* MAP OBJECT DEFINITIONS */
OBJECT = IMAGE_MAP_PROJECTION
  ^DATA_SET_MAP_PROJECTION_CATALOG= "DSMAP.CAT"
  A_AXIS_RADIUS = 3396.0
  B_AXIS_RADIUS = 3396.0
  C_AXIS_RADIUS = 3396.0
  CENTER_LATITUDE = 0.0
  CENTER_LONGITUDE = 306.0
  COORDINATE_SYSTEM_NAME = PLANETOGRAPHIC
  COORDINATE_SYSTEM_TYPE = "BODY-FIXED ROTATING"
  EASTERNMOST_LONGITUDE = 314.771
  FIRST_STANDARD_PARALLEL = "N/A"
  LINE_FIRST_PIXEL = 1
  LINE_LAST_PIXEL = 25581
  LINE_PROJECTION_OFFSET = -174300.75
  MAP_PROJECTION_ROTATION = 0.0
  MAP_PROJECTION_TYPE = SINUSOIDAL
  MAP_RESOLUTION = 2370.85521546667
  MAP_SCALE = 0.025
  MAXIMUM_LATITUDE = -73.5141
  MINIMUM_LATITUDE = -84.2627
  POSITIVE_LONGITUDE_DIRECTION = EAST
  REFERENCE_LATITUDE = "N/A"
  REFERENCE_LONGITUDE = "N/A"
  SAMPLE_FIRST_PIXEL = 1
  SAMPLE_LAST_PIXEL = 12618
  SAMPLE_PROJECTION_OFFSET = 6817.25
  SECOND_STANDARD_PARALLEL = "N/A"
  WESTERNMOST_LONGITUDE = 282.135
END_OBJECT = IMAGE_MAP_PROJECTION
END
