PDS_VERSION_ID = PDS3
/* FILE DATA ELEMENTS */
RECORD_TYPE = UNDEFINED
/* POINTERS TO DATA OBJECTS */
^IMAGE = ("H4367_0000_ND4.TIF")
/* IDENTIFICATION DATA ELEMENTS */
DATA_SET_ID = "MEX-M-HRSC-4-REFDR-MAPPROJECT-EXT1-V4.0"
DATA_SET_NAME = "MARS EXPRESS HRSC MAP PROJECTED REFDR EXTENSION1 V4.0"
DETECTOR_ID = MEX_HRSC_NADIR
EVENT_TYPE = "MARS-REGIONAL-MAPPING-Vo-Te-Im"
INSTRUMENT_HOST_ID = MEX
INSTRUMENT_HOST_NAME = "MARS EXPRESS"
INSTRUMENT_ID = HRSC
INSTRUMENT_NAME = "HIGH RESOLUTION STEREO CAMERA"
MISSION_NAME = "MARS EXPRESS"
MISSION_PHASE_NAME = ME_Phase_7
PROCESSING_LEVEL_ID = 4
PRODUCT_CREATION_TIME = 2023-02-10T03:49:22.000Z
PRODUCT_ID = "H4367_0000_ND4.TIF"
RELEASE_ID = 0006
REVISION_ID = 0000
/* QUALITY DATA ELEMENTS */
DATA_QUALITY_ID = 1
DATA_QUALITY_DESC = "Data calculated based on original SPICE kernels"
/* TIME DATA ELEMENTS */
SPACECRAFT_CLOCK_START_COUNT = "1/0128606121.07308"
SPACECRAFT_CLOCK_STOP_COUNT = "1/0128606437.47617"
START_TIME = 2007-05-30T11:55:51.235Z
STOP_TIME = 2007-05-30T12:00:02.213Z
/* ORBITAL DATA ELEMENTS */
ASCENDING_NODE_LONGITUDE = 136.87
MAXIMUM_RESOLUTION = 0.0118
FOOTPRINT_POINT_LATITUDE = (-45.5472,-45.53,-45.51,-45.5096, -45.5078,-45.047,-44.2794,-43.8191, -43.2059,-42.5934,-41.9813,-41.5097, -41.193,-40.8764,-40.5599,-40.2437, -39.9278,-39.6121,-39.2968,-38.8096, -38.4835,-38.1577,-37.8322,-37.5069, -37.1821,-36.6806,-36.3453,-36.0104, -35.676,-35.1693,-34.8246,-34.4801, -34.1363,-33.7928,-33.4498,-33.1072, -32.765,-32.4233,-32.0821,-31.7414, -31.4011,-31.0612,-30.722,-30.3832, -30.0449,-29.7072,-29.37,-29.2016, -29.1987,-29.2052,-29.209,-29.2106, -29.2107,-29.2109,-29.5484,-29.8864, -30.2249,-30.5639,-30.9035,-31.2436, -31.5841,-31.925,-32.2667,-32.6087, -32.9511,-33.294,-33.6374,-33.9812, -34.3254,-34.6701,-35.0152,-35.3606, -35.6953,-36.0304,-36.3658,-36.7016, -37.2039,-37.5293,-37.8551,-38.1811, -38.5074,-38.834,-39.322,-39.638, -39.9542,-40.2707,-40.5873,-40.9042, -41.2212,-41.5386,-42.0112,-42.6242, -43.2379,-43.8522,-44.1596,-44.6209, -44.9285,-45.3903,-45.5442,-45.5472)
FOOTPRINT_POINT_LONGITUDE = (124.767,124.033,123.359,123.345, 123.322,123.35,123.395,123.419,123.45, 123.48,123.507,123.528,123.541,123.554, 123.564,123.576,123.587,123.598,123.61, 123.625,123.635,123.644,123.653,123.661 ,123.67,123.682,123.689,123.697,123.705 ,123.713,123.72,123.724,123.731,123.736 ,123.74,123.744,123.747,123.751,123.754 ,123.757,123.759,123.76,123.762,123.762 ,123.764,123.764,123.764,123.765, 123.765,124.336,124.848,125.271,125.286 ,125.294,125.287,125.28,125.272,125.265 ,125.258,125.25,125.244,125.238,125.227 ,125.218,125.211,125.202,125.194, 125.185,125.177,125.167,125.157,125.149 ,125.141,125.132,125.123,125.114, 125.099,125.089,125.079,125.07,125.059, 125.049,125.033,125.022,125.012,125.001 ,124.99,124.979,124.972,124.957,124.938 ,124.917,124.89,124.865,124.853,124.832 ,124.819,124.795,124.789,124.767)
ORBIT_NUMBER = 4367
ORBITAL_ECCENTRICITY = 0.571
ORBITAL_INCLINATION = 86.68
ORBITAL_SEMIMAJOR_AXIS = 8570.04
PERIAPSIS_ALTITUDE = 292.46
PERIAPSIS_ARGUMENT_ANGLE = 308.92
PERIAPSIS_TIME = 2007-05-30T11:54:30.000Z
SPACECRAFT_ORIENTATION = (0.0,1.0,0.0)
^MEX_ORIENTATION_DESC = "MEX_ORIENTATION_DESC.TXT"
SPACECRAFT_POINTING_MODE = ACROSSTRACK
^MEX_POINTING_DESC = "MEX_POINTING_DESC.TXT"
RIGHT_ASCENSION = -1e+32
DECLINATION = -1e+32
OFFSET_ANGLE = -0.1
SPACECRAFT_SOLAR_DISTANCE = 2.06694e+08
TARGET_NAME = MARS
/* CAMERA DATA ELEMENTS */
DETECTOR_TEMPERATURE = 18.5744
FOCAL_PLANE_TEMPERATURE = 9.6028
INST_CMPRS_NAME = "DISCRETE COSINE TRANSFORMATION (DCT)"
INST_CMPRS_RATIO = 7.04839
INST_CMPRS_QUALITY = 0
INST_CMPRS_QUANTZ_TBL_ID = 0
INSTRUMENT_TEMPERATURE = 10.2145
LENS_TEMPERATURE = 10.0106
MACROPIXEL_SIZE = 1
MISSING_FRAMES = 0
PIXEL_SUBSAMPLING_FLAG = N
SIGNAL_CHAIN_ID = 0
/* RADIOMETRIC DATA ELEMENTS */
BANDWIDTH = 177.0
CENTER_FILTER_WAVELENGTH = 677.5
RADIANCE_OFFSET = 6.58196
RADIANCE_SCALING_FACTOR = 0.0216927
REFLECTANCE_SCALING_FACTOR = 0.000492328
MEX:REFLECTANCE_OFFSET = 0.149381
/* IMAGE OBJECT DEFINITIONS */
OBJECT = IMAGE
  INTERCHANGE_FORMAT = BINARY
  LINES = 77519
  LINE_SAMPLES = 7609
  SAMPLE_TYPE = UNSIGNED_INTEGER
  SAMPLE_BITS = 8
  BANDS = 1
  BAND_STORAGE_TYPE = BAND_SEQUENTIAL
  MAXIMUM = 255
  MEAN = 116.375
  MINIMUM = 1
  STANDARD_DEVIATION = 39.4199
END_OBJECT = IMAGE
/* MAP OBJECT DEFINITIONS */
OBJECT = IMAGE_MAP_PROJECTION
  ^DATA_SET_MAP_PROJECTION_CATALOG= "DSMAP.CAT"
  A_AXIS_RADIUS = 3396.0
  B_AXIS_RADIUS = 3396.0
  C_AXIS_RADIUS = 3396.0
  CENTER_LATITUDE = 0.0
  CENTER_LONGITUDE = 124.0
  COORDINATE_SYSTEM_NAME = PLANETOGRAPHIC
  COORDINATE_SYSTEM_TYPE = "BODY-FIXED ROTATING"
  EASTERNMOST_LONGITUDE = 125.294
  FIRST_STANDARD_PARALLEL = "N/A"
  LINE_FIRST_PIXEL = 1
  LINE_LAST_PIXEL = 77519
  LINE_PROJECTION_OFFSET = -138447.0
  MAP_PROJECTION_ROTATION = 0.0
  MAP_PROJECTION_TYPE = SINUSOIDAL
  MAP_RESOLUTION = 4741.71043093333
  MAP_SCALE = 0.0125
  MAXIMUM_LATITUDE = -29.1987
  MINIMUM_LATITUDE = -45.5472
  POSITIVE_LONGITUDE_DIRECTION = EAST
  REFERENCE_LATITUDE = "N/A"
  REFERENCE_LONGITUDE = "N/A"
  SAMPLE_FIRST_PIXEL = 1
  SAMPLE_LAST_PIXEL = 7609
  SAMPLE_PROJECTION_OFFSET = 2244.0
  SECOND_STANDARD_PARALLEL = "N/A"
  WESTERNMOST_LONGITUDE = 123.322
END_OBJECT = IMAGE_MAP_PROJECTION
END
