PDS_VERSION_ID = PDS3
/* FILE DATA ELEMENTS */
RECORD_TYPE = UNDEFINED
/* POINTERS TO DATA OBJECTS */
^IMAGE = ("H4380_0000_RE4.TIF")
/* IDENTIFICATION DATA ELEMENTS */
DATA_SET_ID = "MEX-M-HRSC-4-REFDR-MAPPROJECT-EXT1-V4.0"
DATA_SET_NAME = "MARS EXPRESS HRSC MAP PROJECTED REFDR EXTENSION1 V4.0"
DETECTOR_ID = MEX_HRSC_RED
EVENT_TYPE = "MARS-REGIONAL-MAPPING-Vo-Te-Im"
INSTRUMENT_HOST_ID = MEX
INSTRUMENT_HOST_NAME = "MARS EXPRESS"
INSTRUMENT_ID = HRSC
INSTRUMENT_NAME = "HIGH RESOLUTION STEREO CAMERA"
MISSION_NAME = "MARS EXPRESS"
MISSION_PHASE_NAME = ME_Phase_7
PROCESSING_LEVEL_ID = 4
PRODUCT_CREATION_TIME = 2023-02-10T03:49:22.000Z
PRODUCT_ID = "H4380_0000_RE4.TIF"
RELEASE_ID = 0006
REVISION_ID = 0000
/* QUALITY DATA ELEMENTS */
DATA_QUALITY_ID = 1
DATA_QUALITY_DESC = "Data calculated based on original SPICE kernels"
/* TIME DATA ELEMENTS */
SPACECRAFT_CLOCK_START_COUNT = "1/0128920910.09071"
SPACECRAFT_CLOCK_STOP_COUNT = "1/0128921171.31488"
START_TIME = 2007-06-03T03:22:00.100Z
STOP_TIME = 2007-06-03T03:24:32.557Z
/* ORBITAL DATA ELEMENTS */
ASCENDING_NODE_LONGITUDE = 136.61
MAXIMUM_RESOLUTION = 0.0651
FOOTPRINT_POINT_LATITUDE = (-28.5235,-28.5197,-28.5127,-28.5075, -28.5008,-28.4939,-28.4843,-28.4838, -28.4804,-28.1187,-27.8483,-27.5778, -27.3068,-26.7615,-26.3926,-26.0253, -25.8389,-25.6505,-25.4624,-25.1803, -24.9916,-24.799,-24.6059,-24.4128, -24.2199,-23.9287,-23.7319,-23.4367, -23.2409,-22.9415,-22.7404,-22.5396, -22.3391,-22.1354,-21.9303,-21.7254, -21.5208,-21.2093,-21.0008,-20.7918, -20.5823,-20.2624,-20.0491,-19.8363, -19.6191,-19.2939,-18.9664,-18.7454, -18.6349,-18.6324,-18.6371,-18.6425, -18.6469,-18.6511,-18.6527,-18.6534, -18.6534,-18.6547,-18.8763,-19.0984, -19.3158,-19.5338,-19.7519,-19.9678, -20.1814,-20.5017,-20.8189,-21.0276, -21.2369,-21.4466,-21.6519,-21.8568, -22.0621,-22.3695,-22.5709,-22.772, -22.9738,-23.1749,-23.3727,-23.5705, -23.7682,-23.9647,-24.1604,-24.3536, -24.5472,-24.8372,-25.0292,-25.3089, -25.5003,-25.6885,-25.8768,-26.156, -26.4328,-26.8002,-27.3469,-27.7067, -28.0669,-28.4286,-28.5187,-28.5235)
FOOTPRINT_POINT_LONGITUDE = (287.169,286.955,286.624,286.408, 286.162,285.93,285.638,285.624,285.619, 285.619,285.619,285.619,285.618,285.617 ,285.616,285.615,285.614,285.613, 285.612,285.611,285.609,285.608,285.606 ,285.604,285.602,285.6,285.598,285.595, 285.593,285.589,285.587,285.584,285.582 ,285.579,285.576,285.573,285.57,285.566 ,285.563,285.559,285.556,285.55,285.546 ,285.542,285.538,285.531,285.525,285.52 ,285.518,285.518,285.759,286.087, 286.379,286.825,287.098,287.337,287.354 ,287.36,287.356,287.353,287.349,287.346 ,287.342,287.338,287.335,287.33,287.324 ,287.321,287.318,287.314,287.31,287.307 ,287.303,287.298,287.294,287.29,287.287 ,287.283,287.279,287.275,287.271, 287.268,287.264,287.26,287.256,287.25, 287.246,287.241,287.237,287.233,287.229 ,287.223,287.217,287.21,287.197,287.189 ,287.181,287.172,287.17,287.169)
ORBIT_NUMBER = 4380
ORBITAL_ECCENTRICITY = 0.571
ORBITAL_INCLINATION = 86.68
ORBITAL_SEMIMAJOR_AXIS = 8563.7
PERIAPSIS_ALTITUDE = 292.28
PERIAPSIS_ARGUMENT_ANGLE = 306.66
PERIAPSIS_TIME = 2007-06-03T03:16:11.000Z
SPACECRAFT_ORIENTATION = (0.0,1.0,0.0)
^MEX_ORIENTATION_DESC = "MEX_ORIENTATION_DESC.TXT"
SPACECRAFT_POINTING_MODE = ACROSSTRACK
^MEX_POINTING_DESC = "MEX_POINTING_DESC.TXT"
RIGHT_ASCENSION = -1e+32
DECLINATION = -1e+32
OFFSET_ANGLE = 0.3
SPACECRAFT_SOLAR_DISTANCE = 2.06668e+08
TARGET_NAME = MARS
/* CAMERA DATA ELEMENTS */
DETECTOR_TEMPERATURE = 18.9822
FOCAL_PLANE_TEMPERATURE = 9.8067
INST_CMPRS_NAME = "DISCRETE COSINE TRANSFORMATION (DCT)"
INST_CMPRS_RATIO = 19.2879
INST_CMPRS_QUALITY = 0
INST_CMPRS_QUANTZ_TBL_ID = 0
INSTRUMENT_TEMPERATURE = 11.8457
LENS_TEMPERATURE = 10.0106
MACROPIXEL_SIZE = 4
MISSING_FRAMES = 0
PIXEL_SUBSAMPLING_FLAG = N
SIGNAL_CHAIN_ID = 2
/* RADIOMETRIC DATA ELEMENTS */
BANDWIDTH = 48.0
CENTER_FILTER_WAVELENGTH = 748.0
RADIANCE_OFFSET = 1.45392
RADIANCE_SCALING_FACTOR = 0.00486541
REFLECTANCE_SCALING_FACTOR = 0.000474235
MEX:REFLECTANCE_OFFSET = 0.141715
/* IMAGE OBJECT DEFINITIONS */
OBJECT = IMAGE
  INTERCHANGE_FORMAT = BINARY
  LINES = 11680
  LINE_SAMPLES = 2207
  SAMPLE_TYPE = UNSIGNED_INTEGER
  SAMPLE_BITS = 8
  BANDS = 1
  BAND_STORAGE_TYPE = BAND_SEQUENTIAL
  MAXIMUM = 255
  MEAN = 131.616
  MINIMUM = 1
  STANDARD_DEVIATION = 43.4464
END_OBJECT = IMAGE
/* MAP OBJECT DEFINITIONS */
OBJECT = IMAGE_MAP_PROJECTION
  ^DATA_SET_MAP_PROJECTION_CATALOG= "DSMAP.CAT"
  A_AXIS_RADIUS = 3396.0
  B_AXIS_RADIUS = 3396.0
  C_AXIS_RADIUS = 3396.0
  CENTER_LATITUDE = 0.0
  CENTER_LONGITUDE = 286.0
  COORDINATE_SYSTEM_NAME = PLANETOGRAPHIC
  COORDINATE_SYSTEM_TYPE = "BODY-FIXED ROTATING"
  EASTERNMOST_LONGITUDE = 287.36
  FIRST_STANDARD_PARALLEL = "N/A"
  LINE_FIRST_PIXEL = 1
  LINE_LAST_PIXEL = 11680
  LINE_PROJECTION_OFFSET = -22082.875
  MAP_PROJECTION_ROTATION = 0.0
  MAP_PROJECTION_TYPE = SINUSOIDAL
  MAP_RESOLUTION = 1185.42760773333
  MAP_SCALE = 0.05
  MAXIMUM_LATITUDE = -18.6324
  MINIMUM_LATITUDE = -28.5235
  POSITIVE_LONGITUDE_DIRECTION = EAST
  REFERENCE_LATITUDE = "N/A"
  REFERENCE_LONGITUDE = "N/A"
  SAMPLE_FIRST_PIXEL = 1
  SAMPLE_LAST_PIXEL = 2207
  SAMPLE_PROJECTION_OFFSET = 613.375
  SECOND_STANDARD_PARALLEL = "N/A"
  WESTERNMOST_LONGITUDE = 285.518
END_OBJECT = IMAGE_MAP_PROJECTION
END
