PDS_VERSION_ID = PDS3
/* FILE DATA ELEMENTS */
RECORD_TYPE = UNDEFINED
/* POINTERS TO DATA OBJECTS */
^IMAGE = ("H4385_0000_S24.TIF")
/* IDENTIFICATION DATA ELEMENTS */
DATA_SET_ID = "MEX-M-HRSC-4-REFDR-MAPPROJECT-EXT1-V4.0"
DATA_SET_NAME = "MARS EXPRESS HRSC MAP PROJECTED REFDR EXTENSION1 V4.0"
DETECTOR_ID = MEX_HRSC_S2
EVENT_TYPE = "MARS-REGIONAL-MAPPING-Im-Gl-La"
INSTRUMENT_HOST_ID = MEX
INSTRUMENT_HOST_NAME = "MARS EXPRESS"
INSTRUMENT_ID = HRSC
INSTRUMENT_NAME = "HIGH RESOLUTION STEREO CAMERA"
MISSION_NAME = "MARS EXPRESS"
MISSION_PHASE_NAME = ME_Phase_7
PROCESSING_LEVEL_ID = 4
PRODUCT_CREATION_TIME = 2023-02-10T03:49:22.000Z
PRODUCT_ID = "H4385_0000_S24.TIF"
RELEASE_ID = 0006
REVISION_ID = 0000
/* QUALITY DATA ELEMENTS */
DATA_QUALITY_ID = 1
DATA_QUALITY_DESC = "Data calculated based on original SPICE kernels"
/* TIME DATA ELEMENTS */
SPACECRAFT_CLOCK_START_COUNT = "1/0129041142.09067"
SPACECRAFT_CLOCK_STOP_COUNT = "1/0129041304.42378"
START_TIME = 2007-06-04T12:45:46.257Z
STOP_TIME = 2007-06-04T12:47:21.768Z
/* ORBITAL DATA ELEMENTS */
ASCENDING_NODE_LONGITUDE = 136.5
MAXIMUM_RESOLUTION = 0.0315
FOOTPRINT_POINT_LATITUDE = (-76.4336,-76.3946,-76.3464,-76.2877, -76.246,-76.187,-76.1561,-76.0831, -76.0789,-75.9799,-75.8128,-75.7032, -75.5922,-75.4822,-75.372,-75.2061, -75.0948,-74.9295,-74.7682,-74.6609, -74.4976,-74.3888,-74.2792,-74.1148, -73.9007,-73.6285,-73.5194,-73.4108, -73.2494,-73.029,-72.9201,-72.7571, -72.5392,-72.3217,-72.1579,-71.9412, -71.8303,-71.7195,-71.6093,-71.4983, -71.388,-71.2774,-71.1667,-71.0556, -70.9445,-70.8338,-70.6676,-70.5563, -70.5005,-70.4883,-70.522,-70.5481, -70.5851,-70.618,-70.6621,-70.6788, -70.7072,-70.7089,-70.71,-70.8236, -70.9371,-71.0501,-71.1632,-71.2761, -71.389,-71.5017,-71.6708,-71.8396, -71.952,-72.0646,-72.2333,-72.3458, -72.4618,-72.6317,-72.7435,-72.8551, -73.022,-73.1329,-73.3014,-73.4134, -73.5248,-73.7457,-74.0215,-74.2968, -74.464,-74.5766,-74.6873,-74.9029, -75.0171,-75.1893,-75.3025,-75.4749, -75.5901,-75.756,-75.8713,-75.9875, -76.1022,-76.2761,-76.3342,-76.4336)
FOOTPRINT_POINT_LONGITUDE = (149.001,148.188,147.263,146.23,145.547 ,144.641,144.191,143.182,143.127, 143.096,143.312,143.451,143.587,143.722 ,143.854,144.049,144.177,144.362, 144.542,144.66,144.833,144.946,145.058, 145.223,145.431,145.683,145.782,145.879 ,146.024,146.21,146.302,146.438,146.615 ,146.788,146.915,147.082,147.163, 147.243,147.322,147.4,147.477,147.553, 147.629,147.703,147.777,147.85,147.958, 148.028,148.063,148.071,148.554,148.964 ,149.561,150.122,150.948,151.287,151.89 ,151.927,151.941,151.902,151.862, 151.823,151.783,151.742,151.701,151.659 ,151.596,151.531,151.488,151.443, 151.375,151.329,151.277,151.204,151.156 ,151.107,151.034,150.985,150.906, 150.853,150.8,150.694,150.558,150.416, 150.326,150.265,150.207,150.097,150.029 ,149.924,149.855,149.748,149.676, 149.578,149.502,149.423,149.345,149.224 ,149.183,149.001)
ORBIT_NUMBER = 4385
ORBITAL_ECCENTRICITY = 0.571
ORBITAL_INCLINATION = 86.69
ORBITAL_SEMIMAJOR_AXIS = 8562.92
PERIAPSIS_ALTITUDE = 292.87
PERIAPSIS_ARGUMENT_ANGLE = 305.8
PERIAPSIS_TIME = 2007-06-04T12:52:09.000Z
SPACECRAFT_ORIENTATION = (0.0,1.0,0.0)
^MEX_ORIENTATION_DESC = "MEX_ORIENTATION_DESC.TXT"
SPACECRAFT_POINTING_MODE = ACROSSTRACK
^MEX_POINTING_DESC = "MEX_POINTING_DESC.TXT"
RIGHT_ASCENSION = -1e+32
DECLINATION = -1e+32
OFFSET_ANGLE = 0.1
SPACECRAFT_SOLAR_DISTANCE = 2.06666e+08
TARGET_NAME = MARS
/* CAMERA DATA ELEMENTS */
DETECTOR_TEMPERATURE = 19.1861
FOCAL_PLANE_TEMPERATURE = 10.2145
INST_CMPRS_NAME = "DISCRETE COSINE TRANSFORMATION (DCT)"
INST_CMPRS_RATIO = 13.0779
INST_CMPRS_QUALITY = 0
INST_CMPRS_QUANTZ_TBL_ID = 0
INSTRUMENT_TEMPERATURE = 11.6418
LENS_TEMPERATURE = 10.8262
MACROPIXEL_SIZE = 2
MISSING_FRAMES = 0
PIXEL_SUBSAMPLING_FLAG = N
SIGNAL_CHAIN_ID = 1
/* RADIOMETRIC DATA ELEMENTS */
BANDWIDTH = 178.0
CENTER_FILTER_WAVELENGTH = 679.0
RADIANCE_OFFSET = 6.56786
RADIANCE_SCALING_FACTOR = 0.0156906
REFLECTANCE_SCALING_FACTOR = 0.000354903
MEX:REFLECTANCE_OFFSET = 0.148557
/* IMAGE OBJECT DEFINITIONS */
OBJECT = IMAGE
  INTERCHANGE_FORMAT = BINARY
  LINES = 13761
  LINE_SAMPLES = 5706
  SAMPLE_TYPE = UNSIGNED_INTEGER
  SAMPLE_BITS = 8
  BANDS = 1
  BAND_STORAGE_TYPE = BAND_SEQUENTIAL
  MAXIMUM = 255
  MEAN = 109.057
  MINIMUM = 1
  STANDARD_DEVIATION = 43.2443
END_OBJECT = IMAGE
/* MAP OBJECT DEFINITIONS */
OBJECT = IMAGE_MAP_PROJECTION
  ^DATA_SET_MAP_PROJECTION_CATALOG= "DSMAP.CAT"
  A_AXIS_RADIUS = 3396.0
  B_AXIS_RADIUS = 3396.0
  C_AXIS_RADIUS = 3396.0
  CENTER_LATITUDE = 0.0
  CENTER_LONGITUDE = 148.0
  COORDINATE_SYSTEM_NAME = PLANETOGRAPHIC
  COORDINATE_SYSTEM_TYPE = "BODY-FIXED ROTATING"
  EASTERNMOST_LONGITUDE = 151.941
  FIRST_STANDARD_PARALLEL = "N/A"
  LINE_FIRST_PIXEL = 1
  LINE_LAST_PIXEL = 13761
  LINE_PROJECTION_OFFSET = -167121.25
  MAP_PROJECTION_ROTATION = 0.0
  MAP_PROJECTION_TYPE = SINUSOIDAL
  MAP_RESOLUTION = 2370.85521546667
  MAP_SCALE = 0.025
  MAXIMUM_LATITUDE = -70.4883
  MINIMUM_LATITUDE = -76.4336
  POSITIVE_LONGITUDE_DIRECTION = EAST
  REFERENCE_LATITUDE = "N/A"
  REFERENCE_LONGITUDE = "N/A"
  SAMPLE_FIRST_PIXEL = 1
  SAMPLE_LAST_PIXEL = 5706
  SAMPLE_PROJECTION_OFFSET = 2695.75
  SECOND_STANDARD_PARALLEL = "N/A"
  WESTERNMOST_LONGITUDE = 143.096
END_OBJECT = IMAGE_MAP_PROJECTION
END
