PDS_VERSION_ID = PDS3
/* FILE DATA ELEMENTS */
RECORD_TYPE = UNDEFINED
/* POINTERS TO DATA OBJECTS */
^IMAGE = ("H4391_0000_P14.TIF")
/* IDENTIFICATION DATA ELEMENTS */
DATA_SET_ID = "MEX-M-HRSC-4-REFDR-MAPPROJECT-EXT1-V4.0"
DATA_SET_NAME = "MARS EXPRESS HRSC MAP PROJECTED REFDR EXTENSION1 V4.0"
DETECTOR_ID = MEX_HRSC_P1
EVENT_TYPE = "MARS-REGIONAL-MAPPING-Im-Gl-La"
INSTRUMENT_HOST_ID = MEX
INSTRUMENT_HOST_NAME = "MARS EXPRESS"
INSTRUMENT_ID = HRSC
INSTRUMENT_NAME = "HIGH RESOLUTION STEREO CAMERA"
MISSION_NAME = "MARS EXPRESS"
MISSION_PHASE_NAME = ME_Phase_7
PROCESSING_LEVEL_ID = 4
PRODUCT_CREATION_TIME = 2023-02-10T03:49:22.000Z
PRODUCT_ID = "H4391_0000_P14.TIF"
RELEASE_ID = 0006
REVISION_ID = 0000
/* QUALITY DATA ELEMENTS */
DATA_QUALITY_ID = 1
DATA_QUALITY_DESC = "Data calculated based on original SPICE kernels"
/* TIME DATA ELEMENTS */
SPACECRAFT_CLOCK_START_COUNT = "1/0129186262.09094"
SPACECRAFT_CLOCK_STOP_COUNT = "1/0129186580.08328"
START_TIME = 2007-06-06T05:05:34.503Z
STOP_TIME = 2007-06-06T05:09:33.101Z
/* ORBITAL DATA ELEMENTS */
ASCENDING_NODE_LONGITUDE = 136.38
MAXIMUM_RESOLUTION = 0.0249
FOOTPRINT_POINT_LATITUDE = (-79.3322,-79.2131,-79.0978,-78.9697, -78.9655,-79.02,-78.6765,-78.1571, -77.8099,-77.2912,-76.9364,-76.5845, -76.2318,-75.8776,-75.5226,-74.9881, -74.6295,-74.1783,-73.877,-73.5748, -73.2788,-72.9758,-72.523,-72.2157, -71.9118,-71.6067,-71.1483,-70.8402, -70.5341,-70.2305,-69.9322,-69.6295, -69.3327,-68.8861,-68.5877,-68.2911, -68.002,-67.7133,-67.2791,-66.9894, -66.7,-66.4099,-66.1224,-65.2807, -64.7193,-64.2977,-63.7354,-63.5946, -63.5604,-63.6093,-63.671,-63.672, -63.6728,-64.0987,-64.3815,-64.6645, -64.9474,-65.2304,-65.6543,-66.2204, -66.5089,-66.9475,-67.2396,-67.5319, -67.8239,-68.1157,-68.4077,-68.7057, -69.1578,-69.4592,-69.7604,-70.0594, -70.3651,-70.6808,-70.9889,-71.451, -71.761,-72.0711,-72.3794,-72.6888, -72.9977,-73.3064,-73.6142,-73.9155, -74.2222,-74.53,-74.836,-75.1952, -75.7423,-76.1098,-76.473,-76.8391, -77.2,-77.564,-77.9204,-78.2822, -78.6469,-79.1811,-79.3591,-79.3322)
FOOTPRINT_POINT_LONGITUDE = (278.835,276.195,274.041,271.951, 271.887,271.704,272.321,273.18,273.709, 274.436,274.903,275.336,275.746,276.135 ,276.503,277.023,277.35,277.737,277.982 ,278.218,278.437,278.656,278.966, 279.168,279.359,279.544,279.809,279.98, 280.143,280.298,280.446,280.593,280.73, 280.929,281.056,281.179,281.295,281.407 ,281.569,281.674,281.775,281.873, 281.968,282.23,282.394,282.511,282.659, 282.695,282.704,283.641,285.066,285.09, 285.098,285.039,284.997,284.954,284.91, 284.864,284.794,284.697,284.644,284.562 ,284.505,284.447,284.387,284.325, 284.261,284.194,284.088,284.015,283.939 ,283.858,283.787,283.712,283.619, 283.474,283.377,283.278,283.172,283.065 ,282.953,282.837,282.715,282.575, 282.442,282.307,282.163,281.989,281.704 ,281.51,281.295,281.077,280.836,280.589 ,280.309,280.029,279.739,279.238, 279.061,278.835)
ORBIT_NUMBER = 4391
ORBITAL_ECCENTRICITY = 0.571
ORBITAL_INCLINATION = 86.68
ORBITAL_SEMIMAJOR_AXIS = 8560.53
PERIAPSIS_ALTITUDE = 292.14
PERIAPSIS_ARGUMENT_ANGLE = 304.74
PERIAPSIS_TIME = 2007-06-06T05:11:24.000Z
SPACECRAFT_ORIENTATION = (0.0,1.0,0.0)
^MEX_ORIENTATION_DESC = "MEX_ORIENTATION_DESC.TXT"
SPACECRAFT_POINTING_MODE = ACROSSTRACK
^MEX_POINTING_DESC = "MEX_POINTING_DESC.TXT"
RIGHT_ASCENSION = -1e+32
DECLINATION = -1e+32
OFFSET_ANGLE = -0.4
SPACECRAFT_SOLAR_DISTANCE = 2.0667e+08
TARGET_NAME = MARS
/* CAMERA DATA ELEMENTS */
DETECTOR_TEMPERATURE = 17.7588
FOCAL_PLANE_TEMPERATURE = 9.195
INST_CMPRS_NAME = "DISCRETE COSINE TRANSFORMATION (DCT)"
INST_CMPRS_RATIO = 10.4001
INST_CMPRS_QUALITY = 0
INST_CMPRS_QUANTZ_TBL_ID = 0
INSTRUMENT_TEMPERATURE = 11.234
LENS_TEMPERATURE = 8.7872
MACROPIXEL_SIZE = 2
MISSING_FRAMES = 0
PIXEL_SUBSAMPLING_FLAG = N
SIGNAL_CHAIN_ID = 3
/* RADIOMETRIC DATA ELEMENTS */
BANDWIDTH = 174.0
CENTER_FILTER_WAVELENGTH = 675.0
RADIANCE_OFFSET = 6.15967
RADIANCE_SCALING_FACTOR = 0.0471699
REFLECTANCE_SCALING_FACTOR = 0.00108368
MEX:REFLECTANCE_OFFSET = 0.141512
/* IMAGE OBJECT DEFINITIONS */
OBJECT = IMAGE
  INTERCHANGE_FORMAT = BINARY
  LINES = 37556
  LINE_SAMPLES = 8003
  SAMPLE_TYPE = UNSIGNED_INTEGER
  SAMPLE_BITS = 8
  BANDS = 1
  BAND_STORAGE_TYPE = BAND_SEQUENTIAL
  MAXIMUM = 255
  MEAN = 108.854
  MINIMUM = 1
  STANDARD_DEVIATION = 85.2205
END_OBJECT = IMAGE
/* MAP OBJECT DEFINITIONS */
OBJECT = IMAGE_MAP_PROJECTION
  ^DATA_SET_MAP_PROJECTION_CATALOG= "DSMAP.CAT"
  A_AXIS_RADIUS = 3396.0
  B_AXIS_RADIUS = 3396.0
  C_AXIS_RADIUS = 3396.0
  CENTER_LATITUDE = 0.0
  CENTER_LONGITUDE = 282.0
  COORDINATE_SYSTEM_NAME = PLANETOGRAPHIC
  COORDINATE_SYSTEM_TYPE = "BODY-FIXED ROTATING"
  EASTERNMOST_LONGITUDE = 285.098
  FIRST_STANDARD_PARALLEL = "N/A"
  LINE_FIRST_PIXEL = 1
  LINE_LAST_PIXEL = 37556
  LINE_PROJECTION_OFFSET = -150725.25
  MAP_PROJECTION_ROTATION = 0.0
  MAP_PROJECTION_TYPE = SINUSOIDAL
  MAP_RESOLUTION = 2370.85521546667
  MAP_SCALE = 0.025
  MAXIMUM_LATITUDE = -63.5604
  MINIMUM_LATITUDE = -79.3591
  POSITIVE_LONGITUDE_DIRECTION = EAST
  REFERENCE_LATITUDE = "N/A"
  REFERENCE_LONGITUDE = "N/A"
  SAMPLE_FIRST_PIXEL = 1
  SAMPLE_LAST_PIXEL = 8003
  SAMPLE_PROJECTION_OFFSET = 4734.25
  SECOND_STANDARD_PARALLEL = "N/A"
  WESTERNMOST_LONGITUDE = 271.704
END_OBJECT = IMAGE_MAP_PROJECTION
END
