PDS_VERSION_ID = PDS3
/* FILE DATA ELEMENTS */
RECORD_TYPE = UNDEFINED
/* POINTERS TO DATA OBJECTS */
^IMAGE = ("H4391_0000_RE4.TIF")
/* IDENTIFICATION DATA ELEMENTS */
DATA_SET_ID = "MEX-M-HRSC-4-REFDR-MAPPROJECT-EXT1-V4.0"
DATA_SET_NAME = "MARS EXPRESS HRSC MAP PROJECTED REFDR EXTENSION1 V4.0"
DETECTOR_ID = MEX_HRSC_RED
EVENT_TYPE = "MARS-REGIONAL-MAPPING-Im-Gl-La"
INSTRUMENT_HOST_ID = MEX
INSTRUMENT_HOST_NAME = "MARS EXPRESS"
INSTRUMENT_ID = HRSC
INSTRUMENT_NAME = "HIGH RESOLUTION STEREO CAMERA"
MISSION_NAME = "MARS EXPRESS"
MISSION_PHASE_NAME = ME_Phase_7
PROCESSING_LEVEL_ID = 4
PRODUCT_CREATION_TIME = 2023-02-10T03:49:22.000Z
PRODUCT_ID = "H4391_0000_RE4.TIF"
RELEASE_ID = 0006
REVISION_ID = 0000
/* QUALITY DATA ELEMENTS */
DATA_QUALITY_ID = 1
DATA_QUALITY_DESC = "Data calculated based on original SPICE kernels"
/* TIME DATA ELEMENTS */
SPACECRAFT_CLOCK_START_COUNT = "1/0129186262.09094"
SPACECRAFT_CLOCK_STOP_COUNT = "1/0129186580.08328"
START_TIME = 2007-06-06T05:04:34.291Z
STOP_TIME = 2007-06-06T05:08:51.989Z
/* ORBITAL DATA ELEMENTS */
ASCENDING_NODE_LONGITUDE = 136.38
MAXIMUM_RESOLUTION = 0.0524
FOOTPRINT_POINT_LATITUDE = (-79.5036,-79.3643,-79.2472,-79.1352, -79.1308,-79.0439,-78.5356,-78.0286, -77.6905,-77.1827,-76.8527,-76.3553, -76.0089,-75.6803,-75.3552,-74.8662, -74.538,-74.2089,-73.8785,-73.5476, -73.205,-72.8719,-72.533,-72.2003, -71.8619,-71.5251,-71.2408,-70.8179, -70.5291,-70.2379,-69.9508,-69.6694, -69.3789,-69.0886,-68.653,-68.2156, -67.9234,-67.6299,-67.3372,-67.0525, -66.7672,-66.4815,-66.1949,-65.9085, -65.481,-64.7844,-64.5051,-64.2253, -63.8047,-63.6646,-63.6029,-63.636, -63.6614,-63.6766,-63.6777,-63.6787, -63.9597,-64.2417,-64.5236,-64.8052, -65.0864,-65.6476,-65.9367,-66.3698, -66.6582,-67.0906,-67.3781,-67.6719, -67.968,-68.4112,-68.7065,-69.0011, -69.4413,-69.8806,-70.1751,-70.4572, -70.7451,-71.0384,-71.4763,-71.7793, -72.1225,-72.467,-72.8088,-73.1501, -73.4906,-73.8371,-74.347,-74.6844, -75.189,-75.525,-75.8551,-76.193, -76.7159,-77.0616,-77.5796,-78.1082, -78.6298,-79.1721,-79.3521,-79.5036)
FOOTPRINT_POINT_LONGITUDE = (279.052,275.514,273.191,271.284, 271.215,271.278,272.215,273.06,273.581, 274.302,274.744,275.36,275.76,276.121, 276.46,276.94,277.243,277.533,277.811, 278.077,278.335,278.581,278.817,279.043 ,279.261,279.469,279.638,279.882, 280.039,280.191,280.338,280.48,280.618, 280.753,280.947,281.132,281.252,281.368 ,281.48,281.586,281.689,281.789,281.887 ,281.982,282.118,282.329,282.409, 282.488,282.602,282.639,282.655,283.591 ,284.45,285.107,285.13,285.138,285.102, 285.063,285.022,284.981,284.938,284.85, 284.803,284.731,284.68,284.602,284.548, 284.492,284.433,284.342,284.278,284.213 ,284.113,284.007,283.93,283.876,283.806 ,283.721,283.59,283.5,283.396,283.283, 283.171,283.052,282.929,282.781,282.571 ,282.428,282.199,282.036,281.881, 281.703,281.419,281.202,280.874,280.489 ,280.108,279.63,279.461,279.052)
ORBIT_NUMBER = 4391
ORBITAL_ECCENTRICITY = 0.571
ORBITAL_INCLINATION = 86.68
ORBITAL_SEMIMAJOR_AXIS = 8560.53
PERIAPSIS_ALTITUDE = 292.14
PERIAPSIS_ARGUMENT_ANGLE = 304.74
PERIAPSIS_TIME = 2007-06-06T05:11:24.000Z
SPACECRAFT_ORIENTATION = (0.0,1.0,0.0)
^MEX_ORIENTATION_DESC = "MEX_ORIENTATION_DESC.TXT"
SPACECRAFT_POINTING_MODE = ACROSSTRACK
^MEX_POINTING_DESC = "MEX_POINTING_DESC.TXT"
RIGHT_ASCENSION = -1e+32
DECLINATION = -1e+32
OFFSET_ANGLE = -0.4
SPACECRAFT_SOLAR_DISTANCE = 2.0667e+08
TARGET_NAME = MARS
/* CAMERA DATA ELEMENTS */
DETECTOR_TEMPERATURE = 18.9822
FOCAL_PLANE_TEMPERATURE = 9.195
INST_CMPRS_NAME = "DISCRETE COSINE TRANSFORMATION (DCT)"
INST_CMPRS_RATIO = 15.4157
INST_CMPRS_QUALITY = 0
INST_CMPRS_QUANTZ_TBL_ID = 0
INSTRUMENT_TEMPERATURE = 11.234
LENS_TEMPERATURE = 8.7872
MACROPIXEL_SIZE = 4
MISSING_FRAMES = 2
PIXEL_SUBSAMPLING_FLAG = N
SIGNAL_CHAIN_ID = 2
/* RADIOMETRIC DATA ELEMENTS */
BANDWIDTH = 48.0
CENTER_FILTER_WAVELENGTH = 748.0
RADIANCE_OFFSET = 1.7509
RADIANCE_SCALING_FACTOR = 0.0141775
REFLECTANCE_SCALING_FACTOR = 0.00138191
MEX:REFLECTANCE_OFFSET = 0.170663
/* IMAGE OBJECT DEFINITIONS */
OBJECT = IMAGE
  INTERCHANGE_FORMAT = BINARY
  LINES = 18778
  LINE_SAMPLES = 4002
  SAMPLE_TYPE = UNSIGNED_INTEGER
  SAMPLE_BITS = 8
  BANDS = 1
  BAND_STORAGE_TYPE = BAND_SEQUENTIAL
  MAXIMUM = 255
  MEAN = 96.4404
  MINIMUM = 1
  STANDARD_DEVIATION = 75.8512
END_OBJECT = IMAGE
/* MAP OBJECT DEFINITIONS */
OBJECT = IMAGE_MAP_PROJECTION
  ^DATA_SET_MAP_PROJECTION_CATALOG= "DSMAP.CAT"
  A_AXIS_RADIUS = 3396.0
  B_AXIS_RADIUS = 3396.0
  C_AXIS_RADIUS = 3396.0
  CENTER_LATITUDE = 0.0
  CENTER_LONGITUDE = 282.0
  COORDINATE_SYSTEM_NAME = PLANETOGRAPHIC
  COORDINATE_SYSTEM_TYPE = "BODY-FIXED ROTATING"
  EASTERNMOST_LONGITUDE = 285.138
  FIRST_STANDARD_PARALLEL = "N/A"
  LINE_FIRST_PIXEL = 1
  LINE_LAST_PIXEL = 18778
  LINE_PROJECTION_OFFSET = -75362.875
  MAP_PROJECTION_ROTATION = 0.0
  MAP_PROJECTION_TYPE = SINUSOIDAL
  MAP_RESOLUTION = 1185.42760773333
  MAP_SCALE = 0.05
  MAXIMUM_LATITUDE = -63.6029
  MINIMUM_LATITUDE = -79.50360000000001
  POSITIVE_LONGITUDE_DIRECTION = EAST
  REFERENCE_LATITUDE = "N/A"
  REFERENCE_LONGITUDE = "N/A"
  SAMPLE_FIRST_PIXEL = 1
  SAMPLE_LAST_PIXEL = 4002
  SAMPLE_PROJECTION_OFFSET = 2366.875
  SECOND_STANDARD_PARALLEL = "N/A"
  WESTERNMOST_LONGITUDE = 271.215
END_OBJECT = IMAGE_MAP_PROJECTION
END
