PDS_VERSION_ID = PDS3
/* FILE DATA ELEMENTS */
RECORD_TYPE = UNDEFINED
/* POINTERS TO DATA OBJECTS */
^IMAGE = ("H4396_0000_P14.TIF")
/* IDENTIFICATION DATA ELEMENTS */
DATA_SET_ID = "MEX-M-HRSC-4-REFDR-MAPPROJECT-EXT1-V4.0"
DATA_SET_NAME = "MARS EXPRESS HRSC MAP PROJECTED REFDR EXTENSION1 V4.0"
DETECTOR_ID = MEX_HRSC_P1
EVENT_TYPE = "MARS-REGIONAL-MAPPING-Vo-Te-Fl"
INSTRUMENT_HOST_ID = MEX
INSTRUMENT_HOST_NAME = "MARS EXPRESS"
INSTRUMENT_ID = HRSC
INSTRUMENT_NAME = "HIGH RESOLUTION STEREO CAMERA"
MISSION_NAME = "MARS EXPRESS"
MISSION_PHASE_NAME = ME_Phase_7
PROCESSING_LEVEL_ID = 4
PRODUCT_CREATION_TIME = 2023-02-10T03:49:22.000Z
PRODUCT_ID = "H4396_0000_P14.TIF"
RELEASE_ID = 0006
REVISION_ID = 0000
/* QUALITY DATA ELEMENTS */
DATA_QUALITY_ID = 1
DATA_QUALITY_DESC = "Data calculated based on original SPICE kernels"
/* TIME DATA ELEMENTS */
SPACECRAFT_CLOCK_START_COUNT = "1/0129307574.09085"
SPACECRAFT_CLOCK_STOP_COUNT = "1/0129307849.39954"
START_TIME = 2007-06-07T14:47:01.564Z
STOP_TIME = 2007-06-07T14:50:41.418Z
/* ORBITAL DATA ELEMENTS */
ASCENDING_NODE_LONGITUDE = 136.28
MAXIMUM_RESOLUTION = 0.0476
FOOTPRINT_POINT_LATITUDE = (-58.4239,-58.3986,-58.3772,-58.3544, -58.3536,-58.3946,-57.98,-57.5657, -57.2891,-56.8745,-56.5987,-56.3222, -55.7721,-55.4614,-54.9118,-54.5902, -54.0445,-53.7658,-53.4911,-52.9425, -52.6675,-52.3848,-52.1005,-51.6738, -51.3892,-51.1045,-50.8218,-50.3992, -50.1165,-49.8337,-49.5514,-49.1281, -48.8463,-48.5648,-48.2821,-47.9901, -47.5528,-47.262,-46.9702,-46.6794, -46.3903,-46.0968,-45.6598,-45.3641, -44.9196,-44.6235,-44.3261,-44.1772, -44.0298,-44.041,-44.0547,-44.0618, -44.062,-44.0629,-44.3609,-44.6596, -44.9583,-45.2572,-45.5565,-45.8498, -46.1383,-46.4338,-46.7198,-47.0112, -47.302,-47.5936,-48.0318,-48.3243, -48.6082,-48.8899,-49.1779,-49.6027, -50.0228,-50.3066,-50.7324,-51.1579, -51.4396,-51.7229,-52.0086,-52.2968, -52.5794,-52.9972,-53.2732,-53.5489, -53.8241,-54.1001,-54.3757,-54.6532, -55.1129,-55.528,-55.8368,-56.1135, -56.3899,-56.805,-57.082,-57.3593, -57.7752,-58.1929,-58.3317,-58.4239)
FOOTPRINT_POINT_LONGITUDE = (153.064,152.323,151.768,151.228, 151.211,151.142,151.22,151.296,151.346, 151.418,151.464,151.51,151.595,151.646, 151.726,151.771,151.841,151.882,151.918 ,151.986,152.02,152.053,152.086,152.135 ,152.166,152.198,152.226,152.266, 152.293,152.32,152.347,152.385,152.409, 152.433,152.457,152.481,152.516,152.539 ,152.562,152.583,152.603,152.627, 152.659,152.675,152.699,152.715,152.732 ,152.741,152.749,153.205,153.865, 154.302,154.316,154.321,154.305,154.288 ,154.271,154.254,154.236,154.218,154.2, 154.184,154.164,154.145,154.126,154.107 ,154.078,154.058,154.038,154.018, 153.999,153.968,153.934,153.913,153.879 ,153.844,153.82,153.795,153.771,153.747 ,153.721,153.684,153.659,153.633, 153.606,153.58,153.552,153.525,153.477, 153.433,153.399,153.368,153.336,153.288 ,153.255,153.222,153.17,153.117,153.099 ,153.064)
ORBIT_NUMBER = 4396
ORBITAL_ECCENTRICITY = 0.571
ORBITAL_INCLINATION = 86.68
ORBITAL_SEMIMAJOR_AXIS = 8560.16
PERIAPSIS_ALTITUDE = 292.82
PERIAPSIS_ARGUMENT_ANGLE = 303.88
PERIAPSIS_TIME = 2007-06-07T14:47:23.000Z
SPACECRAFT_ORIENTATION = (0.0,1.0,0.0)
^MEX_ORIENTATION_DESC = "MEX_ORIENTATION_DESC.TXT"
SPACECRAFT_POINTING_MODE = ACROSSTRACK
^MEX_POINTING_DESC = "MEX_POINTING_DESC.TXT"
RIGHT_ASCENSION = -1e+32
DECLINATION = -1e+32
OFFSET_ANGLE = 0.2
SPACECRAFT_SOLAR_DISTANCE = 2.06677e+08
TARGET_NAME = MARS
/* CAMERA DATA ELEMENTS */
DETECTOR_TEMPERATURE = 16.3315
FOCAL_PLANE_TEMPERATURE = 8.3794
INST_CMPRS_NAME = "DISCRETE COSINE TRANSFORMATION (DCT)"
INST_CMPRS_RATIO = 20.0605
INST_CMPRS_QUALITY = 0
INST_CMPRS_QUANTZ_TBL_ID = 0
INSTRUMENT_TEMPERATURE = 11.4379
LENS_TEMPERATURE = 8.7872
MACROPIXEL_SIZE = 4
PIXEL_SUBSAMPLING_FLAG = N
SIGNAL_CHAIN_ID = 3
/* RADIOMETRIC DATA ELEMENTS */
BANDWIDTH = 174.0
CENTER_FILTER_WAVELENGTH = 675.0
RADIANCE_OFFSET = 6.48728
RADIANCE_SCALING_FACTOR = 0.0227495
REFLECTANCE_SCALING_FACTOR = 0.000522686
MEX:REFLECTANCE_OFFSET = 0.14905
/* IMAGE OBJECT DEFINITIONS */
OBJECT = IMAGE
  INTERCHANGE_FORMAT = BINARY
  LINES = 17154
  LINE_SAMPLES = 2273
  SAMPLE_TYPE = UNSIGNED_INTEGER
  SAMPLE_BITS = 8
  BANDS = 1
  BAND_STORAGE_TYPE = BAND_SEQUENTIAL
  MAXIMUM = 255
  MEAN = 115.633
  MINIMUM = 1
  STANDARD_DEVIATION = 39.5967
END_OBJECT = IMAGE
/* MAP OBJECT DEFINITIONS */
OBJECT = IMAGE_MAP_PROJECTION
  ^DATA_SET_MAP_PROJECTION_CATALOG= "DSMAP.CAT"
  A_AXIS_RADIUS = 3396.0
  B_AXIS_RADIUS = 3396.0
  C_AXIS_RADIUS = 3396.0
  CENTER_LATITUDE = 0.0
  CENTER_LONGITUDE = 153.0
  COORDINATE_SYSTEM_NAME = PLANETOGRAPHIC
  COORDINATE_SYSTEM_TYPE = "BODY-FIXED ROTATING"
  EASTERNMOST_LONGITUDE = 154.321
  FIRST_STANDARD_PARALLEL = "N/A"
  LINE_FIRST_PIXEL = 1
  LINE_LAST_PIXEL = 17154
  LINE_PROJECTION_OFFSET = -52186.875
  MAP_PROJECTION_ROTATION = 0.0
  MAP_PROJECTION_TYPE = SINUSOIDAL
  MAP_RESOLUTION = 1185.42760773333
  MAP_SCALE = 0.05
  MAXIMUM_LATITUDE = -44.0298
  MINIMUM_LATITUDE = -58.4239
  POSITIVE_LONGITUDE_DIRECTION = EAST
  REFERENCE_LATITUDE = "N/A"
  REFERENCE_LONGITUDE = "N/A"
  SAMPLE_FIRST_PIXEL = 1
  SAMPLE_LAST_PIXEL = 2273
  SAMPLE_PROJECTION_OFFSET = 1162.375
  SECOND_STANDARD_PARALLEL = "N/A"
  WESTERNMOST_LONGITUDE = 151.142
END_OBJECT = IMAGE_MAP_PROJECTION
END
