PDS_VERSION_ID = PDS3
/* FILE DATA ELEMENTS */
RECORD_TYPE = UNDEFINED
/* POINTERS TO DATA OBJECTS */
^IMAGE = ("H4397_0000_P24.TIF")
/* IDENTIFICATION DATA ELEMENTS */
DATA_SET_ID = "MEX-M-HRSC-4-REFDR-MAPPROJECT-EXT1-V4.0"
DATA_SET_NAME = "MARS EXPRESS HRSC MAP PROJECTED REFDR EXTENSION1 V4.0"
DETECTOR_ID = MEX_HRSC_P2
EVENT_TYPE = "MARS-REGIONAL-MAPPING-Vo-Te-Gl"
INSTRUMENT_HOST_ID = MEX
INSTRUMENT_HOST_NAME = "MARS EXPRESS"
INSTRUMENT_ID = HRSC
INSTRUMENT_NAME = "HIGH RESOLUTION STEREO CAMERA"
MISSION_NAME = "MARS EXPRESS"
MISSION_PHASE_NAME = ME_Phase_7
PROCESSING_LEVEL_ID = 4
PRODUCT_CREATION_TIME = 2023-02-10T03:49:22.000Z
PRODUCT_ID = "H4397_0000_P24.TIF"
RELEASE_ID = 0006
REVISION_ID = 0000
/* QUALITY DATA ELEMENTS */
DATA_QUALITY_ID = 1
DATA_QUALITY_DESC = "Data calculated based on original SPICE kernels"
/* TIME DATA ELEMENTS */
SPACECRAFT_CLOCK_START_COUNT = "1/0129331566.09059"
SPACECRAFT_CLOCK_STOP_COUNT = "1/0129331899.39949"
START_TIME = 2007-06-07T21:26:21.879Z
STOP_TIME = 2007-06-07T21:30:58.850Z
/* ORBITAL DATA ELEMENTS */
ASCENDING_NODE_LONGITUDE = 136.26
MAXIMUM_RESOLUTION = 0.048
FOOTPRINT_POINT_LATITUDE = (-71.3715,-71.2449,-71.1845,-71.1823, -71.1139,-70.7362,-70.3569,-69.9746, -69.5933,-69.0204,-68.4562,-68.0799, -67.5199,-66.9611,-66.5965,-66.2303, -65.8631,-65.4946,-64.9445,-64.5886, -64.2321,-63.8748,-63.5171,-63.1588, -62.7999,-62.4443,-62.0975,-61.5763, -61.0545,-60.7061,-60.3562,-60.0058, -59.4808,-59.1289,-58.775,-58.427, -58.0876,-57.5781,-57.2381,-56.8968, -56.5542,-56.212,-55.8692,-55.3554, -54.8396,-54.4963,-53.9812,-53.4648, -53.2931,-53.2621,-53.3011,-53.3229, -53.3234,-53.3243,-53.6697,-54.0149, -54.5321,-54.8771,-55.394,-55.7387, -56.0827,-56.4266,-56.77,-57.1132, -57.6269,-57.9689,-58.3101,-58.6524, -59.0057,-59.536,-59.8901,-60.2408, -60.5924,-61.1194,-61.4665,-61.82, -62.1704,-62.5189,-62.8755,-63.237, -63.5982,-63.9588,-64.3192,-64.8591, -65.2189,-65.5908,-65.9611,-66.331, -66.701,-67.0691,-67.6336,-68.0127, -68.5807,-69.1533,-69.5436,-70.1217, -70.5082,-71.0857,-71.2779,-71.3715)
FOOTPRINT_POINT_LONGITUDE = (52.4554,49.8972,48.8969,48.8637, 48.8087,49.0449,49.2712,49.4872,49.696, 49.995,50.2693,50.4401,50.689,50.9207, 51.0651,51.204,51.3381,51.4672,51.6507, 51.7665,51.8787,51.9872,52.0925,52.1945 ,52.2933,52.3889,52.4788,52.6086, 52.7331,52.8132,52.8902,52.9651,53.0741 ,53.1434,53.2096,53.2739,53.3353, 53.4246,53.4821,53.5374,53.5906,53.6427 ,53.6932,53.7668,53.8365,53.8819, 53.9478,54.0105,54.0311,54.0348,55.0082 ,55.7298,55.7459,55.7512,55.7218, 55.6917,55.6457,55.6136,55.5645,55.5305 ,55.4961,55.4608,55.425,55.3882,55.332, 55.2936,55.2547,55.2141,55.1721,55.1062 ,55.0597,55.0154,54.9685,54.8955, 54.8495,54.7945,54.741,54.6879,54.632, 54.5725,54.5111,54.448,54.3825,54.2804, 54.2094,54.1334,54.0564,53.9765,53.8929 ,53.8084,53.6713,53.5761,53.4255, 53.2626,53.1458,52.9721,52.8466,52.6498 ,52.5812,52.4554)
ORBIT_NUMBER = 4397
ORBITAL_ECCENTRICITY = 0.571
ORBITAL_INCLINATION = 86.69
ORBITAL_SEMIMAJOR_AXIS = 8560.55
PERIAPSIS_ALTITUDE = 291.9
PERIAPSIS_ARGUMENT_ANGLE = 303.7
PERIAPSIS_TIME = 2007-06-07T21:30:33.000Z
SPACECRAFT_ORIENTATION = (0.0,1.0,0.0)
^MEX_ORIENTATION_DESC = "MEX_ORIENTATION_DESC.TXT"
SPACECRAFT_POINTING_MODE = NADIR
^MEX_POINTING_DESC = "MEX_POINTING_DESC.TXT"
RIGHT_ASCENSION = -1e+32
DECLINATION = -1e+32
OFFSET_ANGLE = -1e+32
SPACECRAFT_SOLAR_DISTANCE = 2.06679e+08
TARGET_NAME = MARS
/* CAMERA DATA ELEMENTS */
DETECTOR_TEMPERATURE = 18.5744
FOCAL_PLANE_TEMPERATURE = 8.5833
INST_CMPRS_NAME = "DISCRETE COSINE TRANSFORMATION (DCT)"
INST_CMPRS_RATIO = 10.8498
INST_CMPRS_QUALITY = 0
INST_CMPRS_QUANTZ_TBL_ID = 0
INSTRUMENT_TEMPERATURE = 11.234
LENS_TEMPERATURE = 8.7872
MACROPIXEL_SIZE = 4
MISSING_FRAMES = 0
PIXEL_SUBSAMPLING_FLAG = N
SIGNAL_CHAIN_ID = 3
/* RADIOMETRIC DATA ELEMENTS */
BANDWIDTH = 177.0
CENTER_FILTER_WAVELENGTH = 676.5
RADIANCE_OFFSET = 6.12558
RADIANCE_SCALING_FACTOR = 0.0228994
REFLECTANCE_SCALING_FACTOR = 0.000518648
MEX:REFLECTANCE_OFFSET = 0.138738
/* IMAGE OBJECT DEFINITIONS */
OBJECT = IMAGE
  INTERCHANGE_FORMAT = BINARY
  LINES = 21389
  LINE_SAMPLES = 3217
  SAMPLE_TYPE = UNSIGNED_INTEGER
  SAMPLE_BITS = 8
  BANDS = 1
  BAND_STORAGE_TYPE = BAND_SEQUENTIAL
  MAXIMUM = 255
  MEAN = 93.9953
  MINIMUM = 1
  STANDARD_DEVIATION = 31.7725
END_OBJECT = IMAGE
/* MAP OBJECT DEFINITIONS */
OBJECT = IMAGE_MAP_PROJECTION
  ^DATA_SET_MAP_PROJECTION_CATALOG= "DSMAP.CAT"
  A_AXIS_RADIUS = 3396.0
  B_AXIS_RADIUS = 3396.0
  C_AXIS_RADIUS = 3396.0
  CENTER_LATITUDE = 0.0
  CENTER_LONGITUDE = 54.0
  COORDINATE_SYSTEM_NAME = PLANETOGRAPHIC
  COORDINATE_SYSTEM_TYPE = "BODY-FIXED ROTATING"
  EASTERNMOST_LONGITUDE = 55.7512
  FIRST_STANDARD_PARALLEL = "N/A"
  LINE_FIRST_PIXEL = 1
  LINE_LAST_PIXEL = 21389
  LINE_PROJECTION_OFFSET = -63132.875
  MAP_PROJECTION_ROTATION = 0.0
  MAP_PROJECTION_TYPE = SINUSOIDAL
  MAP_RESOLUTION = 1185.42760773333
  MAP_SCALE = 0.05
  MAXIMUM_LATITUDE = -53.2621
  MINIMUM_LATITUDE = -71.3715
  POSITIVE_LONGITUDE_DIRECTION = EAST
  REFERENCE_LATITUDE = "N/A"
  REFERENCE_LONGITUDE = "N/A"
  SAMPLE_FIRST_PIXEL = 1
  SAMPLE_LAST_PIXEL = 3217
  SAMPLE_PROJECTION_OFFSET = 1975.375
  SECOND_STANDARD_PARALLEL = "N/A"
  WESTERNMOST_LONGITUDE = 48.8087
END_OBJECT = IMAGE_MAP_PROJECTION
END
