PDS_VERSION_ID = PDS3
/* FILE DATA ELEMENTS */
RECORD_TYPE = UNDEFINED
/* POINTERS TO DATA OBJECTS */
^IMAGE = ("H4408_0000_BL4.TIF")
/* IDENTIFICATION DATA ELEMENTS */
DATA_SET_ID = "MEX-M-HRSC-4-REFDR-MAPPROJECT-EXT1-V4.0"
DATA_SET_NAME = "MARS EXPRESS HRSC MAP PROJECTED REFDR EXTENSION1 V4.0"
DETECTOR_ID = MEX_HRSC_BLUE
EVENT_TYPE = "MARS-REGIONAL-MAPPING-Vo-Te-Gl"
INSTRUMENT_HOST_ID = MEX
INSTRUMENT_HOST_NAME = "MARS EXPRESS"
INSTRUMENT_ID = HRSC
INSTRUMENT_NAME = "HIGH RESOLUTION STEREO CAMERA"
MISSION_NAME = "MARS EXPRESS"
MISSION_PHASE_NAME = ME_Phase_7
PROCESSING_LEVEL_ID = 4
PRODUCT_CREATION_TIME = 2023-02-10T03:49:22.000Z
PRODUCT_ID = "H4408_0000_BL4.TIF"
RELEASE_ID = 0006
REVISION_ID = 0000
/* QUALITY DATA ELEMENTS */
DATA_QUALITY_ID = 1
DATA_QUALITY_DESC = "Data calculated based on original SPICE kernels"
/* TIME DATA ELEMENTS */
SPACECRAFT_CLOCK_START_COUNT = "1/0129597712.08246"
SPACECRAFT_CLOCK_STOP_COUNT = "1/0129598041.23648"
START_TIME = 2007-06-10T23:22:22.390Z
STOP_TIME = 2007-06-10T23:26:53.043Z
/* ORBITAL DATA ELEMENTS */
ASCENDING_NODE_LONGITUDE = 136.03
MAXIMUM_RESOLUTION = 0.0464
FOOTPRINT_POINT_LATITUDE = (-71.2262,-71.1211,-71.0397,-71.0376, -71.012,-70.633,-70.2529,-69.6858, -69.1311,-68.761,-68.2036,-67.8314, -67.4688,-67.1091,-66.7476,-66.3855, -66.0234,-65.6601,-65.1158,-64.764, -64.4127,-64.061,-63.7087,-63.3562, -63.0033,-62.65,-62.2964,-61.7663, -61.4126,-60.8884,-60.2056,-59.6923, -59.0075,-58.4925,-57.9777,-57.6345, -57.291,-56.9476,-56.6035,-56.0872, -55.743,-55.3989,-54.8825,-54.5381, -54.194,-53.8498,-53.5058,-53.3338, -53.3294,-53.3593,-53.3989,-53.3995, -53.4004,-53.7457,-54.0911,-54.6091, -54.9546,-55.3001,-55.8181,-56.1636, -56.509,-56.8544,-57.1996,-57.5445, -57.8891,-58.234,-58.7512,-59.2683, -59.7832,-60.1271,-60.4723,-60.8161, -61.1594,-61.6914,-62.0476,-62.4036, -62.9369,-63.2922,-63.6473,-64.1798, -64.5342,-64.8883,-65.2429,-65.6077, -65.9742,-66.3402,-66.7058,-67.0709, -67.4357,-67.8001,-68.3607,-68.7368, -69.1125,-69.4868,-69.861,-70.2426, -70.6288,-71.0143,-71.2067,-71.2262)
FOOTPRINT_POINT_LONGITUDE = (50.6623,48.6661,47.3571,47.326,47.2169 ,47.4592,47.6907,48.0171,48.3167, 48.5095,48.7819,48.9562,49.1165,49.2761 ,49.4257,49.5701,49.7113,49.8452, 50.0364,50.1537,50.2706,50.384,50.4931, 50.5991,50.7019,50.8012,50.8977,51.0395 ,51.1309,51.2535,51.4144,51.527,51.6706 ,51.7695,51.8663,51.9289,51.9896, 52.0489,52.1045,52.1855,52.2376,52.2887 ,52.3625,52.4096,52.4561,52.5015, 52.5459,52.5676,52.5681,53.2582,54.27, 54.2859,54.2912,54.2579,54.2238,54.1713 ,54.1352,54.0981,54.0414,54.0021, 53.9619,53.9208,53.8789,53.8365,53.7934 ,53.7487,53.6793,53.6071,53.5362, 53.4859,53.4308,53.3773,53.3229,53.2355 ,53.1749,53.1124,53.0161,52.9493, 52.8804,52.7726,52.6986,52.6223,52.5417 ,52.4573,52.37,52.2797,52.1868,52.0909, 51.9915,51.8887,51.7229,51.607,51.4863, 51.3639,51.2358,51.0984,50.9536,50.8031 ,50.7256,50.6623)
ORBIT_NUMBER = 4408
ORBITAL_ECCENTRICITY = 0.571
ORBITAL_INCLINATION = 86.69
ORBITAL_SEMIMAJOR_AXIS = 8557.67
PERIAPSIS_ALTITUDE = 291.87
PERIAPSIS_ARGUMENT_ANGLE = 301.78
PERIAPSIS_TIME = 2007-06-10T23:25:47.000Z
SPACECRAFT_ORIENTATION = (0.0,1.0,0.0)
^MEX_ORIENTATION_DESC = "MEX_ORIENTATION_DESC.TXT"
SPACECRAFT_POINTING_MODE = ACROSSTRACK
^MEX_POINTING_DESC = "MEX_POINTING_DESC.TXT"
RIGHT_ASCENSION = -1e+32
DECLINATION = -1e+32
OFFSET_ANGLE = 0.2
SPACECRAFT_SOLAR_DISTANCE = 2.06711e+08
TARGET_NAME = MARS
/* CAMERA DATA ELEMENTS */
DETECTOR_TEMPERATURE = 18.3705
FOCAL_PLANE_TEMPERATURE = 8.5833
INST_CMPRS_NAME = "DISCRETE COSINE TRANSFORMATION (DCT)"
INST_CMPRS_RATIO = 11.8961
INST_CMPRS_QUALITY = 0
INST_CMPRS_QUANTZ_TBL_ID = 0
INSTRUMENT_TEMPERATURE = 11.234
LENS_TEMPERATURE = 9.195
MACROPIXEL_SIZE = 4
MISSING_FRAMES = 0
PIXEL_SUBSAMPLING_FLAG = N
SIGNAL_CHAIN_ID = 2
/* RADIOMETRIC DATA ELEMENTS */
BANDWIDTH = 76.0
CENTER_FILTER_WAVELENGTH = 444.0
RADIANCE_OFFSET = 0.865945
RADIANCE_SCALING_FACTOR = 0.00305246
REFLECTANCE_SCALING_FACTOR = 0.000134009
MEX:REFLECTANCE_OFFSET = 0.0380168
/* IMAGE OBJECT DEFINITIONS */
OBJECT = IMAGE
  INTERCHANGE_FORMAT = BINARY
  LINES = 21192
  LINE_SAMPLES = 3471
  SAMPLE_TYPE = UNSIGNED_INTEGER
  SAMPLE_BITS = 8
  BANDS = 1
  BAND_STORAGE_TYPE = BAND_SEQUENTIAL
  MAXIMUM = 255
  MEAN = 62.4608
  MINIMUM = 1
  STANDARD_DEVIATION = 24.3399
END_OBJECT = IMAGE
/* MAP OBJECT DEFINITIONS */
OBJECT = IMAGE_MAP_PROJECTION
  ^DATA_SET_MAP_PROJECTION_CATALOG= "DSMAP.CAT"
  A_AXIS_RADIUS = 3396.0
  B_AXIS_RADIUS = 3396.0
  C_AXIS_RADIUS = 3396.0
  CENTER_LATITUDE = 0.0
  CENTER_LONGITUDE = 52.0
  COORDINATE_SYSTEM_NAME = PLANETOGRAPHIC
  COORDINATE_SYSTEM_TYPE = "BODY-FIXED ROTATING"
  EASTERNMOST_LONGITUDE = 54.2912
  FIRST_STANDARD_PARALLEL = "N/A"
  LINE_FIRST_PIXEL = 1
  LINE_LAST_PIXEL = 21192
  LINE_PROJECTION_OFFSET = -63226.625
  MAP_PROJECTION_ROTATION = 0.0
  MAP_PROJECTION_TYPE = SINUSOIDAL
  MAP_RESOLUTION = 1185.42760773333
  MAP_SCALE = 0.05
  MAXIMUM_LATITUDE = -53.3294
  MINIMUM_LATITUDE = -71.22620000000001
  POSITIVE_LONGITUDE_DIRECTION = EAST
  REFERENCE_LATITUDE = "N/A"
  REFERENCE_LONGITUDE = "N/A"
  SAMPLE_FIRST_PIXEL = 1
  SAMPLE_LAST_PIXEL = 3471
  SAMPLE_PROJECTION_OFFSET = 1850.625
  SECOND_STANDARD_PARALLEL = "N/A"
  WESTERNMOST_LONGITUDE = 47.2169
END_OBJECT = IMAGE_MAP_PROJECTION
END
