PDS_VERSION_ID = PDS3
/* FILE DATA ELEMENTS */
RECORD_TYPE = UNDEFINED
/* POINTERS TO DATA OBJECTS */
^IMAGE = ("H4408_0000_S14.TIF")
/* IDENTIFICATION DATA ELEMENTS */
DATA_SET_ID = "MEX-M-HRSC-4-REFDR-MAPPROJECT-EXT1-V4.0"
DATA_SET_NAME = "MARS EXPRESS HRSC MAP PROJECTED REFDR EXTENSION1 V4.0"
DETECTOR_ID = MEX_HRSC_S1
EVENT_TYPE = "MARS-REGIONAL-MAPPING-Vo-Te-Gl"
INSTRUMENT_HOST_ID = MEX
INSTRUMENT_HOST_NAME = "MARS EXPRESS"
INSTRUMENT_ID = HRSC
INSTRUMENT_NAME = "HIGH RESOLUTION STEREO CAMERA"
MISSION_NAME = "MARS EXPRESS"
MISSION_PHASE_NAME = ME_Phase_7
PROCESSING_LEVEL_ID = 4
PRODUCT_CREATION_TIME = 2023-02-10T03:49:22.000Z
PRODUCT_ID = "H4408_0000_S14.TIF"
RELEASE_ID = 0006
REVISION_ID = 0000
/* QUALITY DATA ELEMENTS */
DATA_QUALITY_ID = 1
DATA_QUALITY_DESC = "Data calculated based on original SPICE kernels"
/* TIME DATA ELEMENTS */
SPACECRAFT_CLOCK_START_COUNT = "1/0129597712.08246"
SPACECRAFT_CLOCK_STOP_COUNT = "1/0129598041.23648"
START_TIME = 2007-06-10T23:22:56.226Z
STOP_TIME = 2007-06-10T23:27:23.478Z
/* ORBITAL DATA ELEMENTS */
ASCENDING_NODE_LONGITUDE = 136.03
MAXIMUM_RESOLUTION = 0.0246
FOOTPRINT_POINT_LATITUDE = (-71.0847,-70.9918,-70.927,-70.9252, -71.0054,-70.6231,-70.0509,-69.4914, -69.1217,-68.7496,-68.1946,-67.8233, -67.2684,-66.9063,-66.5495,-66.1915, -65.6554,-65.2987,-64.9436,-64.5868, -64.2282,-63.8699,-63.5119,-62.9797, -62.6351,-62.2901,-61.9434,-61.598, -61.0843,-60.74,-60.3909,-59.8756, -59.5315,-59.1874,-58.8449,-58.5038, -58.1615,-57.8189,-57.4766,-57.1345, -56.7937,-55.9457,-55.2674,-54.7596, -54.4125,-54.0614,-53.7108,-53.535, -53.3605,-53.3963,-53.4135,-53.4139, -53.4144,-53.7653,-54.1166,-54.4685, -54.8163,-55.4941,-55.8354,-56.3451, -56.6853,-57.0261,-57.3688,-57.7122, -58.2279,-58.5722,-58.9142,-59.2577, -59.609,-59.9567,-60.6405,-60.988, -61.3346,-61.6818,-62.029,-62.3761, -62.7255,-63.0725,-63.6088,-63.969, -64.3298,-64.6915,-65.0514,-65.4083, -65.7695,-66.1297,-66.49,-66.8512, -67.212,-67.5812,-67.9551,-68.3279, -68.7024,-69.2639,-69.6418,-70.017, -70.4025,-70.7894,-70.9829,-71.0847)
FOOTPRINT_POINT_LONGITUDE = (50.673,48.6665,47.4727,47.4413,47.2636 ,47.5048,47.8435,48.1551,48.3506, 48.5423,48.8097,48.9813,49.223,49.3776, 49.5202,49.6597,49.8581,49.9836,50.1027 ,50.2201,50.336,50.4477,50.5555,50.71, 50.8055,50.8989,50.9914,51.0797,51.2022 ,51.2832,51.3673,51.4799,51.5531, 51.6243,51.6919,51.7562,51.8202,51.8828 ,51.9436,52.0027,52.0589,52.19,52.2895, 52.3602,52.4068,52.4528,52.4975,52.5198 ,52.5414,53.4829,54.2853,54.3022, 54.3083,54.2736,54.2381,54.2018,54.1649 ,54.0904,54.0521,53.9925,53.9515, 53.9097,53.8671,53.8235,53.7562,53.7099 ,53.6618,53.6128,53.5641,53.5133, 53.4049,53.3496,53.2926,53.2341,53.1739 ,53.112,53.0487,52.9831,52.8784,52.805, 52.7293,52.6514,52.5707,52.4868,52.401, 52.3122,52.2205,52.1258,52.0278,51.924, 51.815,51.7018,51.5846,51.4004,51.2722, 51.1385,50.9944,50.8439,50.7662,50.673)
ORBIT_NUMBER = 4408
ORBITAL_ECCENTRICITY = 0.571
ORBITAL_INCLINATION = 86.69
ORBITAL_SEMIMAJOR_AXIS = 8557.67
PERIAPSIS_ALTITUDE = 291.87
PERIAPSIS_ARGUMENT_ANGLE = 301.78
PERIAPSIS_TIME = 2007-06-10T23:25:47.000Z
SPACECRAFT_ORIENTATION = (0.0,1.0,0.0)
^MEX_ORIENTATION_DESC = "MEX_ORIENTATION_DESC.TXT"
SPACECRAFT_POINTING_MODE = ACROSSTRACK
^MEX_POINTING_DESC = "MEX_POINTING_DESC.TXT"
RIGHT_ASCENSION = -1e+32
DECLINATION = -1e+32
OFFSET_ANGLE = 0.2
SPACECRAFT_SOLAR_DISTANCE = 2.06711e+08
TARGET_NAME = MARS
/* CAMERA DATA ELEMENTS */
DETECTOR_TEMPERATURE = 17.351
FOCAL_PLANE_TEMPERATURE = 8.5833
INST_CMPRS_NAME = "DISCRETE COSINE TRANSFORMATION (DCT)"
INST_CMPRS_RATIO = 9.60909
INST_CMPRS_QUALITY = 0
INST_CMPRS_QUANTZ_TBL_ID = 0
INSTRUMENT_TEMPERATURE = 11.234
LENS_TEMPERATURE = 9.195
MACROPIXEL_SIZE = 2
MISSING_FRAMES = 0
PIXEL_SUBSAMPLING_FLAG = N
SIGNAL_CHAIN_ID = 1
/* RADIOMETRIC DATA ELEMENTS */
BANDWIDTH = 180.0
CENTER_FILTER_WAVELENGTH = 677.0
RADIANCE_OFFSET = 6.70334
RADIANCE_SCALING_FACTOR = 0.0209741
REFLECTANCE_SCALING_FACTOR = 0.000467579
MEX:REFLECTANCE_OFFSET = 0.149438
/* IMAGE OBJECT DEFINITIONS */
OBJECT = IMAGE
  INTERCHANGE_FORMAT = BINARY
  LINES = 42383
  LINE_SAMPLES = 6942
  SAMPLE_TYPE = UNSIGNED_INTEGER
  SAMPLE_BITS = 8
  BANDS = 1
  BAND_STORAGE_TYPE = BAND_SEQUENTIAL
  MAXIMUM = 255
  MEAN = 144.624
  MINIMUM = 1
  STANDARD_DEVIATION = 39.8216
END_OBJECT = IMAGE
/* MAP OBJECT DEFINITIONS */
OBJECT = IMAGE_MAP_PROJECTION
  ^DATA_SET_MAP_PROJECTION_CATALOG= "DSMAP.CAT"
  A_AXIS_RADIUS = 3396.0
  B_AXIS_RADIUS = 3396.0
  C_AXIS_RADIUS = 3396.0
  CENTER_LATITUDE = 0.0
  CENTER_LONGITUDE = 52.0
  COORDINATE_SYSTEM_NAME = PLANETOGRAPHIC
  COORDINATE_SYSTEM_TYPE = "BODY-FIXED ROTATING"
  EASTERNMOST_LONGITUDE = 54.3083
  FIRST_STANDARD_PARALLEL = "N/A"
  LINE_FIRST_PIXEL = 1
  LINE_LAST_PIXEL = 42383
  LINE_PROJECTION_OFFSET = -126452.75
  MAP_PROJECTION_ROTATION = 0.0
  MAP_PROJECTION_TYPE = SINUSOIDAL
  MAP_RESOLUTION = 2370.85521546667
  MAP_SCALE = 0.025
  MAXIMUM_LATITUDE = -53.3605
  MINIMUM_LATITUDE = -71.0847
  POSITIVE_LONGITUDE_DIRECTION = EAST
  REFERENCE_LATITUDE = "N/A"
  REFERENCE_LONGITUDE = "N/A"
  SAMPLE_FIRST_PIXEL = 1
  SAMPLE_LAST_PIXEL = 6942
  SAMPLE_PROJECTION_OFFSET = 3701.75
  SECOND_STANDARD_PARALLEL = "N/A"
  WESTERNMOST_LONGITUDE = 47.2636
END_OBJECT = IMAGE_MAP_PROJECTION
END
