PDS_VERSION_ID = PDS3
/* FILE DATA ELEMENTS */
RECORD_TYPE = UNDEFINED
/* POINTERS TO DATA OBJECTS */
^IMAGE = ("H4411_0000_P24.TIF")
/* IDENTIFICATION DATA ELEMENTS */
DATA_SET_ID = "MEX-M-HRSC-4-REFDR-MAPPROJECT-EXT1-V4.0"
DATA_SET_NAME = "MARS EXPRESS HRSC MAP PROJECTED REFDR EXTENSION1 V4.0"
DETECTOR_ID = MEX_HRSC_P2
EVENT_TYPE = "MARS-REGIONAL-MAPPING-Te-Gl-La"
INSTRUMENT_HOST_ID = MEX
INSTRUMENT_HOST_NAME = "MARS EXPRESS"
INSTRUMENT_ID = HRSC
INSTRUMENT_NAME = "HIGH RESOLUTION STEREO CAMERA"
MISSION_NAME = "MARS EXPRESS"
MISSION_PHASE_NAME = ME_Phase_7
PROCESSING_LEVEL_ID = 4
PRODUCT_CREATION_TIME = 2023-02-10T03:49:22.000Z
PRODUCT_ID = "H4411_0000_P24.TIF"
RELEASE_ID = 0006
REVISION_ID = 0000
/* QUALITY DATA ELEMENTS */
DATA_QUALITY_ID = 1
DATA_QUALITY_DESC = "Data calculated based on original SPICE kernels"
/* TIME DATA ELEMENTS */
SPACECRAFT_CLOCK_START_COUNT = "1/0129670140.08217"
SPACECRAFT_CLOCK_STOP_COUNT = "1/0129670407.14986"
START_TIME = 2007-06-11T19:29:18.762Z
STOP_TIME = 2007-06-11T19:32:43.769Z
/* ORBITAL DATA ELEMENTS */
ASCENDING_NODE_LONGITUDE = 135.97
MAXIMUM_RESOLUTION = 0.0519
FOOTPRINT_POINT_LATITUDE = (-80.6875,-80.574,-80.3997,-80.2212, -80.2159,-80.142,-79.8833,-79.6207, -79.3581,-79.1013,-78.8427,-78.5831, -78.3219,-77.9275,-77.6634,-77.3962, -77.1306,-76.8663,-76.5986,-76.3262, -76.0513,-75.7777,-75.5036,-75.2466, -75.0164,-74.6749,-74.4408,-74.0914, -73.8582,-73.6239,-73.3884,-73.1515, -72.7959,-72.5595,-72.3222,-72.0838, -71.8447,-71.6059,-71.3665,-71.1295, -70.8969,-70.5484,-70.316,-70.0837, -69.8509,-69.6146,-69.1539,-68.6976, -68.0129,-67.8985,-67.8565,-67.9259, -67.9995,-68.0006,-68.0018,-68.5808, -69.0433,-69.3883,-69.8547,-70.0926, -70.4484,-70.8037,-71.0409,-71.2776, -71.5175,-71.7557,-71.9979,-72.2401, -72.482,-72.7235,-72.968,-73.3348, -73.5721,-73.813,-74.0525,-74.2927, -74.5333,-74.7723,-75.1292,-75.3607, -75.597,-76.0197,-76.3031,-76.5825, -76.8597,-77.1383,-77.4168,-77.6949, -77.972,-78.2483,-78.5239,-78.7992, -79.0748,-79.3475,-79.6165,-79.8873, -80.168,-80.4445,-80.5819,-80.6875)
FOOTPRINT_POINT_LONGITUDE = (108.975,106.698,103.757,101.204, 101.135,101.12,101.791,102.43,103.032, 103.596,104.134,104.647,105.138,105.835 ,106.275,106.695,107.099,107.489, 107.861,108.217,108.558,108.887,109.204 ,109.49,109.737,110.098,110.326,110.656 ,110.869,111.075,111.275,111.468, 111.748,111.929,112.105,112.275,112.441 ,112.603,112.76,112.911,113.055,113.265 ,113.401,113.534,113.664,113.789, 114.023,114.246,114.564,114.615,114.633 ,115.873,117.507,117.534,117.543, 117.385,117.251,117.149,117.003,116.926 ,116.807,116.683,116.596,116.508, 116.415,116.33,116.234,116.135,116.033, 115.928,115.813,115.632,115.523,115.401 ,115.277,115.148,115.012,114.875, 114.664,114.532,114.383,114.094,113.889 ,113.687,113.48,113.257,113.024,112.778 ,112.522,112.255,111.975,111.679, 111.364,111.042,110.715,110.36,109.958, 109.548,109.336,108.975)
ORBIT_NUMBER = 4411
ORBITAL_ECCENTRICITY = 0.571
ORBITAL_INCLINATION = 86.68
ORBITAL_SEMIMAJOR_AXIS = 8557.89
PERIAPSIS_ALTITUDE = 291.9
PERIAPSIS_ARGUMENT_ANGLE = 301.24
PERIAPSIS_TIME = 2007-06-11T19:35:24.000Z
SPACECRAFT_ORIENTATION = (0.0,1.0,0.0)
^MEX_ORIENTATION_DESC = "MEX_ORIENTATION_DESC.TXT"
SPACECRAFT_POINTING_MODE = NADIR
^MEX_POINTING_DESC = "MEX_POINTING_DESC.TXT"
RIGHT_ASCENSION = -1e+32
DECLINATION = -1e+32
OFFSET_ANGLE = -1e+32
SPACECRAFT_SOLAR_DISTANCE = 2.06724e+08
TARGET_NAME = MARS
/* CAMERA DATA ELEMENTS */
DETECTOR_TEMPERATURE = 18.7783
FOCAL_PLANE_TEMPERATURE = 8.7872
INST_CMPRS_NAME = "DISCRETE COSINE TRANSFORMATION (DCT)"
INST_CMPRS_RATIO = 11.7508
INST_CMPRS_QUALITY = 0
INST_CMPRS_QUANTZ_TBL_ID = 0
INSTRUMENT_TEMPERATURE = 12.2535
LENS_TEMPERATURE = 8.9911
MACROPIXEL_SIZE = 4
MISSING_FRAMES = 0
PIXEL_SUBSAMPLING_FLAG = N
SIGNAL_CHAIN_ID = 3
/* RADIOMETRIC DATA ELEMENTS */
BANDWIDTH = 177.0
CENTER_FILTER_WAVELENGTH = 676.5
RADIANCE_OFFSET = 6.05845
RADIANCE_SCALING_FACTOR = 0.0135384
REFLECTANCE_SCALING_FACTOR = 0.000306765
MEX:REFLECTANCE_OFFSET = 0.137277
/* IMAGE OBJECT DEFINITIONS */
OBJECT = IMAGE
  INTERCHANGE_FORMAT = BINARY
  LINES = 15123
  LINE_SAMPLES = 4386
  SAMPLE_TYPE = UNSIGNED_INTEGER
  SAMPLE_BITS = 8
  BANDS = 1
  BAND_STORAGE_TYPE = BAND_SEQUENTIAL
  MAXIMUM = 255
  MEAN = 108.863
  MINIMUM = 1
  STANDARD_DEVIATION = 30.9283
END_OBJECT = IMAGE
/* MAP OBJECT DEFINITIONS */
OBJECT = IMAGE_MAP_PROJECTION
  ^DATA_SET_MAP_PROJECTION_CATALOG= "DSMAP.CAT"
  A_AXIS_RADIUS = 3396.0
  B_AXIS_RADIUS = 3396.0
  C_AXIS_RADIUS = 3396.0
  CENTER_LATITUDE = 0.0
  CENTER_LONGITUDE = 113.0
  COORDINATE_SYSTEM_NAME = PLANETOGRAPHIC
  COORDINATE_SYSTEM_TYPE = "BODY-FIXED ROTATING"
  EASTERNMOST_LONGITUDE = 117.543
  FIRST_STANDARD_PARALLEL = "N/A"
  LINE_FIRST_PIXEL = 1
  LINE_LAST_PIXEL = 15123
  LINE_PROJECTION_OFFSET = -80427.625
  MAP_PROJECTION_ROTATION = 0.0
  MAP_PROJECTION_TYPE = SINUSOIDAL
  MAP_RESOLUTION = 1185.42760773333
  MAP_SCALE = 0.05
  MAXIMUM_LATITUDE = -67.8565
  MINIMUM_LATITUDE = -80.6875
  POSITIVE_LONGITUDE_DIRECTION = EAST
  REFERENCE_LATITUDE = "N/A"
  REFERENCE_LONGITUDE = "N/A"
  SAMPLE_FIRST_PIXEL = 1
  SAMPLE_LAST_PIXEL = 4386
  SAMPLE_PROJECTION_OFFSET = 2378.375
  SECOND_STANDARD_PARALLEL = "N/A"
  WESTERNMOST_LONGITUDE = 101.12
END_OBJECT = IMAGE_MAP_PROJECTION
END
