PDS_VERSION_ID = PDS3
/* FILE DATA ELEMENTS */
RECORD_TYPE = UNDEFINED
/* POINTERS TO DATA OBJECTS */
^IMAGE = ("H4413_0000_P14.TIF")
/* IDENTIFICATION DATA ELEMENTS */
DATA_SET_ID = "MEX-M-HRSC-4-REFDR-MAPPROJECT-EXT1-V4.0"
DATA_SET_NAME = "MARS EXPRESS HRSC MAP PROJECTED REFDR EXTENSION1 V4.0"
DETECTOR_ID = MEX_HRSC_P1
EVENT_TYPE = "MARS-REGIONAL-MAPPING-Im-Gl-La"
INSTRUMENT_HOST_ID = MEX
INSTRUMENT_HOST_NAME = "MARS EXPRESS"
INSTRUMENT_ID = HRSC
INSTRUMENT_NAME = "HIGH RESOLUTION STEREO CAMERA"
MISSION_NAME = "MARS EXPRESS"
MISSION_PHASE_NAME = ME_Phase_8
PROCESSING_LEVEL_ID = 4
PRODUCT_CREATION_TIME = 2023-02-10T03:49:22.000Z
PRODUCT_ID = "H4413_0000_P14.TIF"
RELEASE_ID = 0006
REVISION_ID = 0000
/* QUALITY DATA ELEMENTS */
DATA_QUALITY_ID = 1
DATA_QUALITY_DESC = "Data calculated based on original SPICE kernels"
/* TIME DATA ELEMENTS */
SPACECRAFT_CLOCK_START_COUNT = "1/0129718560.08274"
SPACECRAFT_CLOCK_STOP_COUNT = "1/0129718868.64330"
START_TIME = 2007-06-12T08:57:04.624Z
STOP_TIME = 2007-06-12T09:01:02.245Z
/* ORBITAL DATA ELEMENTS */
ASCENDING_NODE_LONGITUDE = 135.93
MAXIMUM_RESOLUTION = 0.024
FOOTPRINT_POINT_LATITUDE = (-79.1217,-79.0131,-78.9097,-78.796, -78.7923,-78.8467,-78.2865,-77.9694, -77.651,-77.3304,-76.8509,-76.5301, -76.2068,-75.8839,-75.5611,-75.237, -74.9118,-74.586,-74.2591,-73.9328, -73.6154,-73.1375,-72.6635,-72.3445, -72.0295,-71.7209,-71.4105,-71.0981, -70.631,-70.3225,-69.8597,-69.4097, -69.1089,-68.8078,-68.356,-67.9035, -67.6024,-67.1528,-66.8618,-66.4252, -65.9887,-65.4062,-65.1136,-64.822, -64.3845,-64.0924,-63.8003,-63.5083, -63.3623,-63.3308,-63.3981,-63.439, -63.44,-63.4407,-63.8814,-64.3216, -64.6151,-64.9087,-65.2021,-65.4958, -65.7896,-66.0833,-66.5232,-66.9633, -67.2567,-67.5574,-68.0133,-68.4693, -68.9251,-69.2291,-69.5317,-69.8344, -70.1413,-70.6107,-70.9276,-71.2429, -71.5597,-71.8709,-72.1833,-72.5016, -72.827,-73.1505,-73.4748,-73.7905, -74.1128,-74.4461,-74.9435,-75.2756, -75.7719,-76.1027,-76.4329,-76.7656, -77.26,-77.5889,-77.9175,-78.2489, -78.576,-78.9576,-79.1507,-79.1217)
FOOTPRINT_POINT_LONGITUDE = (276.512,274.157,272.233,270.362, 270.305,270.141,271.068,271.552,272.01, 272.446,273.054,273.434,273.798,274.143 ,274.47,274.784,275.083,275.37,275.644, 275.906,276.149,276.497,276.819,277.026 ,277.221,277.406,277.585,277.759, 278.007,278.163,278.387,278.593,278.726 ,278.854,279.039,279.215,279.328, 279.489,279.59,279.735,279.874,280.051, 280.136,280.218,280.337,280.413,280.488 ,280.56,280.596,280.604,281.923,282.87, 282.893,282.901,282.836,282.767,282.72, 282.672,282.622,282.571,282.519,282.466 ,282.382,282.294,282.235,282.172, 282.071,281.967,281.857,281.782,281.702 ,281.619,281.541,281.402,281.314,281.22 ,281.126,281.017,280.907,280.789, 280.672,280.547,280.419,280.267,280.124 ,279.976,279.73,279.558,279.282,279.088 ,278.884,278.677,278.335,278.092, 277.836,277.574,277.286,276.938,276.742 ,276.512)
ORBIT_NUMBER = 4413
ORBITAL_ECCENTRICITY = 0.571
ORBITAL_INCLINATION = 86.68
ORBITAL_SEMIMAJOR_AXIS = 8554.49
PERIAPSIS_ALTITUDE = 291.99
PERIAPSIS_ARGUMENT_ANGLE = 300.91
PERIAPSIS_TIME = 2007-06-12T09:01:53.000Z
SPACECRAFT_ORIENTATION = (0.0,1.0,0.0)
^MEX_ORIENTATION_DESC = "MEX_ORIENTATION_DESC.TXT"
SPACECRAFT_POINTING_MODE = ACROSSTRACK
^MEX_POINTING_DESC = "MEX_POINTING_DESC.TXT"
RIGHT_ASCENSION = -1e+32
DECLINATION = -1e+32
OFFSET_ANGLE = -0.4
SPACECRAFT_SOLAR_DISTANCE = 2.06733e+08
TARGET_NAME = MARS
/* CAMERA DATA ELEMENTS */
DETECTOR_TEMPERATURE = 17.7588
FOCAL_PLANE_TEMPERATURE = 8.9911
INST_CMPRS_NAME = "DISCRETE COSINE TRANSFORMATION (DCT)"
INST_CMPRS_RATIO = 10.9972
INST_CMPRS_QUALITY = 0
INST_CMPRS_QUANTZ_TBL_ID = 0
INSTRUMENT_TEMPERATURE = 11.6418
LENS_TEMPERATURE = 9.195
MACROPIXEL_SIZE = 2
MISSING_FRAMES = 0
PIXEL_SUBSAMPLING_FLAG = N
SIGNAL_CHAIN_ID = 3
/* RADIOMETRIC DATA ELEMENTS */
BANDWIDTH = 174.0
CENTER_FILTER_WAVELENGTH = 675.0
RADIANCE_OFFSET = 6.88385
RADIANCE_SCALING_FACTOR = 0.0440695
REFLECTANCE_SCALING_FACTOR = 0.00101308
MEX:REFLECTANCE_OFFSET = 0.158247
/* IMAGE OBJECT DEFINITIONS */
OBJECT = IMAGE
  INTERCHANGE_FORMAT = BINARY
  LINES = 37588
  LINE_SAMPLES = 7666
  SAMPLE_TYPE = UNSIGNED_INTEGER
  SAMPLE_BITS = 8
  BANDS = 1
  BAND_STORAGE_TYPE = BAND_SEQUENTIAL
  MAXIMUM = 255
  MEAN = 75.6572
  MINIMUM = 1
  STANDARD_DEVIATION = 65.9489
END_OBJECT = IMAGE
/* MAP OBJECT DEFINITIONS */
OBJECT = IMAGE_MAP_PROJECTION
  ^DATA_SET_MAP_PROJECTION_CATALOG= "DSMAP.CAT"
  A_AXIS_RADIUS = 3396.0
  B_AXIS_RADIUS = 3396.0
  C_AXIS_RADIUS = 3396.0
  CENTER_LATITUDE = 0.0
  CENTER_LONGITUDE = 280.0
  COORDINATE_SYSTEM_NAME = PLANETOGRAPHIC
  COORDINATE_SYSTEM_TYPE = "BODY-FIXED ROTATING"
  EASTERNMOST_LONGITUDE = 282.901
  FIRST_STANDARD_PARALLEL = "N/A"
  LINE_FIRST_PIXEL = 1
  LINE_LAST_PIXEL = 37588
  LINE_PROJECTION_OFFSET = -150193.75
  MAP_PROJECTION_ROTATION = 0.0
  MAP_PROJECTION_TYPE = SINUSOIDAL
  MAP_RESOLUTION = 2370.85521546667
  MAP_SCALE = 0.025
  MAXIMUM_LATITUDE = -63.3308
  MINIMUM_LATITUDE = -79.1507
  POSITIVE_LONGITUDE_DIRECTION = EAST
  REFERENCE_LATITUDE = "N/A"
  REFERENCE_LONGITUDE = "N/A"
  SAMPLE_FIRST_PIXEL = 1
  SAMPLE_LAST_PIXEL = 7666
  SAMPLE_PROJECTION_OFFSET = 4588.25
  SECOND_STANDARD_PARALLEL = "N/A"
  WESTERNMOST_LONGITUDE = 270.141
END_OBJECT = IMAGE_MAP_PROJECTION
END
