PDS_VERSION_ID = PDS3
/* FILE DATA ELEMENTS */
RECORD_TYPE = UNDEFINED
/* POINTERS TO DATA OBJECTS */
^IMAGE = ("H4418_0000_P24.TIF")
/* IDENTIFICATION DATA ELEMENTS */
DATA_SET_ID = "MEX-M-HRSC-4-REFDR-MAPPROJECT-EXT1-V4.0"
DATA_SET_NAME = "MARS EXPRESS HRSC MAP PROJECTED REFDR EXTENSION1 V4.0"
DETECTOR_ID = MEX_HRSC_P2
EVENT_TYPE = "MARS-REGIONAL-MAPPING-Gl-Pf-La"
INSTRUMENT_HOST_ID = MEX
INSTRUMENT_HOST_NAME = "MARS EXPRESS"
INSTRUMENT_ID = HRSC
INSTRUMENT_NAME = "HIGH RESOLUTION STEREO CAMERA"
MISSION_NAME = "MARS EXPRESS"
MISSION_PHASE_NAME = ME_Phase_8
PROCESSING_LEVEL_ID = 4
PRODUCT_CREATION_TIME = 2023-02-10T03:49:22.000Z
PRODUCT_ID = "H4418_0000_P24.TIF"
RELEASE_ID = 0006
REVISION_ID = 0000
/* QUALITY DATA ELEMENTS */
DATA_QUALITY_ID = 1
DATA_QUALITY_DESC = "Data calculated based on original SPICE kernels"
/* TIME DATA ELEMENTS */
SPACECRAFT_CLOCK_START_COUNT = "1/0129839493.07286"
SPACECRAFT_CLOCK_STOP_COUNT = "1/0129839730.48740"
START_TIME = 2007-06-13T18:31:51.623Z
STOP_TIME = 2007-06-13T18:34:45.845Z
/* ORBITAL DATA ELEMENTS */
ASCENDING_NODE_LONGITUDE = 135.83
MAXIMUM_RESOLUTION = 0.0267
FOOTPRINT_POINT_LATITUDE = (-81.5203,-81.4376,-81.3718,-81.3011, -81.2259,-81.1462,-81.0621,-81.0567, -80.9842,-80.6602,-80.4424,-80.2301, -80.0146,-79.6918,-79.4746,-79.2559, -79.0355,-78.8143,-78.5922,-78.3688, -78.1444,-77.8064,-77.5802,-77.3526, -77.1241,-76.8972,-76.6682,-76.4395, -76.0523,-75.858,-75.6633,-75.4681, -75.2718,-75.0754,-74.8788,-74.5837, -74.3862,-74.1883,-73.9897,-73.7909, -73.5918,-73.3913,-73.1913,-72.9913, -72.7895,-72.5858,-72.3842,-72.182, -71.7893,-71.4019,-71.1071,-70.7113, -70.6127,-70.6119,-70.6558,-70.7071, -70.7603,-70.7615,-70.7623,-71.2613, -71.5617,-72.0614,-72.459,-72.7672, -72.973,-73.1767,-73.4817,-73.7874, -73.9912,-74.1939,-74.6948,-74.9993, -75.2021,-75.4031,-75.6053,-75.8057, -76.0056,-76.3053,-76.7031,-76.9387, -77.1749,-77.5279,-77.763,-78.1153, -78.347,-78.5834,-78.8178,-79.0505, -79.2826,-79.5138,-79.7443,-79.9744, -80.2037,-80.4319,-80.657,-80.8844, -81.117,-81.3498,-81.4663,-81.5203)
FOOTPRINT_POINT_LONGITUDE = (141.15,139.231,137.865,136.525,135.213 ,133.926,132.665,132.587,132.633, 133.572,134.157,134.707,135.234,135.982 ,136.456,136.911,137.348,137.768, 138.171,138.559,138.932,139.466,139.806 ,140.134,140.45,140.755,141.049,141.332 ,141.787,142.004,142.216,142.423, 142.623,142.818,143.008,143.284,143.462 ,143.635,143.804,143.968,144.129, 144.285,144.437,144.586,144.731,144.872 ,145.01,145.143,145.395,145.637,145.811 ,146.033,146.088,146.088,146.937, 148.061,149.47,149.504,149.516,149.354, 149.248,149.064,148.914,148.789,148.702 ,148.618,148.489,148.35,148.254,148.158 ,147.922,147.757,147.643,147.531,147.41 ,147.292,147.171,146.981,146.718, 146.554,146.384,146.118,145.932,145.635 ,145.44,145.211,144.981,144.746,144.502 ,144.249,143.985,143.709,143.42,143.122 ,142.823,142.492,142.119,141.737, 141.536,141.15)
ORBIT_NUMBER = 4418
ORBITAL_ECCENTRICITY = 0.571
ORBITAL_INCLINATION = 86.68
ORBITAL_SEMIMAJOR_AXIS = 8554.69
PERIAPSIS_ALTITUDE = 292.68
PERIAPSIS_ARGUMENT_ANGLE = 300.04
PERIAPSIS_TIME = 2007-06-13T18:37:51.000Z
SPACECRAFT_ORIENTATION = (0.0,1.0,0.0)
^MEX_ORIENTATION_DESC = "MEX_ORIENTATION_DESC.TXT"
SPACECRAFT_POINTING_MODE = ACROSSTRACK
^MEX_POINTING_DESC = "MEX_POINTING_DESC.TXT"
RIGHT_ASCENSION = -1e+32
DECLINATION = -1e+32
OFFSET_ANGLE = -0.25
SPACECRAFT_SOLAR_DISTANCE = 2.06759e+08
TARGET_NAME = MARS
/* CAMERA DATA ELEMENTS */
DETECTOR_TEMPERATURE = 18.5744
FOCAL_PLANE_TEMPERATURE = 8.7872
INST_CMPRS_NAME = "DISCRETE COSINE TRANSFORMATION (DCT)"
INST_CMPRS_RATIO = 7.49902
INST_CMPRS_QUALITY = 0
INST_CMPRS_QUANTZ_TBL_ID = 0
INSTRUMENT_TEMPERATURE = 11.4379
LENS_TEMPERATURE = 8.9911
MACROPIXEL_SIZE = 2
MISSING_FRAMES = 0
PIXEL_SUBSAMPLING_FLAG = N
SIGNAL_CHAIN_ID = 3
/* RADIOMETRIC DATA ELEMENTS */
BANDWIDTH = 177.0
CENTER_FILTER_WAVELENGTH = 676.5
RADIANCE_OFFSET = 6.66154
RADIANCE_SCALING_FACTOR = 0.0151144
REFLECTANCE_SCALING_FACTOR = 0.000342592
MEX:REFLECTANCE_OFFSET = 0.150994
/* IMAGE OBJECT DEFINITIONS */
OBJECT = IMAGE
  INTERCHANGE_FORMAT = BINARY
  LINES = 25701
  LINE_SAMPLES = 8014
  SAMPLE_TYPE = UNSIGNED_INTEGER
  SAMPLE_BITS = 8
  BANDS = 1
  BAND_STORAGE_TYPE = BAND_SEQUENTIAL
  MAXIMUM = 255
  MEAN = 137.784
  MINIMUM = 1
  STANDARD_DEVIATION = 40.415
END_OBJECT = IMAGE
/* MAP OBJECT DEFINITIONS */
OBJECT = IMAGE_MAP_PROJECTION
  ^DATA_SET_MAP_PROJECTION_CATALOG= "DSMAP.CAT"
  A_AXIS_RADIUS = 3396.0
  B_AXIS_RADIUS = 3396.0
  C_AXIS_RADIUS = 3396.0
  CENTER_LATITUDE = 0.0
  CENTER_LONGITUDE = 145.0
  COORDINATE_SYSTEM_NAME = PLANETOGRAPHIC
  COORDINATE_SYSTEM_TYPE = "BODY-FIXED ROTATING"
  EASTERNMOST_LONGITUDE = 149.516
  FIRST_STANDARD_PARALLEL = "N/A"
  LINE_FIRST_PIXEL = 1
  LINE_LAST_PIXEL = 25701
  LINE_PROJECTION_OFFSET = -167396.25
  MAP_PROJECTION_ROTATION = 0.0
  MAP_PROJECTION_TYPE = SINUSOIDAL
  MAP_RESOLUTION = 2370.85521546667
  MAP_SCALE = 0.025
  MAXIMUM_LATITUDE = -70.61190000000001
  MINIMUM_LATITUDE = -81.52030000000001
  POSITIVE_LONGITUDE_DIRECTION = EAST
  REFERENCE_LATITUDE = "N/A"
  REFERENCE_LONGITUDE = "N/A"
  SAMPLE_FIRST_PIXEL = 1
  SAMPLE_LAST_PIXEL = 8014
  SAMPLE_PROJECTION_OFFSET = 4519.25
  SECOND_STANDARD_PARALLEL = "N/A"
  WESTERNMOST_LONGITUDE = 132.587
END_OBJECT = IMAGE_MAP_PROJECTION
END
