PDS_VERSION_ID = PDS3
/* FILE DATA ELEMENTS */
RECORD_TYPE = UNDEFINED
/* POINTERS TO DATA OBJECTS */
^IMAGE = ("H4422_0000_P14.TIF")
/* IDENTIFICATION DATA ELEMENTS */
DATA_SET_ID = "MEX-M-HRSC-4-REFDR-MAPPROJECT-EXT1-V4.0"
DATA_SET_NAME = "MARS EXPRESS HRSC MAP PROJECTED REFDR EXTENSION1 V4.0"
DETECTOR_ID = MEX_HRSC_P1
EVENT_TYPE = "MARS-REGIONAL-MAPPING-Te-Gl-La"
INSTRUMENT_HOST_ID = MEX
INSTRUMENT_HOST_NAME = "MARS EXPRESS"
INSTRUMENT_ID = HRSC
INSTRUMENT_NAME = "HIGH RESOLUTION STEREO CAMERA"
MISSION_NAME = "MARS EXPRESS"
MISSION_PHASE_NAME = ME_Phase_8
PROCESSING_LEVEL_ID = 4
PRODUCT_CREATION_TIME = 2023-02-10T03:49:22.000Z
PRODUCT_ID = "H4422_0000_P14.TIF"
RELEASE_ID = 0006
REVISION_ID = 0000
/* QUALITY DATA ELEMENTS */
DATA_QUALITY_ID = 1
DATA_QUALITY_DESC = "Data calculated based on original SPICE kernels"
/* TIME DATA ELEMENTS */
SPACECRAFT_CLOCK_START_COUNT = "1/0129936257.07287"
SPACECRAFT_CLOCK_STOP_COUNT = "1/0129936550.46426"
START_TIME = 2007-06-14T21:25:24.894Z
STOP_TIME = 2007-06-14T21:29:04.005Z
/* ORBITAL DATA ELEMENTS */
ASCENDING_NODE_LONGITUDE = 135.75
MAXIMUM_RESOLUTION = 0.049
FOOTPRINT_POINT_LATITUDE = (-81.9531,-81.8069,-81.6448,-81.4084, -81.4025,-81.4288,-80.9823,-80.6805, -80.3759,-80.0696,-79.7568,-79.4469, -79.182,-78.9153,-78.6471,-78.3773, -78.1061,-77.8339,-77.56,-77.2845, -77.0071,-76.5909,-76.3132,-76.0372, -75.7571,-75.4765,-75.0592,-74.7861, -74.4903,-74.0752,-73.8005,-73.3881, -73.1207,-72.853,-72.5847,-72.3167, -71.9146,-71.5091,-71.2414,-70.9805, -70.7189,-70.4572,-70.1947,-69.9316, -69.6692,-69.2766,-69.0137,-68.7506, -68.2357,-67.854,-67.726,-67.6852, -67.7687,-67.8165,-67.8175,-67.8186, -68.3333,-68.9865,-69.2521,-69.5174, -69.7823,-70.0491,-70.3165,-70.5832, -70.8491,-71.1139,-71.3791,-71.787, -72.0599,-72.4715,-72.7456,-73.0183, -73.4269,-73.7028,-73.9842,-74.2682, -74.5488,-74.8314,-75.2697,-75.5516, -75.9883,-76.2794,-76.5676,-76.999, -77.286,-77.7151,-78.0008,-78.2851, -78.5689,-78.8521,-79.2759,-79.5537, -79.8336,-80.3207,-80.6519,-81.1459, -81.4732,-81.7985,-81.9602,-81.9531)
FOOTPRINT_POINT_LONGITUDE = (101.004,98.5456,96.1483,93.1015, 93.0304,92.4623,94.2497,95.3306,96.3327 ,97.2519,98.1607,98.9831,99.6447, 100.276,100.877,101.45,101.998,102.518, 103.019,103.501,103.969,104.619,105.023 ,105.392,105.769,106.129,106.642, 106.956,107.295,107.747,108.019,108.413 ,108.657,108.893,109.122,109.341, 109.653,109.961,110.155,110.337,110.515 ,110.688,110.858,111.025,111.184, 111.407,111.555,111.698,111.97,112.162, 112.226,112.246,113.882,114.978,115.003 ,115.011,114.834,114.596,114.495, 114.391,114.284,114.174,114.06,113.943, 113.823,113.699,113.572,113.37,113.228, 113.006,112.853,112.694,112.447,112.272 ,112.088,111.895,111.696,111.489, 111.151,110.922,110.548,110.286,110.014 ,109.583,109.279,108.797,108.456, 108.098,107.723,107.329,106.698,106.253 ,105.78,104.888,104.225,103.136,102.34, 101.481,101.025,101.004)
ORBIT_NUMBER = 4422
ORBITAL_ECCENTRICITY = 0.571
ORBITAL_INCLINATION = 86.69
ORBITAL_SEMIMAJOR_AXIS = 8554.99
PERIAPSIS_ALTITUDE = 291.8
PERIAPSIS_ARGUMENT_ANGLE = 299.32
PERIAPSIS_TIME = 2007-06-14T21:30:38.000Z
SPACECRAFT_ORIENTATION = (0.0,1.0,0.0)
^MEX_ORIENTATION_DESC = "MEX_ORIENTATION_DESC.TXT"
SPACECRAFT_POINTING_MODE = ACROSSTRACK
^MEX_POINTING_DESC = "MEX_POINTING_DESC.TXT"
RIGHT_ASCENSION = -1e+32
DECLINATION = -1e+32
OFFSET_ANGLE = 0.5
SPACECRAFT_SOLAR_DISTANCE = 2.06783e+08
TARGET_NAME = MARS
/* CAMERA DATA ELEMENTS */
DETECTOR_TEMPERATURE = 17.5549
FOCAL_PLANE_TEMPERATURE = 7.9716
INST_CMPRS_NAME = "DISCRETE COSINE TRANSFORMATION (DCT)"
INST_CMPRS_RATIO = 20.2227
INST_CMPRS_QUALITY = 0
INST_CMPRS_QUANTZ_TBL_ID = 0
INSTRUMENT_TEMPERATURE = 11.234
LENS_TEMPERATURE = 8.1755
MACROPIXEL_SIZE = 4
PIXEL_SUBSAMPLING_FLAG = N
SIGNAL_CHAIN_ID = 3
/* RADIOMETRIC DATA ELEMENTS */
BANDWIDTH = 174.0
CENTER_FILTER_WAVELENGTH = 675.0
RADIANCE_OFFSET = 5.55444
RADIANCE_SCALING_FACTOR = 0.0267879
REFLECTANCE_SCALING_FACTOR = 0.000616102
MEX:REFLECTANCE_OFFSET = 0.127748
/* IMAGE OBJECT DEFINITIONS */
OBJECT = IMAGE
  INTERCHANGE_FORMAT = BINARY
  LINES = 17036
  LINE_SAMPLES = 5376
  SAMPLE_TYPE = UNSIGNED_INTEGER
  SAMPLE_BITS = 8
  BANDS = 1
  BAND_STORAGE_TYPE = BAND_SEQUENTIAL
  MAXIMUM = 255
  MEAN = 70.0794
  MINIMUM = 1
  STANDARD_DEVIATION = 28.244
END_OBJECT = IMAGE
/* MAP OBJECT DEFINITIONS */
OBJECT = IMAGE_MAP_PROJECTION
  ^DATA_SET_MAP_PROJECTION_CATALOG= "DSMAP.CAT"
  A_AXIS_RADIUS = 3396.0
  B_AXIS_RADIUS = 3396.0
  C_AXIS_RADIUS = 3396.0
  CENTER_LATITUDE = 0.0
  CENTER_LONGITUDE = 110.0
  COORDINATE_SYSTEM_NAME = PLANETOGRAPHIC
  COORDINATE_SYSTEM_TYPE = "BODY-FIXED ROTATING"
  EASTERNMOST_LONGITUDE = 115.011
  FIRST_STANDARD_PARALLEL = "N/A"
  LINE_FIRST_PIXEL = 1
  LINE_LAST_PIXEL = 17036
  LINE_PROJECTION_OFFSET = -80246.375
  MAP_PROJECTION_ROTATION = 0.0
  MAP_PROJECTION_TYPE = SINUSOIDAL
  MAP_RESOLUTION = 1185.42760773333
  MAP_SCALE = 0.05
  MAXIMUM_LATITUDE = -67.68519999999999
  MINIMUM_LATITUDE = -81.9602
  POSITIVE_LONGITUDE_DIRECTION = EAST
  REFERENCE_LATITUDE = "N/A"
  REFERENCE_LONGITUDE = "N/A"
  SAMPLE_FIRST_PIXEL = 1
  SAMPLE_LAST_PIXEL = 5376
  SAMPLE_PROJECTION_OFFSET = 3135.625
  SECOND_STANDARD_PARALLEL = "N/A"
  WESTERNMOST_LONGITUDE = 92.4623
END_OBJECT = IMAGE_MAP_PROJECTION
END
