PDS_VERSION_ID = PDS3
/* FILE DATA ELEMENTS */
RECORD_TYPE = UNDEFINED
/* POINTERS TO DATA OBJECTS */
^IMAGE = ("H4424_0000_P24.TIF")
/* IDENTIFICATION DATA ELEMENTS */
DATA_SET_ID = "MEX-M-HRSC-4-REFDR-MAPPROJECT-EXT1-V4.0"
DATA_SET_NAME = "MARS EXPRESS HRSC MAP PROJECTED REFDR EXTENSION1 V4.0"
DETECTOR_ID = MEX_HRSC_P2
EVENT_TYPE = "MARS-REGIONAL-MAPPING-Im-Gl-La"
INSTRUMENT_HOST_ID = MEX
INSTRUMENT_HOST_NAME = "MARS EXPRESS"
INSTRUMENT_ID = HRSC
INSTRUMENT_NAME = "HIGH RESOLUTION STEREO CAMERA"
MISSION_NAME = "MARS EXPRESS"
MISSION_PHASE_NAME = ME_Phase_8
PROCESSING_LEVEL_ID = 4
PRODUCT_CREATION_TIME = 2023-02-10T03:49:22.000Z
PRODUCT_ID = "H4424_0000_P24.TIF"
RELEASE_ID = 0006
REVISION_ID = 0000
/* QUALITY DATA ELEMENTS */
DATA_QUALITY_ID = 1
DATA_QUALITY_DESC = "Data calculated based on original SPICE kernels"
/* TIME DATA ELEMENTS */
SPACECRAFT_CLOCK_START_COUNT = "1/0129984708.08240"
SPACECRAFT_CLOCK_STOP_COUNT = "1/0129985018.22782"
START_TIME = 2007-06-15T10:52:04.975Z
STOP_TIME = 2007-06-15T10:56:17.584Z
/* ORBITAL DATA ELEMENTS */
ASCENDING_NODE_LONGITUDE = 135.71
MAXIMUM_RESOLUTION = 0.0241
FOOTPRINT_POINT_LATITUDE = (-79.0593,-78.9672,-78.815,-78.6991, -78.6949,-78.6206,-78.2535,-77.6986, -77.3447,-77.0311,-76.7163,-76.4003, -76.078,-75.7624,-75.2806,-74.7968, -74.4728,-74.1479,-73.8217,-73.3316, -73.0138,-72.6944,-72.2158,-71.8955, -71.576,-71.2636,-70.951,-70.6385, -70.3238,-70.0076,-69.536,-69.2305, -68.7717,-68.4656,-68.1582,-67.6963, -67.3877,-66.9281,-66.6289,-66.3305, -66.0312,-65.5807,-65.2803,-64.9798, -64.6785,-64.3772,-63.9251,-63.622, -63.02,-62.8736,-62.8394,-62.892, -62.9425,-62.9434,-62.944,-63.5451, -63.8468,-64.1528,-64.4565,-64.9117, -65.2152,-65.6692,-65.9715,-66.4247, -66.8773,-67.1784,-67.4902,-67.9575, -68.2685,-68.5789,-68.8888,-69.1981, -69.5072,-69.9792,-70.2985,-70.7763, -71.0905,-71.4058,-71.7218,-72.0452, -72.3719,-72.6982,-73.0221,-73.352, -73.6804,-74.0145,-74.3475,-74.8461, -75.3428,-75.6731,-76.0029,-76.3315, -76.8239,-77.1493,-77.4726,-77.8058, -78.3823,-78.7662,-78.9567,-79.0593)
FOOTPRINT_POINT_LONGITUDE = (273.33,271.477,268.881,267.172,267.113 ,267.07,267.746,268.684,269.238,269.699 ,270.138,270.557,270.953,271.337, 271.876,272.381,272.7,273.006,273.299, 273.715,273.971,274.216,274.569,274.793 ,275.006,275.207,275.401,275.589, 275.769,275.943,276.192,276.347,276.571 ,276.715,276.854,277.054,277.183, 277.366,277.481,277.593,277.702,277.859 ,277.96,278.059,278.155,278.248,278.383 ,278.47,278.637,278.676,278.685,279.702 ,280.897,280.919,280.927,280.819, 280.766,280.706,280.646,280.555,280.491 ,280.394,280.327,280.222,280.113, 280.038,279.958,279.833,279.747,279.659 ,279.568,279.475,279.379,279.222, 279.114,278.944,278.833,278.716,278.591 ,278.457,278.317,278.171,278.024, 277.856,277.688,277.513,277.331,277.042 ,276.734,276.517,276.288,276.05,275.667 ,275.401,275.125,274.813,274.246, 273.831,273.616,273.33)
ORBIT_NUMBER = 4424
ORBITAL_ECCENTRICITY = 0.571
ORBITAL_INCLINATION = 86.68
ORBITAL_SEMIMAJOR_AXIS = 8551.64
PERIAPSIS_ALTITUDE = 291.94
PERIAPSIS_ARGUMENT_ANGLE = 298.99
PERIAPSIS_TIME = 2007-06-15T10:57:06.000Z
SPACECRAFT_ORIENTATION = (0.0,1.0,0.0)
^MEX_ORIENTATION_DESC = "MEX_ORIENTATION_DESC.TXT"
SPACECRAFT_POINTING_MODE = NADIR
^MEX_POINTING_DESC = "MEX_POINTING_DESC.TXT"
RIGHT_ASCENSION = -1e+32
DECLINATION = -1e+32
OFFSET_ANGLE = -1e+32
SPACECRAFT_SOLAR_DISTANCE = 2.06795e+08
TARGET_NAME = MARS
/* CAMERA DATA ELEMENTS */
DETECTOR_TEMPERATURE = 18.7783
FOCAL_PLANE_TEMPERATURE = 8.7872
INST_CMPRS_NAME = "DISCRETE COSINE TRANSFORMATION (DCT)"
INST_CMPRS_RATIO = 7.01112
INST_CMPRS_QUALITY = 0
INST_CMPRS_QUANTZ_TBL_ID = 0
INSTRUMENT_TEMPERATURE = 11.4379
LENS_TEMPERATURE = 9.195
MACROPIXEL_SIZE = 2
MISSING_FRAMES = 0
PIXEL_SUBSAMPLING_FLAG = N
SIGNAL_CHAIN_ID = 3
/* RADIOMETRIC DATA ELEMENTS */
BANDWIDTH = 177.0
CENTER_FILTER_WAVELENGTH = 676.5
RADIANCE_OFFSET = 6.24699
RADIANCE_SCALING_FACTOR = 0.0501095
REFLECTANCE_SCALING_FACTOR = 0.00113622
MEX:REFLECTANCE_OFFSET = 0.141648
/* IMAGE OBJECT DEFINITIONS */
OBJECT = IMAGE
  INTERCHANGE_FORMAT = BINARY
  LINES = 38311
  LINE_SAMPLES = 8818
  SAMPLE_TYPE = UNSIGNED_INTEGER
  SAMPLE_BITS = 8
  BANDS = 1
  BAND_STORAGE_TYPE = BAND_SEQUENTIAL
  MAXIMUM = 255
  MEAN = 62.4006
  MINIMUM = 1
  STANDARD_DEVIATION = 62.2442
END_OBJECT = IMAGE
/* MAP OBJECT DEFINITIONS */
OBJECT = IMAGE_MAP_PROJECTION
  ^DATA_SET_MAP_PROJECTION_CATALOG= "DSMAP.CAT"
  A_AXIS_RADIUS = 3396.0
  B_AXIS_RADIUS = 3396.0
  C_AXIS_RADIUS = 3396.0
  CENTER_LATITUDE = 0.0
  CENTER_LONGITUDE = 277.0
  COORDINATE_SYSTEM_NAME = PLANETOGRAPHIC
  COORDINATE_SYSTEM_TYPE = "BODY-FIXED ROTATING"
  EASTERNMOST_LONGITUDE = 280.927
  FIRST_STANDARD_PARALLEL = "N/A"
  LINE_FIRST_PIXEL = 1
  LINE_LAST_PIXEL = 38311
  LINE_PROJECTION_OFFSET = -148944.75
  MAP_PROJECTION_ROTATION = 0.0
  MAP_PROJECTION_TYPE = SINUSOIDAL
  MAP_RESOLUTION = 2370.85521546667
  MAP_SCALE = 0.025
  MAXIMUM_LATITUDE = -62.8394
  MINIMUM_LATITUDE = -79.05929999999999
  POSITIVE_LONGITUDE_DIRECTION = EAST
  REFERENCE_LATITUDE = "N/A"
  REFERENCE_LONGITUDE = "N/A"
  SAMPLE_FIRST_PIXEL = 1
  SAMPLE_LAST_PIXEL = 8818
  SAMPLE_PROJECTION_OFFSET = 4586.75
  SECOND_STANDARD_PARALLEL = "N/A"
  WESTERNMOST_LONGITUDE = 267.07
END_OBJECT = IMAGE_MAP_PROJECTION
END
