PDS_VERSION_ID = PDS3
/* FILE DATA ELEMENTS */
RECORD_TYPE = UNDEFINED
/* POINTERS TO DATA OBJECTS */
^IMAGE = ("H4424_0000_S24.TIF")
/* IDENTIFICATION DATA ELEMENTS */
DATA_SET_ID = "MEX-M-HRSC-4-REFDR-MAPPROJECT-EXT1-V4.0"
DATA_SET_NAME = "MARS EXPRESS HRSC MAP PROJECTED REFDR EXTENSION1 V4.0"
DETECTOR_ID = MEX_HRSC_S2
EVENT_TYPE = "MARS-REGIONAL-MAPPING-Im-Gl-La"
INSTRUMENT_HOST_ID = MEX
INSTRUMENT_HOST_NAME = "MARS EXPRESS"
INSTRUMENT_ID = HRSC
INSTRUMENT_NAME = "HIGH RESOLUTION STEREO CAMERA"
MISSION_NAME = "MARS EXPRESS"
MISSION_PHASE_NAME = ME_Phase_8
PROCESSING_LEVEL_ID = 4
PRODUCT_CREATION_TIME = 2023-02-10T03:49:22.000Z
PRODUCT_ID = "H4424_0000_S24.TIF"
RELEASE_ID = 0006
REVISION_ID = 0000
/* QUALITY DATA ELEMENTS */
DATA_QUALITY_ID = 1
DATA_QUALITY_DESC = "Data calculated based on original SPICE kernels"
/* TIME DATA ELEMENTS */
SPACECRAFT_CLOCK_START_COUNT = "1/0129984708.08240"
SPACECRAFT_CLOCK_STOP_COUNT = "1/0129985018.22782"
START_TIME = 2007-06-15T10:51:52.219Z
STOP_TIME = 2007-06-15T10:56:08.600Z
/* ORBITAL DATA ELEMENTS */
ASCENDING_NODE_LONGITUDE = 135.71
MAXIMUM_RESOLUTION = 0.025
FOOTPRINT_POINT_LATITUDE = (-79.1127,-78.9872,-78.8841,-78.7402, -78.7358,-78.6292,-78.2706,-77.9053, -77.3629,-76.9961,-76.6447,-76.3346, -76.0166,-75.7073,-75.2334,-74.7574, -74.4388,-74.1189,-73.7974,-73.4753, -72.9901,-72.6658,-72.1941,-71.7191, -71.4013,-70.924,-70.6154,-70.3039, -69.9892,-69.6769,-69.3638,-68.8968, -68.5933,-68.137,-67.8327,-67.5253, -67.219,-66.9116,-66.4497,-66.1524, -65.8547,-65.5558,-65.1075,-64.6583, -64.3585,-64.0582,-63.606,-63.2978, -63.0049,-62.853,-62.8433,-62.881, -62.9488,-62.9496,-62.9502,-63.4068, -63.8571,-64.1641,-64.4661,-64.9192, -65.2213,-65.6727,-65.9733,-66.2735, -66.729,-67.0392,-67.3495,-67.6594, -67.9681,-68.4307,-68.738,-69.0449, -69.3584,-69.6769,-69.9947,-70.3107, -70.7835,-71.092,-71.41,-71.7328, -72.0568,-72.3792,-72.8603,-73.1905, -73.5307,-73.86,-74.3526,-74.8442, -75.3327,-75.6577,-75.9824,-76.3055, -76.629,-76.9499,-77.3095,-77.6898, -78.2588,-78.8228,-79.0093,-79.1127)
FOOTPRINT_POINT_LONGITUDE = (273.357,270.888,269.154,267.033, 266.974,266.99,267.657,268.286,269.159, 269.701,270.19,270.598,270.988,271.362, 271.892,272.388,272.702,273.003,273.291 ,273.569,273.964,274.214,274.562, 274.892,275.101,275.399,275.585,275.764 ,275.936,276.104,276.266,276.498, 276.643,276.852,276.986,277.115,277.241 ,277.364,277.54,277.65,277.757,277.86, 278.011,278.155,278.248,278.339,278.47, 278.552,278.637,278.678,278.68,279.377, 280.906,280.928,280.936,280.855,280.776 ,280.716,280.658,280.567,280.504, 280.408,280.342,280.274,280.166,280.091 ,280.013,279.933,279.851,279.723, 279.635,279.545,279.45,279.348,279.244, 279.137,278.971,278.864,278.746,278.62, 278.487,278.351,278.138,277.983,277.806 ,277.639,277.376,277.094,276.795, 276.584,276.362,276.132,275.887,275.635 ,275.34,275.004,274.457,273.861,273.651 ,273.357)
ORBIT_NUMBER = 4424
ORBITAL_ECCENTRICITY = 0.571
ORBITAL_INCLINATION = 86.68
ORBITAL_SEMIMAJOR_AXIS = 8551.64
PERIAPSIS_ALTITUDE = 291.94
PERIAPSIS_ARGUMENT_ANGLE = 298.99
PERIAPSIS_TIME = 2007-06-15T10:57:06.000Z
SPACECRAFT_ORIENTATION = (0.0,1.0,0.0)
^MEX_ORIENTATION_DESC = "MEX_ORIENTATION_DESC.TXT"
SPACECRAFT_POINTING_MODE = NADIR
^MEX_POINTING_DESC = "MEX_POINTING_DESC.TXT"
RIGHT_ASCENSION = -1e+32
DECLINATION = -1e+32
OFFSET_ANGLE = -1e+32
SPACECRAFT_SOLAR_DISTANCE = 2.06795e+08
TARGET_NAME = MARS
/* CAMERA DATA ELEMENTS */
DETECTOR_TEMPERATURE = 18.7783
FOCAL_PLANE_TEMPERATURE = 8.7872
INST_CMPRS_NAME = "DISCRETE COSINE TRANSFORMATION (DCT)"
INST_CMPRS_RATIO = 10.817
INST_CMPRS_QUALITY = 0
INST_CMPRS_QUANTZ_TBL_ID = 0
INSTRUMENT_TEMPERATURE = 11.4379
LENS_TEMPERATURE = 9.195
MACROPIXEL_SIZE = 2
MISSING_FRAMES = 0
PIXEL_SUBSAMPLING_FLAG = N
SIGNAL_CHAIN_ID = 1
/* RADIOMETRIC DATA ELEMENTS */
BANDWIDTH = 178.0
CENTER_FILTER_WAVELENGTH = 679.0
RADIANCE_OFFSET = 6.39256
RADIANCE_SCALING_FACTOR = 0.0544507
REFLECTANCE_SCALING_FACTOR = 0.00123314
MEX:REFLECTANCE_OFFSET = 0.144772
/* IMAGE OBJECT DEFINITIONS */
OBJECT = IMAGE
  INTERCHANGE_FORMAT = BINARY
  LINES = 38311
  LINE_SAMPLES = 8818
  SAMPLE_TYPE = UNSIGNED_INTEGER
  SAMPLE_BITS = 8
  BANDS = 1
  BAND_STORAGE_TYPE = BAND_SEQUENTIAL
  MAXIMUM = 255
  MEAN = 66.0465
  MINIMUM = 1
  STANDARD_DEVIATION = 61.9189
END_OBJECT = IMAGE
/* MAP OBJECT DEFINITIONS */
OBJECT = IMAGE_MAP_PROJECTION
  ^DATA_SET_MAP_PROJECTION_CATALOG= "DSMAP.CAT"
  A_AXIS_RADIUS = 3396.0
  B_AXIS_RADIUS = 3396.0
  C_AXIS_RADIUS = 3396.0
  CENTER_LATITUDE = 0.0
  CENTER_LONGITUDE = 277.0
  COORDINATE_SYSTEM_NAME = PLANETOGRAPHIC
  COORDINATE_SYSTEM_TYPE = "BODY-FIXED ROTATING"
  EASTERNMOST_LONGITUDE = 280.936
  FIRST_STANDARD_PARALLEL = "N/A"
  LINE_FIRST_PIXEL = 1
  LINE_LAST_PIXEL = 38311
  LINE_PROJECTION_OFFSET = -148944.75
  MAP_PROJECTION_ROTATION = 0.0
  MAP_PROJECTION_TYPE = SINUSOIDAL
  MAP_RESOLUTION = 2370.85521546667
  MAP_SCALE = 0.025
  MAXIMUM_LATITUDE = -62.8433
  MINIMUM_LATITUDE = -79.1127
  POSITIVE_LONGITUDE_DIRECTION = EAST
  REFERENCE_LATITUDE = "N/A"
  REFERENCE_LONGITUDE = "N/A"
  SAMPLE_FIRST_PIXEL = 1
  SAMPLE_LAST_PIXEL = 8818
  SAMPLE_PROJECTION_OFFSET = 4586.75
  SECOND_STANDARD_PARALLEL = "N/A"
  WESTERNMOST_LONGITUDE = 266.974
END_OBJECT = IMAGE_MAP_PROJECTION
END
