PDS_VERSION_ID = PDS3
/* FILE DATA ELEMENTS */
RECORD_TYPE = UNDEFINED
/* POINTERS TO DATA OBJECTS */
^IMAGE = ("H4425_0000_RE4.TIF")
/* IDENTIFICATION DATA ELEMENTS */
DATA_SET_ID = "MEX-M-HRSC-4-REFDR-MAPPROJECT-EXT1-V4.0"
DATA_SET_NAME = "MARS EXPRESS HRSC MAP PROJECTED REFDR EXTENSION1 V4.0"
DETECTOR_ID = MEX_HRSC_RED
EVENT_TYPE = "MARS-REGIONAL-MAPPING-Im-Gl-Pf"
INSTRUMENT_HOST_ID = MEX
INSTRUMENT_HOST_NAME = "MARS EXPRESS"
INSTRUMENT_ID = HRSC
INSTRUMENT_NAME = "HIGH RESOLUTION STEREO CAMERA"
MISSION_NAME = "MARS EXPRESS"
MISSION_PHASE_NAME = ME_Phase_8
PROCESSING_LEVEL_ID = 4
PRODUCT_CREATION_TIME = 2023-02-10T03:49:22.000Z
PRODUCT_ID = "H4425_0000_RE4.TIF"
RELEASE_ID = 0006
REVISION_ID = 0000
/* QUALITY DATA ELEMENTS */
DATA_QUALITY_ID = 1
DATA_QUALITY_DESC = "Data calculated based on original SPICE kernels"
/* TIME DATA ELEMENTS */
SPACECRAFT_CLOCK_START_COUNT = "1/0130008897.07299"
SPACECRAFT_CLOCK_STOP_COUNT = "1/0130009118.14685"
START_TIME = 2007-06-15T17:35:07.833Z
STOP_TIME = 2007-06-15T17:37:49.612Z
/* ORBITAL DATA ELEMENTS */
ASCENDING_NODE_LONGITUDE = 135.68
MAXIMUM_RESOLUTION = 0.1042
FOOTPRINT_POINT_LATITUDE = (-79.4287,-79.3874,-79.3566,-79.3224, -79.285,-79.2012,-79.1984,-79.1224, -78.9012,-78.6791,-78.4559,-78.2312, -78.0078,-77.7828,-77.5571,-77.3306, -77.0001,-76.8095,-76.6183,-76.4266, -76.1385,-75.9464,-75.753,-75.463, -75.269,-74.9777,-74.6851,-74.3923, -74.1964,-74.0002,-73.8041,-73.6074, -73.4086,-73.2085,-72.9081,-72.712, -72.5218,-72.3307,-72.138,-71.9443, -71.7529,-71.5589,-71.3616,-71.1681, -70.9775,-70.7846,-70.5955,-70.1249, -69.838,-69.6479,-69.2731,-69.1795, -69.1699,-69.191,-69.2137,-69.2229, -69.223,-69.2247,-69.6063,-69.9874, -70.1781,-70.4628,-70.8432,-71.0376, -71.3321,-71.5284,-71.7243,-72.0182, -72.3122,-72.5087,-72.7031,-72.9011, -73.1983,-73.4027,-73.6038,-73.8039, -74.0032,-74.3013,-74.5997,-74.8975, -75.1946,-75.3927,-75.5897,-75.787, -75.9844,-76.1816,-76.4771,-76.7718, -76.9672,-77.1627,-77.381,-77.6123, -77.8477,-78.0808,-78.3116,-78.6573, -78.8874,-79.2332,-79.3473,-79.4287)
FOOTPRINT_POINT_LONGITUDE = (179.518,177.843,176.792,175.758, 174.743,172.761,172.7,172.838,173.183, 173.516,173.836,174.145,174.439,174.724 ,174.998,175.262,175.631,175.834, 176.031,176.223,176.5,176.677,176.851, 177.102,177.264,177.498,177.723,177.939 ,178.079,178.215,178.347,178.476, 178.604,178.73,178.913,179.026,179.133, 179.238,179.342,179.444,179.542,179.64, 179.739,179.831,179.918,180.006,180.091 ,180.293,180.413,180.489,180.631, 180.666,180.669,181.526,182.827,183.774 ,183.805,183.826,183.756,183.683, 183.644,183.588,183.505,183.462,183.394 ,183.346,183.298,183.222,183.142, 183.084,183.032,182.977,182.904,182.83, 182.765,182.701,182.638,182.542,182.439 ,182.332,182.221,182.143,182.067, 181.986,181.901,181.814,181.676,181.534 ,181.439,181.339,181.231,181.11,180.961 ,180.817,180.677,180.454,180.297,180.04 ,179.956,179.518)
ORBIT_NUMBER = 4425
ORBITAL_ECCENTRICITY = 0.57
ORBITAL_INCLINATION = 86.69
ORBITAL_SEMIMAJOR_AXIS = 8550.95
PERIAPSIS_ALTITUDE = 292.25
PERIAPSIS_ARGUMENT_ANGLE = 298.82
PERIAPSIS_TIME = 2007-06-15T17:40:16.000Z
SPACECRAFT_ORIENTATION = (0.0,1.0,0.0)
^MEX_ORIENTATION_DESC = "MEX_ORIENTATION_DESC.TXT"
SPACECRAFT_POINTING_MODE = ACROSSTRACK
^MEX_POINTING_DESC = "MEX_POINTING_DESC.TXT"
RIGHT_ASCENSION = -1e+32
DECLINATION = -1e+32
OFFSET_ANGLE = -0.84
SPACECRAFT_SOLAR_DISTANCE = 2.06802e+08
TARGET_NAME = MARS
/* CAMERA DATA ELEMENTS */
DETECTOR_TEMPERATURE = 18.7783
FOCAL_PLANE_TEMPERATURE = 8.5833
INST_CMPRS_NAME = "DISCRETE COSINE TRANSFORMATION (DCT)"
INST_CMPRS_RATIO = 33.115
INST_CMPRS_QUALITY = 0
INST_CMPRS_QUANTZ_TBL_ID = 0
INSTRUMENT_TEMPERATURE = 11.4379
LENS_TEMPERATURE = 8.9911
MACROPIXEL_SIZE = 8
MISSING_FRAMES = 0
PIXEL_SUBSAMPLING_FLAG = N
SIGNAL_CHAIN_ID = 2
/* RADIOMETRIC DATA ELEMENTS */
BANDWIDTH = 48.0
CENTER_FILTER_WAVELENGTH = 748.0
RADIANCE_OFFSET = 1.74952
RADIANCE_SCALING_FACTOR = 0.00396405
REFLECTANCE_SCALING_FACTOR = 0.000386878
MEX:REFLECTANCE_OFFSET = 0.170747
/* IMAGE OBJECT DEFINITIONS */
OBJECT = IMAGE
  INTERCHANGE_FORMAT = BINARY
  LINES = 6070
  LINE_SAMPLES = 1585
  SAMPLE_TYPE = UNSIGNED_INTEGER
  SAMPLE_BITS = 8
  BANDS = 1
  BAND_STORAGE_TYPE = BAND_SEQUENTIAL
  MAXIMUM = 255
  MEAN = 128.831
  MINIMUM = 2
  STANDARD_DEVIATION = 42.3338
END_OBJECT = IMAGE
/* MAP OBJECT DEFINITIONS */
OBJECT = IMAGE_MAP_PROJECTION
  ^DATA_SET_MAP_PROJECTION_CATALOG= "DSMAP.CAT"
  A_AXIS_RADIUS = 3396.0
  B_AXIS_RADIUS = 3396.0
  C_AXIS_RADIUS = 3396.0
  CENTER_LATITUDE = 0.0
  CENTER_LONGITUDE = 180.0
  COORDINATE_SYSTEM_NAME = PLANETOGRAPHIC
  COORDINATE_SYSTEM_TYPE = "BODY-FIXED ROTATING"
  EASTERNMOST_LONGITUDE = 183.826
  FIRST_STANDARD_PARALLEL = "N/A"
  LINE_FIRST_PIXEL = 1
  LINE_LAST_PIXEL = 6070
  LINE_PROJECTION_OFFSET = -40970.5625
  MAP_PROJECTION_ROTATION = 0.0
  MAP_PROJECTION_TYPE = SINUSOIDAL
  MAP_RESOLUTION = 592.713803866667
  MAP_SCALE = 0.1
  MAXIMUM_LATITUDE = -69.1699
  MINIMUM_LATITUDE = -79.42870000000001
  POSITIVE_LONGITUDE_DIRECTION = EAST
  REFERENCE_LATITUDE = "N/A"
  REFERENCE_LONGITUDE = "N/A"
  SAMPLE_FIRST_PIXEL = 1
  SAMPLE_LAST_PIXEL = 1585
  SAMPLE_PROJECTION_OFFSET = 789.4375
  SECOND_STANDARD_PARALLEL = "N/A"
  WESTERNMOST_LONGITUDE = 172.7
END_OBJECT = IMAGE_MAP_PROJECTION
END
