PDS_VERSION_ID = PDS3
/* FILE DATA ELEMENTS */
RECORD_TYPE = UNDEFINED
/* POINTERS TO DATA OBJECTS */
^IMAGE = ("H4425_0000_S14.TIF")
/* IDENTIFICATION DATA ELEMENTS */
DATA_SET_ID = "MEX-M-HRSC-4-REFDR-MAPPROJECT-EXT1-V4.0"
DATA_SET_NAME = "MARS EXPRESS HRSC MAP PROJECTED REFDR EXTENSION1 V4.0"
DETECTOR_ID = MEX_HRSC_S1
EVENT_TYPE = "MARS-REGIONAL-MAPPING-Im-Gl-Pf"
INSTRUMENT_HOST_ID = MEX
INSTRUMENT_HOST_NAME = "MARS EXPRESS"
INSTRUMENT_ID = HRSC
INSTRUMENT_NAME = "HIGH RESOLUTION STEREO CAMERA"
MISSION_NAME = "MARS EXPRESS"
MISSION_PHASE_NAME = ME_Phase_8
PROCESSING_LEVEL_ID = 4
PRODUCT_CREATION_TIME = 2023-02-10T03:49:22.000Z
PRODUCT_ID = "H4425_0000_S14.TIF"
RELEASE_ID = 0006
REVISION_ID = 0000
/* QUALITY DATA ELEMENTS */
DATA_QUALITY_ID = 1
DATA_QUALITY_DESC = "Data calculated based on original SPICE kernels"
/* TIME DATA ELEMENTS */
SPACECRAFT_CLOCK_START_COUNT = "1/0130008897.07299"
SPACECRAFT_CLOCK_STOP_COUNT = "1/0130009118.14685"
START_TIME = 2007-06-15T17:36:09.475Z
STOP_TIME = 2007-06-15T17:38:40.331Z
/* ORBITAL DATA ELEMENTS */
ASCENDING_NODE_LONGITUDE = 135.68
MAXIMUM_RESOLUTION = 0.0255
FOOTPRINT_POINT_LATITUDE = (-79.2535,-79.1471,-79.0477,-78.9401, -78.9366,-79.0243,-78.717,-78.5118, -78.3069,-78.1009,-77.8945,-77.6881, -77.4814,-77.1733,-76.86,-76.6518, -76.4436,-76.2349,-76.0294,-75.827, -75.6251,-75.4223,-75.2197,-75.0164, -74.8137,-74.61,-74.3052,-74.1041, -73.907,-73.6114,-73.4158,-73.222, -73.029,-72.8306,-72.6301,-72.43, -72.2319,-72.0349,-71.8355,-71.6434, -71.2664,-71.0724,-70.784,-70.4023, -69.9235,-69.5459,-69.2534,-69.1562, -69.0614,-69.1239,-69.1604,-69.2066, -69.235,-69.2367,-69.2377,-69.5281, -69.8183,-70.0119,-70.2053,-70.3994, -70.5925,-70.8819,-71.0754,-71.2682, -71.4609,-71.6536,-71.8461,-72.039, -72.2378,-72.535,-72.8342,-73.1415, -73.3344,-73.5345,-73.7327,-73.9321, -74.1327,-74.3333,-74.5374,-74.7442, -74.9507,-75.1571,-75.363,-75.5698, -75.7763,-75.9818,-76.2899,-76.4984, -76.7105,-76.9234,-77.2422,-77.5639, -77.7765,-77.9842,-78.3009,-78.5128, -78.8302,-79.1487,-79.2517,-79.2535)
FOOTPRINT_POINT_LONGITUDE = (179.395,177.063,175.182,173.374, 173.319,173.242,173.696,173.984,174.261 ,174.529,174.787,175.036,175.276, 175.621,175.95,176.16,176.363,176.56, 176.748,176.926,177.1,177.268,177.431, 177.59,177.744,177.894,178.11,178.248, 178.379,178.569,178.692,178.812,178.929 ,179.043,179.153,179.261,179.366, 179.469,179.569,179.663,179.847,179.934 ,180.063,180.227,180.423,180.573, 180.679,180.714,180.748,181.739,182.351 ,183.186,183.736,183.767,183.778, 183.722,183.665,183.625,183.584,183.544 ,183.501,183.434,183.39,183.342,183.294 ,183.245,183.193,183.141,183.084, 182.995,182.906,182.833,182.755,182.692 ,182.623,182.555,182.488,182.42,182.346 ,182.269,182.19,182.108,182.023,181.937 ,181.849,181.755,181.609,181.506, 181.398,181.288,181.116,180.943,180.818 ,180.675,180.466,180.323,180.097, 179.862,179.771,179.395)
ORBIT_NUMBER = 4425
ORBITAL_ECCENTRICITY = 0.57
ORBITAL_INCLINATION = 86.69
ORBITAL_SEMIMAJOR_AXIS = 8550.95
PERIAPSIS_ALTITUDE = 292.25
PERIAPSIS_ARGUMENT_ANGLE = 298.82
PERIAPSIS_TIME = 2007-06-15T17:40:16.000Z
SPACECRAFT_ORIENTATION = (0.0,1.0,0.0)
^MEX_ORIENTATION_DESC = "MEX_ORIENTATION_DESC.TXT"
SPACECRAFT_POINTING_MODE = ACROSSTRACK
^MEX_POINTING_DESC = "MEX_POINTING_DESC.TXT"
RIGHT_ASCENSION = -1e+32
DECLINATION = -1e+32
OFFSET_ANGLE = -0.84
SPACECRAFT_SOLAR_DISTANCE = 2.06802e+08
TARGET_NAME = MARS
/* CAMERA DATA ELEMENTS */
DETECTOR_TEMPERATURE = 17.7588
FOCAL_PLANE_TEMPERATURE = 8.5833
INST_CMPRS_NAME = "DISCRETE COSINE TRANSFORMATION (DCT)"
INST_CMPRS_RATIO = 13.2569
INST_CMPRS_QUALITY = 0
INST_CMPRS_QUANTZ_TBL_ID = 0
INSTRUMENT_TEMPERATURE = 11.4379
LENS_TEMPERATURE = 8.9911
MACROPIXEL_SIZE = 2
MISSING_FRAMES = 0
PIXEL_SUBSAMPLING_FLAG = N
SIGNAL_CHAIN_ID = 1
/* RADIOMETRIC DATA ELEMENTS */
BANDWIDTH = 180.0
CENTER_FILTER_WAVELENGTH = 677.0
RADIANCE_OFFSET = 6.93804
RADIANCE_SCALING_FACTOR = 0.0138656
REFLECTANCE_SCALING_FACTOR = 0.000309379
MEX:REFLECTANCE_OFFSET = 0.154806
/* IMAGE OBJECT DEFINITIONS */
OBJECT = IMAGE
  INTERCHANGE_FORMAT = BINARY
  LINES = 24279
  LINE_SAMPLES = 6337
  SAMPLE_TYPE = UNSIGNED_INTEGER
  SAMPLE_BITS = 8
  BANDS = 1
  BAND_STORAGE_TYPE = BAND_SEQUENTIAL
  MAXIMUM = 255
  MEAN = 133.072
  MINIMUM = 1
  STANDARD_DEVIATION = 46.9594
END_OBJECT = IMAGE
/* MAP OBJECT DEFINITIONS */
OBJECT = IMAGE_MAP_PROJECTION
  ^DATA_SET_MAP_PROJECTION_CATALOG= "DSMAP.CAT"
  A_AXIS_RADIUS = 3396.0
  B_AXIS_RADIUS = 3396.0
  C_AXIS_RADIUS = 3396.0
  CENTER_LATITUDE = 0.0
  CENTER_LONGITUDE = 180.0
  COORDINATE_SYSTEM_NAME = PLANETOGRAPHIC
  COORDINATE_SYSTEM_TYPE = "BODY-FIXED ROTATING"
  EASTERNMOST_LONGITUDE = 183.778
  FIRST_STANDARD_PARALLEL = "N/A"
  LINE_FIRST_PIXEL = 1
  LINE_LAST_PIXEL = 24279
  LINE_PROJECTION_OFFSET = -163880.75
  MAP_PROJECTION_ROTATION = 0.0
  MAP_PROJECTION_TYPE = SINUSOIDAL
  MAP_RESOLUTION = 2370.85521546667
  MAP_SCALE = 0.025
  MAXIMUM_LATITUDE = -69.06140000000001
  MINIMUM_LATITUDE = -79.2535
  POSITIVE_LONGITUDE_DIRECTION = EAST
  REFERENCE_LATITUDE = "N/A"
  REFERENCE_LONGITUDE = "N/A"
  SAMPLE_FIRST_PIXEL = 1
  SAMPLE_LAST_PIXEL = 6337
  SAMPLE_PROJECTION_OFFSET = 3159.25
  SECOND_STANDARD_PARALLEL = "N/A"
  WESTERNMOST_LONGITUDE = 173.242
END_OBJECT = IMAGE_MAP_PROJECTION
END
