PDS_VERSION_ID = PDS3
/* FILE DATA ELEMENTS */
RECORD_TYPE = UNDEFINED
/* POINTERS TO DATA OBJECTS */
^IMAGE = ("H4434_0000_ND4.TIF")
/* IDENTIFICATION DATA ELEMENTS */
DATA_SET_ID = "MEX-M-HRSC-4-REFDR-MAPPROJECT-EXT1-V4.0"
DATA_SET_NAME = "MARS EXPRESS HRSC MAP PROJECTED REFDR EXTENSION1 V4.0"
DETECTOR_ID = MEX_HRSC_NADIR
EVENT_TYPE = "MARS-REGIONAL-MAPPING-Vo-Gl-La"
INSTRUMENT_HOST_ID = MEX
INSTRUMENT_HOST_NAME = "MARS EXPRESS"
INSTRUMENT_ID = HRSC
INSTRUMENT_NAME = "HIGH RESOLUTION STEREO CAMERA"
MISSION_NAME = "MARS EXPRESS"
MISSION_PHASE_NAME = ME_Phase_8
PROCESSING_LEVEL_ID = 4
PRODUCT_CREATION_TIME = 2023-02-10T03:49:22.000Z
PRODUCT_ID = "H4434_0000_ND4.TIF"
RELEASE_ID = 0006
REVISION_ID = 0000
/* QUALITY DATA ELEMENTS */
DATA_QUALITY_ID = 1
DATA_QUALITY_DESC = "Data calculated based on original SPICE kernels"
/* TIME DATA ELEMENTS */
SPACECRAFT_CLOCK_START_COUNT = "1/0130226728.08250"
SPACECRAFT_CLOCK_STOP_COUNT = "1/0130226998.15554"
START_TIME = 2007-06-18T06:06:02.596Z
STOP_TIME = 2007-06-18T06:09:34.604Z
/* ORBITAL DATA ELEMENTS */
ASCENDING_NODE_LONGITUDE = 135.5
MAXIMUM_RESOLUTION = 0.0116
FOOTPRINT_POINT_LATITUDE = (-74.4583,-74.3969,-74.3434,-74.2499, -74.2475,-74.2377,-73.9493,-73.6603, -73.3708,-73.0807,-72.7901,-72.3546, -72.0729,-71.7906,-71.5081,-71.2251, -70.9418,-70.658,-70.3738,-70.0894, -69.6662,-69.3912,-69.1159,-68.8403, -68.4235,-68.1473,-67.8709,-67.5942, -67.3174,-67.0405,-66.7632,-66.4857, -66.2081,-65.9303,-65.6528,-65.1171, -64.5809,-64.0443,-63.5072,-62.9698, -62.701,-62.4321,-62.0286,-61.4907, -61.087,-60.5485,-60.4139,-60.4026, -60.4466,-60.4902,-60.4909,-60.4914, -60.7618,-61.0323,-61.3027,-61.5731, -61.9787,-62.3843,-62.7898,-63.0601, -63.3304,-63.6006,-63.8708,-64.1409, -64.411,-64.816,-65.0859,-65.3557, -65.7603,-66.0394,-66.3193,-66.599, -66.8787,-67.1582,-67.4376,-67.7169, -67.996,-68.275,-68.5538,-68.9748, -69.2532,-69.5314,-69.8095,-70.2371, -70.5248,-70.8123,-71.0997,-71.3869, -71.6738,-71.9604,-72.2467,-72.5328, -72.8269,-73.1226,-73.4179,-73.7128, -74.0074,-74.3017,-74.4487,-74.4583)
FOOTPRINT_POINT_LONGITUDE = (14.2491,12.9736,11.9759,10.4164, 10.3786,10.2607,10.5184,10.766,11.0044, 11.2345,11.4564,11.7738,11.9696,12.159, 12.3429,12.52,12.6931,12.858,13.018, 13.1742,13.3976,13.5367,13.6719,13.8036 ,13.9947,14.1169,14.2355,14.3508, 14.4638,14.5739,14.6793,14.7823,14.8827 ,14.9803,15.0748,15.2518,15.4189, 15.5783,15.7297,15.8736,15.9432,16.0107 ,16.1094,16.237,16.3273,16.442,16.47, 16.4726,17.4006,18.4935,18.5138,18.5237 ,18.4832,18.4423,18.3999,18.3572, 18.2908,18.2228,18.1518,18.1029,18.0512 ,17.9981,17.9476,17.8983,17.8445, 17.7604,17.7028,17.645,17.554,17.4899, 17.4229,17.3551,17.2848,17.2129,17.1402 ,17.0657,16.9883,16.9089,16.8275, 16.6997,16.6123,16.5225,16.4295,16.2821 ,16.1735,16.0617,15.9581,15.8485, 15.7314,15.6106,15.4859,15.357,15.2194, 15.0764,14.9283,14.7736,14.6138,14.4477 ,14.3626,14.2491)
ORBIT_NUMBER = 4434
ORBITAL_ECCENTRICITY = 0.57
ORBITAL_INCLINATION = 86.69
ORBITAL_SEMIMAJOR_AXIS = 8550.5
PERIAPSIS_ALTITUDE = 292.3
PERIAPSIS_ARGUMENT_ANGLE = 297.23
PERIAPSIS_TIME = 2007-06-18T06:09:03.000Z
SPACECRAFT_ORIENTATION = (0.0,1.0,0.0)
^MEX_ORIENTATION_DESC = "MEX_ORIENTATION_DESC.TXT"
SPACECRAFT_POINTING_MODE = NADIR
^MEX_POINTING_DESC = "MEX_POINTING_DESC.TXT"
RIGHT_ASCENSION = -1e+32
DECLINATION = -1e+32
OFFSET_ANGLE = -1e+32
SPACECRAFT_SOLAR_DISTANCE = 2.0687e+08
TARGET_NAME = MARS
/* CAMERA DATA ELEMENTS */
DETECTOR_TEMPERATURE = 18.3705
FOCAL_PLANE_TEMPERATURE = 8.1755
INST_CMPRS_NAME = "DISCRETE COSINE TRANSFORMATION (DCT)"
INST_CMPRS_RATIO = 8.51699
INST_CMPRS_QUALITY = 0
INST_CMPRS_QUANTZ_TBL_ID = 0
INSTRUMENT_TEMPERATURE = 11.234
LENS_TEMPERATURE = 8.5833
MACROPIXEL_SIZE = 1
MISSING_FRAMES = 2
PIXEL_SUBSAMPLING_FLAG = N
SIGNAL_CHAIN_ID = 0
/* RADIOMETRIC DATA ELEMENTS */
BANDWIDTH = 177.0
CENTER_FILTER_WAVELENGTH = 677.5
RADIANCE_OFFSET = 5.08975
RADIANCE_SCALING_FACTOR = 0.0234821
REFLECTANCE_SCALING_FACTOR = 0.000533845
MEX:REFLECTANCE_OFFSET = 0.115711
/* IMAGE OBJECT DEFINITIONS */
OBJECT = IMAGE
  INTERCHANGE_FORMAT = BINARY
  LINES = 66661
  LINE_SAMPLES = 13289
  SAMPLE_TYPE = UNSIGNED_INTEGER
  SAMPLE_BITS = 8
  BANDS = 1
  BAND_STORAGE_TYPE = BAND_SEQUENTIAL
  MAXIMUM = 255
  MEAN = 94.1701
  MINIMUM = 1
  STANDARD_DEVIATION = 19.6712
END_OBJECT = IMAGE
/* MAP OBJECT DEFINITIONS */
OBJECT = IMAGE_MAP_PROJECTION
  ^DATA_SET_MAP_PROJECTION_CATALOG= "DSMAP.CAT"
  A_AXIS_RADIUS = 3396.0
  B_AXIS_RADIUS = 3396.0
  C_AXIS_RADIUS = 3396.0
  CENTER_LATITUDE = 0.0
  CENTER_LONGITUDE = 16.0
  COORDINATE_SYSTEM_NAME = PLANETOGRAPHIC
  COORDINATE_SYSTEM_TYPE = "BODY-FIXED ROTATING"
  EASTERNMOST_LONGITUDE = 18.5237
  FIRST_STANDARD_PARALLEL = "N/A"
  LINE_FIRST_PIXEL = 1
  LINE_LAST_PIXEL = 66661
  LINE_PROJECTION_OFFSET = -286413.0
  MAP_PROJECTION_ROTATION = 0.0
  MAP_PROJECTION_TYPE = SINUSOIDAL
  MAP_RESOLUTION = 4741.71043093333
  MAP_SCALE = 0.0125
  MAXIMUM_LATITUDE = -60.4026
  MINIMUM_LATITUDE = -74.45829999999999
  POSITIVE_LONGITUDE_DIRECTION = EAST
  REFERENCE_LATITUDE = "N/A"
  REFERENCE_LONGITUDE = "N/A"
  SAMPLE_FIRST_PIXEL = 1
  SAMPLE_LAST_PIXEL = 13289
  SAMPLE_PROJECTION_OFFSET = 7392.0
  SECOND_STANDARD_PARALLEL = "N/A"
  WESTERNMOST_LONGITUDE = 10.2607
END_OBJECT = IMAGE_MAP_PROJECTION
END
