PDS_VERSION_ID = PDS3
/* FILE DATA ELEMENTS */
RECORD_TYPE = UNDEFINED
/* POINTERS TO DATA OBJECTS */
^IMAGE = ("H4442_0000_P14.TIF")
/* IDENTIFICATION DATA ELEMENTS */
DATA_SET_ID = "MEX-M-HRSC-4-REFDR-MAPPROJECT-EXT1-V4.0"
DATA_SET_NAME = "MARS EXPRESS HRSC MAP PROJECTED REFDR EXTENSION1 V4.0"
DETECTOR_ID = MEX_HRSC_P1
EVENT_TYPE = "MARS-REGIONAL-MAPPING-Gl-Pf-La"
INSTRUMENT_HOST_ID = MEX
INSTRUMENT_HOST_NAME = "MARS EXPRESS"
INSTRUMENT_ID = HRSC
INSTRUMENT_NAME = "HIGH RESOLUTION STEREO CAMERA"
MISSION_NAME = "MARS EXPRESS"
MISSION_PHASE_NAME = ME_Phase_8
PROCESSING_LEVEL_ID = 4
PRODUCT_CREATION_TIME = 2023-02-10T03:49:22.000Z
PRODUCT_ID = "H4442_0000_P14.TIF"
RELEASE_ID = 0006
REVISION_ID = 0000
/* QUALITY DATA ELEMENTS */
DATA_QUALITY_ID = 1
DATA_QUALITY_DESC = "Data calculated based on original SPICE kernels"
/* TIME DATA ELEMENTS */
SPACECRAFT_CLOCK_START_COUNT = "1/0130420131.08418"
SPACECRAFT_CLOCK_STOP_COUNT = "1/0130420410.07204"
START_TIME = 2007-06-20T11:49:55.271Z
STOP_TIME = 2007-06-20T11:53:23.214Z
/* ORBITAL DATA ELEMENTS */
ASCENDING_NODE_LONGITUDE = 135.34
MAXIMUM_RESOLUTION = 0.0488
FOOTPRINT_POINT_LATITUDE = (-83.6222,-83.3302,-83.0082,-83.0017, -83.0276,-82.7511,-82.5107,-82.2706, -82.0272,-81.7827,-81.5325,-81.2786, -80.8985,-80.5093,-80.2487,-79.855, -79.4562,-79.1866,-78.9202,-78.6541, -78.2573,-77.862,-77.5967,-77.3313, -77.0651,-76.8039,-76.4154,-76.155, -75.8946,-75.6339,-75.3722,-75.1098, -74.8493,-74.5952,-74.2132,-73.9581, -73.7027,-73.447,-73.1911,-72.9347, -72.5497,-72.2927,-71.7956,-71.4224, -71.1734,-70.801,-70.5518,-70.3025, -70.1775,-70.1095,-70.1592,-70.2186, -70.2621,-70.2633,-70.2645,-70.5166, -70.769,-71.0214,-71.3999,-71.652, -72.1533,-72.4055,-72.6657,-72.9269, -73.1876,-73.5784,-73.8388,-74.0989, -74.4888,-74.7488,-75.0082,-75.2719, -75.5404,-75.8082,-76.0759,-76.344, -76.6112,-77.0113,-77.2764,-77.5516, -77.9632,-78.2381,-78.5106,-78.7839, -79.0585,-79.3391,-79.6209,-79.9015, -80.1807,-80.5953,-80.8713,-81.2848, -81.8322,-82.237,-82.5065,-82.7733, -83.0396,-83.4472,-83.6023,-83.6222)
FOOTPRINT_POINT_LONGITUDE = (291.733,286.99,282.784,282.707,282.123 ,283.753,285.046,286.237,287.356, 288.381,289.381,290.335,291.609,292.82, 293.561,294.596,295.563,296.181,296.737 ,297.268,298.032,298.721,299.16,299.574 ,299.972,300.347,300.873,301.209,301.53 ,301.838,302.136,302.424,302.699, 302.958,303.329,303.566,303.795,304.016 ,304.23,304.437,304.736,304.928,305.282 ,305.535,305.697,305.927,306.077, 306.223,306.295,306.333,307.211,308.371 ,309.332,309.36,309.369,309.269,309.166 ,309.06,308.896,308.782,308.544,308.42, 308.289,308.153,308.012,307.791,307.638 ,307.48,307.233,307.061,306.883,306.695 ,306.496,306.29,306.076,305.853,305.621 ,305.255,304.997,304.72,304.279,303.968 ,303.642,303.3,302.941,302.552,302.14, 301.705,301.245,300.505,299.973,299.113 ,297.83,296.752,295.967,295.125,294.217 ,292.658,292.008,291.733)
ORBIT_NUMBER = 4442
ORBITAL_ECCENTRICITY = 0.57
ORBITAL_INCLINATION = 86.69
ORBITAL_SEMIMAJOR_AXIS = 8546.06
PERIAPSIS_ALTITUDE = 292.33
PERIAPSIS_ARGUMENT_ANGLE = 295.87
PERIAPSIS_TIME = 2007-06-20T11:54:42.000Z
SPACECRAFT_ORIENTATION = (0.0,1.0,0.0)
^MEX_ORIENTATION_DESC = "MEX_ORIENTATION_DESC.TXT"
SPACECRAFT_POINTING_MODE = ACROSSTRACK
^MEX_POINTING_DESC = "MEX_POINTING_DESC.TXT"
RIGHT_ASCENSION = -1e+32
DECLINATION = -1e+32
OFFSET_ANGLE = 0.2
SPACECRAFT_SOLAR_DISTANCE = 2.06942e+08
TARGET_NAME = MARS
/* CAMERA DATA ELEMENTS */
DETECTOR_TEMPERATURE = 17.5549
FOCAL_PLANE_TEMPERATURE = 8.5833
INST_CMPRS_NAME = "DISCRETE COSINE TRANSFORMATION (DCT)"
INST_CMPRS_RATIO = 10.2743
INST_CMPRS_QUALITY = 0
INST_CMPRS_QUANTZ_TBL_ID = 0
INSTRUMENT_TEMPERATURE = 11.4379
LENS_TEMPERATURE = 8.9911
MACROPIXEL_SIZE = 4
MISSING_FRAMES = 0
PIXEL_SUBSAMPLING_FLAG = N
SIGNAL_CHAIN_ID = 3
/* RADIOMETRIC DATA ELEMENTS */
BANDWIDTH = 174.0
CENTER_FILTER_WAVELENGTH = 675.0
RADIANCE_OFFSET = 7.32936
RADIANCE_SCALING_FACTOR = 0.0316492
REFLECTANCE_SCALING_FACTOR = 0.000729024
MEX:REFLECTANCE_OFFSET = 0.168829
/* IMAGE OBJECT DEFINITIONS */
OBJECT = IMAGE
  INTERCHANGE_FORMAT = BINARY
  LINES = 16137
  LINE_SAMPLES = 5591
  SAMPLE_TYPE = UNSIGNED_INTEGER
  SAMPLE_BITS = 8
  BANDS = 1
  BAND_STORAGE_TYPE = BAND_SEQUENTIAL
  MAXIMUM = 255
  MEAN = 130.13
  MINIMUM = 1
  STANDARD_DEVIATION = 92.6851
END_OBJECT = IMAGE
/* MAP OBJECT DEFINITIONS */
OBJECT = IMAGE_MAP_PROJECTION
  ^DATA_SET_MAP_PROJECTION_CATALOG= "DSMAP.CAT"
  A_AXIS_RADIUS = 3396.0
  B_AXIS_RADIUS = 3396.0
  C_AXIS_RADIUS = 3396.0
  CENTER_LATITUDE = 0.0
  CENTER_LONGITUDE = 303.0
  COORDINATE_SYSTEM_NAME = PLANETOGRAPHIC
  COORDINATE_SYSTEM_TYPE = "BODY-FIXED ROTATING"
  EASTERNMOST_LONGITUDE = 309.369
  FIRST_STANDARD_PARALLEL = "N/A"
  LINE_FIRST_PIXEL = 1
  LINE_LAST_PIXEL = 16137
  LINE_PROJECTION_OFFSET = -83101.125
  MAP_PROJECTION_ROTATION = 0.0
  MAP_PROJECTION_TYPE = SINUSOIDAL
  MAP_RESOLUTION = 1185.42760773333
  MAP_SCALE = 0.05
  MAXIMUM_LATITUDE = -70.1095
  MINIMUM_LATITUDE = -83.62220000000001
  POSITIVE_LONGITUDE_DIRECTION = EAST
  REFERENCE_LATITUDE = "N/A"
  REFERENCE_LONGITUDE = "N/A"
  SAMPLE_FIRST_PIXEL = 1
  SAMPLE_LAST_PIXEL = 5591
  SAMPLE_PROJECTION_OFFSET = 3038.125
  SECOND_STANDARD_PARALLEL = "N/A"
  WESTERNMOST_LONGITUDE = 282.123
END_OBJECT = IMAGE_MAP_PROJECTION
END
