PDS_VERSION_ID = PDS3
/* FILE DATA ELEMENTS */
RECORD_TYPE = UNDEFINED
/* POINTERS TO DATA OBJECTS */
^IMAGE = ("H4447_0009_P14.TIF")
/* IDENTIFICATION DATA ELEMENTS */
DATA_SET_ID = "MEX-M-HRSC-4-REFDR-MAPPROJECT-EXT1-V4.0"
DATA_SET_NAME = "MARS EXPRESS HRSC MAP PROJECTED REFDR EXTENSION1 V4.0"
DETECTOR_ID = MEX_HRSC_P1
EVENT_TYPE = "MARS-REGIONAL-VARIABLE-Gl-La-At"
INSTRUMENT_HOST_ID = MEX
INSTRUMENT_HOST_NAME = "MARS EXPRESS"
INSTRUMENT_ID = HRSC
INSTRUMENT_NAME = "HIGH RESOLUTION STEREO CAMERA"
MISSION_NAME = "MARS EXPRESS"
MISSION_PHASE_NAME = ME_Phase_8
PROCESSING_LEVEL_ID = 4
PRODUCT_CREATION_TIME = 2023-02-10T03:49:22.000Z
PRODUCT_ID = "H4447_0009_P14.TIF"
RELEASE_ID = 0006
REVISION_ID = 0000
/* QUALITY DATA ELEMENTS */
DATA_QUALITY_ID = 1
DATA_QUALITY_DESC = "Data calculated based on original SPICE kernels"
/* TIME DATA ELEMENTS */
SPACECRAFT_CLOCK_START_COUNT = "1/0130540990.09086"
SPACECRAFT_CLOCK_STOP_COUNT = "1/0130541211.31316"
START_TIME = 2007-06-21T21:24:26.734Z
STOP_TIME = 2007-06-21T21:26:43.105Z
/* ORBITAL DATA ELEMENTS */
ASCENDING_NODE_LONGITUDE = 135.23
MAXIMUM_RESOLUTION = 0.0282
FOOTPRINT_POINT_LATITUDE = (-87.7621,-87.4947,-87.2964,-87.096, -86.8944,-86.6918,-86.4886,-86.4759, -86.4514,-86.5138,-86.5887,-86.6255, -86.66,-86.6693,-86.6677,-86.6449, -86.6167,-86.579,-86.5319,-86.4437, -86.3741,-86.2549,-86.1662,-86.0707, -85.9688,-85.8052,-85.6897,-85.5689, -85.4435,-85.3135,-85.1793,-85.0419, -84.9015,-84.7585,-84.6132,-84.4658, -84.3169,-84.1625,-84.0044,-83.8462, -83.5658,-83.2935,-83.0872,-82.7396, -82.53,-82.2485,-82.1013,-81.9562, -81.6666,-81.5939,-81.5688,-81.6406, -81.7098,-81.78,-81.8345,-81.9195, -81.9744,-81.9777,-81.9793,-82.2099, -82.5164,-82.8222,-82.9752,-83.1275, -83.3545,-83.731,-84.0308,-84.3297, -84.5009,-84.6772,-84.9398,-85.1138, -85.286,-85.4565,-85.626,-85.7931, -85.9591,-86.1236,-86.2873,-86.4484, -86.6043,-86.7567,-86.9051,-87.12, -87.2573,-87.4512,-87.5715,-87.7349, -87.8312,-87.9154,-88.0165,-88.0837, -88.1052,-88.1021,-88.0548,-88.0, -87.9287,-87.8425,-87.7941,-87.7621)
FOOTPRINT_POINT_LONGITUDE = (66.9203,70.6682,72.8997,74.8071, 76.4512,77.8819,79.1367,79.21,78.3491, 81.3361,85.9977,89.2076,94.0712,97.3289 ,100.603,105.473,108.625,111.676, 114.645,118.953,121.696,125.602,128.063 ,130.409,132.639,135.771,137.72,139.573 ,141.326,142.99,144.565,146.051,147.454 ,148.777,150.025,151.205,152.317, 153.393,154.421,155.387,156.958,158.334 ,159.293,160.766,161.579,162.592, 163.087,163.555,164.437,164.648,164.72, 165.885,167.083,168.387,169.486,171.342 ,172.67,172.754,172.784,172.377,171.796 ,171.167,170.834,170.484,169.926, 168.906,168.0,167.003,166.377,165.688, 164.565,163.749,162.872,161.926,160.909 ,159.808,158.619,157.331,155.934,154.41 ,152.737,150.904,148.893,145.499, 142.947,138.622,135.368,129.876,125.778 ,121.327,114.007,105.851,100.167, 91.5388,83.0578,77.6809,72.6024,67.8618 ,65.669,66.9203)
ORBIT_NUMBER = 4447
ORBITAL_ECCENTRICITY = 0.57
ORBITAL_INCLINATION = 86.69
ORBITAL_SEMIMAJOR_AXIS = 8546.18
PERIAPSIS_ALTITUDE = 292.44
PERIAPSIS_ARGUMENT_ANGLE = 294.99
PERIAPSIS_TIME = 2007-06-21T21:30:44.000Z
SPACECRAFT_ORIENTATION = (0.0,1.0,0.0)
^MEX_ORIENTATION_DESC = "MEX_ORIENTATION_DESC.TXT"
SPACECRAFT_POINTING_MODE = ACROSSTRACK
^MEX_POINTING_DESC = "MEX_POINTING_DESC.TXT"
RIGHT_ASCENSION = -1e+32
DECLINATION = -1e+32
OFFSET_ANGLE = -0.65
SPACECRAFT_SOLAR_DISTANCE = 2.06992e+08
TARGET_NAME = MARS
/* CAMERA DATA ELEMENTS */
DETECTOR_TEMPERATURE = 18.5744
FOCAL_PLANE_TEMPERATURE = 9.3989
INST_CMPRS_NAME = "DISCRETE COSINE TRANSFORMATION (DCT)"
INST_CMPRS_RATIO = 9.68612
INST_CMPRS_QUALITY = 0
INST_CMPRS_QUANTZ_TBL_ID = 0
INSTRUMENT_TEMPERATURE = 13.8847
LENS_TEMPERATURE = 9.6028
MACROPIXEL_SIZE = 2
MISSING_FRAMES = 1
PIXEL_SUBSAMPLING_FLAG = N
SIGNAL_CHAIN_ID = 3
/* RADIOMETRIC DATA ELEMENTS */
BANDWIDTH = 174.0
CENTER_FILTER_WAVELENGTH = 675.0
RADIANCE_OFFSET = 4.90857
RADIANCE_SCALING_FACTOR = 0.0310472
REFLECTANCE_SCALING_FACTOR = 0.000715506
MEX:REFLECTANCE_OFFSET = 0.113121
/* IMAGE OBJECT DEFINITIONS */
OBJECT = IMAGE
  INTERCHANGE_FORMAT = BINARY
  LINES = 21515
  LINE_SAMPLES = 5976
  SAMPLE_TYPE = UNSIGNED_INTEGER
  SAMPLE_BITS = 8
  BANDS = 1
  BAND_STORAGE_TYPE = BAND_SEQUENTIAL
  MAXIMUM = 255
  MEAN = 52.2085
  MINIMUM = 1
  STANDARD_DEVIATION = 44.3547
END_OBJECT = IMAGE
/* MAP OBJECT DEFINITIONS */
OBJECT = IMAGE_MAP_PROJECTION
  ^DATA_SET_MAP_PROJECTION_CATALOG= "DSMAP.CAT"
  A_AXIS_RADIUS = 3396.0
  B_AXIS_RADIUS = 3396.0
  C_AXIS_RADIUS = 3396.0
  CENTER_LATITUDE = -90.0
  CENTER_LONGITUDE = 0.0
  COORDINATE_SYSTEM_NAME = PLANETOGRAPHIC
  COORDINATE_SYSTEM_TYPE = "BODY-FIXED ROTATING"
  EASTERNMOST_LONGITUDE = 172.784
  FIRST_STANDARD_PARALLEL = "N/A"
  LINE_FIRST_PIXEL = 1
  LINE_LAST_PIXEL = 21515
  LINE_PROJECTION_OFFSET = 2282.25
  MAP_PROJECTION_ROTATION = 0.0
  MAP_PROJECTION_TYPE = STEREOGRAPHIC
  MAP_RESOLUTION = 2370.85521546667
  MAP_SCALE = 0.025
  MAXIMUM_LATITUDE = -81.5688
  MINIMUM_LATITUDE = -88.1052
  POSITIVE_LONGITUDE_DIRECTION = EAST
  REFERENCE_LATITUDE = "N/A"
  REFERENCE_LONGITUDE = "N/A"
  SAMPLE_FIRST_PIXEL = 1
  SAMPLE_LAST_PIXEL = 5976
  SAMPLE_PROJECTION_OFFSET = -2369.75
  SECOND_STANDARD_PARALLEL = "N/A"
  WESTERNMOST_LONGITUDE = 65.669
END_OBJECT = IMAGE_MAP_PROJECTION
END
