PDS_VERSION_ID = PDS3
/* FILE DATA ELEMENTS */
RECORD_TYPE = UNDEFINED
/* POINTERS TO DATA OBJECTS */
^IMAGE = ("H4453_0000_IR4.TIF")
/* IDENTIFICATION DATA ELEMENTS */
DATA_SET_ID = "MEX-M-HRSC-4-REFDR-MAPPROJECT-EXT1-V4.0"
DATA_SET_NAME = "MARS EXPRESS HRSC MAP PROJECTED REFDR EXTENSION1 V4.0"
DETECTOR_ID = MEX_HRSC_IR
EVENT_TYPE = "MARS-REGIONAL-MAPPING-Im-Fl-Gl"
INSTRUMENT_HOST_ID = MEX
INSTRUMENT_HOST_NAME = "MARS EXPRESS"
INSTRUMENT_ID = HRSC
INSTRUMENT_NAME = "HIGH RESOLUTION STEREO CAMERA"
MISSION_NAME = "MARS EXPRESS"
MISSION_PHASE_NAME = ME_Phase_8
PROCESSING_LEVEL_ID = 4
PRODUCT_CREATION_TIME = 2023-02-10T03:49:22.000Z
PRODUCT_ID = "H4453_0000_IR4.TIF"
RELEASE_ID = 0006
REVISION_ID = 0000
/* QUALITY DATA ELEMENTS */
DATA_QUALITY_ID = 1
DATA_QUALITY_DESC = "Data calculated based on original SPICE kernels"
/* TIME DATA ELEMENTS */
SPACECRAFT_CLOCK_START_COUNT = "1/0130686528.08256"
SPACECRAFT_CLOCK_STOP_COUNT = "1/0130686799.25150"
START_TIME = 2007-06-23T13:49:39.704Z
STOP_TIME = 2007-06-23T13:53:16.325Z
/* ORBITAL DATA ELEMENTS */
ASCENDING_NODE_LONGITUDE = 135.12
MAXIMUM_RESOLUTION = 0.0484
FOOTPRINT_POINT_LATITUDE = (-68.2447,-68.1846,-68.1244,-68.123, -68.1899,-67.7788,-67.5041,-67.2302, -66.9559,-66.6818,-66.4079,-65.9969, -65.7228,-65.4508,-65.175,-64.902, -64.6284,-64.2206,-63.8087,-63.3996, -62.8564,-62.5831,-62.3025,-62.0185, -61.7356,-61.4532,-61.1717,-60.8879, -60.6071,-60.1867,-59.9044,-59.6259, -59.3447,-59.0531,-58.7702,-58.487, -58.2096,-57.9246,-57.4912,-57.2037, -56.7765,-56.4901,-56.2018,-55.9143, -55.6166,-55.3151,-54.8808,-54.5894, -54.2947,-54.1474,-54.1427,-54.1681, -54.1911,-54.2062,-54.2065,-54.2075, -54.5012,-54.7966,-55.0943,-55.3906, -55.681,-56.1227,-56.5558,-56.9899, -57.4233,-57.7135,-57.9939,-58.2929, -58.579,-58.9999,-59.283,-59.5643, -59.98,-60.4033,-60.69,-61.1134, -61.5388,-61.8227,-62.2487,-62.6722, -63.0828,-63.3565,-63.6304,-64.0408, -64.315,-64.5901,-64.864,-65.1391, -65.4194,-65.6954,-65.9711,-66.247, -66.5194,-66.7961,-67.2075,-67.4841, -67.899,-68.1758,-68.3147,-68.2447)
FOOTPRINT_POINT_LONGITUDE = (308.932,307.566,306.385,306.361, 306.218,306.4,306.518,306.631,306.742, 306.849,306.954,307.105,307.203,307.295 ,307.391,307.48,307.568,307.691,307.816 ,307.933,308.079,308.152,308.225, 308.298,308.367,308.435,308.499,308.566 ,308.627,308.715,308.775,308.828, 308.884,308.952,309.008,309.064,309.106 ,309.151,309.223,309.269,309.325, 309.368,309.411,309.454,309.502,309.549 ,309.597,309.631,309.668,309.686, 309.687,310.401,311.076,311.622,311.64, 311.646,311.613,311.579,311.546,311.511 ,311.473,311.422,311.368,311.309, 311.252,311.212,311.169,311.13,311.089, 311.027,310.985,310.941,310.872,310.802 ,310.756,310.682,310.606,310.554, 310.474,310.392,310.309,310.252,310.193 ,310.103,310.041,309.978,309.913, 309.847,309.78,309.711,309.64,309.567, 309.491,309.414,309.294,309.212,309.085 ,308.997,308.952,308.932)
ORBIT_NUMBER = 4453
ORBITAL_ECCENTRICITY = 0.57
ORBITAL_INCLINATION = 86.69
ORBITAL_SEMIMAJOR_AXIS = 8543.75
PERIAPSIS_ALTITUDE = 292.4
PERIAPSIS_ARGUMENT_ANGLE = 293.96
PERIAPSIS_TIME = 2007-06-23T13:49:56.000Z
SPACECRAFT_ORIENTATION = (0.0,1.0,0.0)
^MEX_ORIENTATION_DESC = "MEX_ORIENTATION_DESC.TXT"
SPACECRAFT_POINTING_MODE = ACROSSTRACK
^MEX_POINTING_DESC = "MEX_POINTING_DESC.TXT"
RIGHT_ASCENSION = -1e+32
DECLINATION = -1e+32
OFFSET_ANGLE = 0.2
SPACECRAFT_SOLAR_DISTANCE = 2.07057e+08
TARGET_NAME = MARS
/* CAMERA DATA ELEMENTS */
DETECTOR_TEMPERATURE = 17.351
FOCAL_PLANE_TEMPERATURE = 8.3794
INST_CMPRS_NAME = "DISCRETE COSINE TRANSFORMATION (DCT)"
INST_CMPRS_RATIO = 18.1444
INST_CMPRS_QUALITY = 0
INST_CMPRS_QUANTZ_TBL_ID = 0
INSTRUMENT_TEMPERATURE = 11.4379
LENS_TEMPERATURE = 8.7872
MACROPIXEL_SIZE = 4
MISSING_FRAMES = 1
PIXEL_SUBSAMPLING_FLAG = N
SIGNAL_CHAIN_ID = 2
/* RADIOMETRIC DATA ELEMENTS */
BANDWIDTH = 81.0
CENTER_FILTER_WAVELENGTH = 955.5
RADIANCE_OFFSET = 1.25129
RADIANCE_SCALING_FACTOR = 0.00684007
REFLECTANCE_SCALING_FACTOR = 0.000632661
MEX:REFLECTANCE_OFFSET = 0.115736
/* IMAGE OBJECT DEFINITIONS */
OBJECT = IMAGE
  INTERCHANGE_FORMAT = BINARY
  LINES = 16858
  LINE_SAMPLES = 2795
  SAMPLE_TYPE = UNSIGNED_INTEGER
  SAMPLE_BITS = 8
  BANDS = 1
  BAND_STORAGE_TYPE = BAND_SEQUENTIAL
  MAXIMUM = 255
  MEAN = 135.061
  MINIMUM = 1
  STANDARD_DEVIATION = 23.1052
END_OBJECT = IMAGE
/* MAP OBJECT DEFINITIONS */
OBJECT = IMAGE_MAP_PROJECTION
  ^DATA_SET_MAP_PROJECTION_CATALOG= "DSMAP.CAT"
  A_AXIS_RADIUS = 3396.0
  B_AXIS_RADIUS = 3396.0
  C_AXIS_RADIUS = 3396.0
  CENTER_LATITUDE = 0.0
  CENTER_LONGITUDE = 310.0
  COORDINATE_SYSTEM_NAME = PLANETOGRAPHIC
  COORDINATE_SYSTEM_TYPE = "BODY-FIXED ROTATING"
  EASTERNMOST_LONGITUDE = 311.646
  FIRST_STANDARD_PARALLEL = "N/A"
  LINE_FIRST_PIXEL = 1
  LINE_LAST_PIXEL = 16858
  LINE_PROJECTION_OFFSET = -64156.625
  MAP_PROJECTION_ROTATION = 0.0
  MAP_PROJECTION_TYPE = SINUSOIDAL
  MAP_RESOLUTION = 1185.42760773333
  MAP_SCALE = 0.05
  MAXIMUM_LATITUDE = -54.1427
  MINIMUM_LATITUDE = -68.3147
  POSITIVE_LONGITUDE_DIRECTION = EAST
  REFERENCE_LATITUDE = "N/A"
  REFERENCE_LONGITUDE = "N/A"
  SAMPLE_FIRST_PIXEL = 1
  SAMPLE_LAST_PIXEL = 2795
  SAMPLE_PROJECTION_OFFSET = 1672.375
  SECOND_STANDARD_PARALLEL = "N/A"
  WESTERNMOST_LONGITUDE = 306.218
END_OBJECT = IMAGE_MAP_PROJECTION
END
