PDS_VERSION_ID = PDS3
/* FILE DATA ELEMENTS */
RECORD_TYPE = UNDEFINED
/* POINTERS TO DATA OBJECTS */
^IMAGE = ("H4456_0000_GR4.TIF")
/* IDENTIFICATION DATA ELEMENTS */
DATA_SET_ID = "MEX-M-HRSC-4-REFDR-MAPPROJECT-EXT1-V4.0"
DATA_SET_NAME = "MARS EXPRESS HRSC MAP PROJECTED REFDR EXTENSION1 V4.0"
DETECTOR_ID = MEX_HRSC_GREEN
EVENT_TYPE = "MARS-REGIONAL-MAPPING-Gl-La"
INSTRUMENT_HOST_ID = MEX
INSTRUMENT_HOST_NAME = "MARS EXPRESS"
INSTRUMENT_ID = HRSC
INSTRUMENT_NAME = "HIGH RESOLUTION STEREO CAMERA"
MISSION_NAME = "MARS EXPRESS"
MISSION_PHASE_NAME = ME_Phase_8
PROCESSING_LEVEL_ID = 4
PRODUCT_CREATION_TIME = 2023-02-10T03:49:22.000Z
PRODUCT_ID = "H4456_0000_GR4.TIF"
RELEASE_ID = 0006
REVISION_ID = 0000
/* QUALITY DATA ELEMENTS */
DATA_QUALITY_ID = 1
DATA_QUALITY_DESC = "Data calculated based on original SPICE kernels"
/* TIME DATA ELEMENTS */
SPACECRAFT_CLOCK_START_COUNT = "1/0130758894.09050"
SPACECRAFT_CLOCK_STOP_COUNT = "1/0130759079.07693"
START_TIME = 2007-06-24T09:55:36.657Z
STOP_TIME = 2007-06-24T09:57:38.939Z
/* ORBITAL DATA ELEMENTS */
ASCENDING_NODE_LONGITUDE = 135.05
MAXIMUM_RESOLUTION = 0.0484
FOOTPRINT_POINT_LATITUDE = (-82.0897,-82.0186,-81.9654,-81.9094, -81.8507,-81.7894,-81.7133,-81.7092, -81.7214,-81.4908,-81.3363,-81.1813, -81.0257,-80.7913,-80.6344,-80.4769, -80.3191,-80.1622,-80.0085,-79.7775, -79.6231,-79.3908,-79.2356,-79.0799, -78.924,-78.7678,-78.6113,-78.3777, -78.2257,-78.0737,-77.9214,-77.7688, -77.5396,-77.3096,-77.1564,-77.0029, -76.7724,-76.5414,-76.3872,-76.2331, -75.9347,-75.6357,-75.3361,-75.0361, -74.7355,-74.4345,-74.1331,-74.0576, -74.0001,-74.0473,-74.0964,-74.1247, -74.1722,-74.1735,-74.1748,-74.3277, -74.4806,-74.6335,-74.7863,-74.939, -75.0916,-75.2442,-75.3967,-75.7777, -76.082,-76.3861,-76.6198,-76.7769, -76.934,-77.0909,-77.2472,-77.4038, -77.5596,-77.7179,-77.8753,-78.11, -78.2664,-78.501,-78.6568,-78.817, -78.978,-79.1385,-79.2992,-79.4607, -79.6218,-79.7823,-80.0224,-80.1824, -80.3426,-80.5021,-80.7485,-80.913, -81.0773,-81.2411,-81.405,-81.5687, -81.7319,-81.9764,-82.0576,-82.0897)
FOOTPRINT_POINT_LONGITUDE = (367.111,365.37,364.189,363.032,361.902 ,360.796,359.512,359.446,359.406, 360.081,360.511,360.926,361.326,361.901 ,362.268,362.622,362.965,363.294, 363.605,364.054,364.341,364.757,365.023 ,365.282,365.534,365.778,366.016, 366.357,366.571,366.78,366.983,367.181, 367.468,367.744,367.923,368.097,368.351 ,368.595,368.753,368.907,369.195, 369.471,369.734,369.987,370.228,370.46, 370.683,370.737,370.778,371.684,372.719 ,373.372,374.593,374.631,374.643, 374.576,374.507,374.438,374.367,374.294 ,374.22,374.144,374.067,373.865,373.695 ,373.517,373.374,373.274,373.173, 373.068,372.954,372.842,372.72,372.623, 372.516,372.334,372.21,372.02,371.883, 371.741,371.593,371.436,371.279,371.128 ,370.97,370.801,370.533,370.349,370.163 ,369.963,369.648,369.427,369.198, 368.956,368.711,368.456,368.188,367.769 ,367.621,367.111)
ORBIT_NUMBER = 4456
ORBITAL_ECCENTRICITY = 0.57
ORBITAL_INCLINATION = 86.69
ORBITAL_SEMIMAJOR_AXIS = 8545.36
PERIAPSIS_ALTITUDE = 292.5
PERIAPSIS_ARGUMENT_ANGLE = 293.41
PERIAPSIS_TIME = 2007-06-24T09:59:31.000Z
SPACECRAFT_ORIENTATION = (0.0,1.0,0.0)
^MEX_ORIENTATION_DESC = "MEX_ORIENTATION_DESC.TXT"
SPACECRAFT_POINTING_MODE = ACROSSTRACK
^MEX_POINTING_DESC = "MEX_POINTING_DESC.TXT"
RIGHT_ASCENSION = -1e+32
DECLINATION = -1e+32
OFFSET_ANGLE = -0.6
SPACECRAFT_SOLAR_DISTANCE = 2.07092e+08
TARGET_NAME = MARS
/* CAMERA DATA ELEMENTS */
DETECTOR_TEMPERATURE = 18.3705
FOCAL_PLANE_TEMPERATURE = 8.5833
INST_CMPRS_NAME = "DISCRETE COSINE TRANSFORMATION (DCT)"
INST_CMPRS_RATIO = 13.2045
INST_CMPRS_QUALITY = 0
INST_CMPRS_QUANTZ_TBL_ID = 0
INSTRUMENT_TEMPERATURE = 11.6418
LENS_TEMPERATURE = 9.195
MACROPIXEL_SIZE = 4
MISSING_FRAMES = 0
PIXEL_SUBSAMPLING_FLAG = N
SIGNAL_CHAIN_ID = 2
/* RADIOMETRIC DATA ELEMENTS */
BANDWIDTH = 88.0
CENTER_FILTER_WAVELENGTH = 538.0
RADIANCE_OFFSET = 2.27851
RADIANCE_SCALING_FACTOR = 0.0243691
REFLECTANCE_SCALING_FACTOR = 0.000899821
MEX:REFLECTANCE_OFFSET = 0.0841333
/* IMAGE OBJECT DEFINITIONS */
OBJECT = IMAGE
  INTERCHANGE_FORMAT = BINARY
  LINES = 9620
  LINE_SAMPLES = 3327
  SAMPLE_TYPE = UNSIGNED_INTEGER
  SAMPLE_BITS = 8
  BANDS = 1
  BAND_STORAGE_TYPE = BAND_SEQUENTIAL
  MAXIMUM = 255
  MEAN = 202.38
  MINIMUM = 1
  STANDARD_DEVIATION = 75.3598
END_OBJECT = IMAGE
/* MAP OBJECT DEFINITIONS */
OBJECT = IMAGE_MAP_PROJECTION
  ^DATA_SET_MAP_PROJECTION_CATALOG= "DSMAP.CAT"
  A_AXIS_RADIUS = 3396.0
  B_AXIS_RADIUS = 3396.0
  C_AXIS_RADIUS = 3396.0
  CENTER_LATITUDE = 0.0
  CENTER_LONGITUDE = 10.0
  COORDINATE_SYSTEM_NAME = PLANETOGRAPHIC
  COORDINATE_SYSTEM_TYPE = "BODY-FIXED ROTATING"
  EASTERNMOST_LONGITUDE = 14.643
  FIRST_STANDARD_PARALLEL = "N/A"
  LINE_FIRST_PIXEL = 1
  LINE_LAST_PIXEL = 9620
  LINE_PROJECTION_OFFSET = -87729.125
  MAP_PROJECTION_ROTATION = 0.0
  MAP_PROJECTION_TYPE = SINUSOIDAL
  MAP_RESOLUTION = 1185.42760773333
  MAP_SCALE = 0.05
  MAXIMUM_LATITUDE = -74.0001
  MINIMUM_LATITUDE = -82.08969999999999
  POSITIVE_LONGITUDE_DIRECTION = EAST
  REFERENCE_LATITUDE = "N/A"
  REFERENCE_LONGITUDE = "N/A"
  SAMPLE_FIRST_PIXEL = 1
  SAMPLE_LAST_PIXEL = 3327
  SAMPLE_PROJECTION_OFFSET = 1822.875
  SECOND_STANDARD_PARALLEL = "N/A"
  WESTERNMOST_LONGITUDE = -0.594
END_OBJECT = IMAGE_MAP_PROJECTION
END
