PDS_VERSION_ID = PDS3
/* FILE DATA ELEMENTS */
RECORD_TYPE = UNDEFINED
/* POINTERS TO DATA OBJECTS */
^IMAGE = ("H4456_0001_IR4.TIF")
/* IDENTIFICATION DATA ELEMENTS */
DATA_SET_ID = "MEX-M-HRSC-4-REFDR-MAPPROJECT-EXT1-V4.0"
DATA_SET_NAME = "MARS EXPRESS HRSC MAP PROJECTED REFDR EXTENSION1 V4.0"
DETECTOR_ID = MEX_HRSC_IR
EVENT_TYPE = "MARS-REGIONAL-MAPPING-Im-Pf"
INSTRUMENT_HOST_ID = MEX
INSTRUMENT_HOST_NAME = "MARS EXPRESS"
INSTRUMENT_ID = HRSC
INSTRUMENT_NAME = "HIGH RESOLUTION STEREO CAMERA"
MISSION_NAME = "MARS EXPRESS"
MISSION_PHASE_NAME = ME_Phase_8
PROCESSING_LEVEL_ID = 4
PRODUCT_CREATION_TIME = 2023-02-10T03:49:22.000Z
PRODUCT_ID = "H4456_0001_IR4.TIF"
RELEASE_ID = 0006
REVISION_ID = 0000
/* QUALITY DATA ELEMENTS */
DATA_QUALITY_ID = 1
DATA_QUALITY_DESC = "Data calculated based on original SPICE kernels"
/* TIME DATA ELEMENTS */
SPACECRAFT_CLOCK_START_COUNT = "1/0130759212.08237"
SPACECRAFT_CLOCK_STOP_COUNT = "1/0130759399.16525"
START_TIME = 2007-06-24T10:01:04.176Z
STOP_TIME = 2007-06-24T10:03:16.097Z
/* ORBITAL DATA ELEMENTS */
ASCENDING_NODE_LONGITUDE = 135.05
MAXIMUM_RESOLUTION = 0.099
FOOTPRINT_POINT_LATITUDE = (-61.6461,-61.6068,-61.5738,-61.5391, -61.5379,-61.5998,-61.4369,-61.2744, -61.1122,-60.9494,-60.7057,-60.3817, -59.9762,-59.6524,-59.4036,-59.2353, -59.0682,-58.9006,-58.6494,-58.483, -58.3164,-58.1495,-57.9826,-57.8153, -57.6476,-57.4814,-57.3173,-57.151, -56.9831,-56.8181,-56.6496,-56.4785, -56.3073,-56.1359,-55.9649,-55.7088, -55.5379,-55.3672,-55.1967,-55.0263, -54.771,-54.6009,-54.3375,-54.1619, -53.9866,-53.8113,-53.636,-53.461, -53.2862,-53.1988,-53.1115,-53.1289, -53.1496,-53.1746,-53.199,-53.1996, -53.2017,-53.4654,-53.6401,-53.8155, -54.0786,-54.3428,-54.5191,-54.6948, -54.9507,-55.2071,-55.3774,-55.5485, -55.7199,-55.8909,-56.0623,-56.2339, -56.4055,-56.5772,-56.7484,-57.001, -57.1679,-57.3339,-57.5014,-57.666, -57.9175,-58.1704,-58.4184,-58.5862, -58.7583,-59.0123,-59.1809,-59.3485, -59.5135,-59.7604,-59.9233,-60.0865, -60.4111,-60.7363,-60.8993,-61.0623, -61.307,-61.5516,-61.6332,-61.6461)
FOOTPRINT_POINT_LONGITUDE = (17.45,16.6276,16.0,15.3843,15.3653, 15.3563,15.3848,15.4129,15.4406,15.4678 ,15.5078,15.5596,15.6221,15.6704, 15.7065,15.7303,15.7537,15.7768,15.8106 ,15.8328,15.8545,15.8759,15.897,15.9177 ,15.938,15.958,15.9777,15.9971,16.0161, 16.0349,16.0537,16.0724,16.0909,16.109, 16.1268,16.1529,16.1699,16.1867,16.2031 ,16.2193,16.243,16.2585,16.2819,16.2972 ,16.3122,16.327,16.3414,16.3556,16.3696 ,16.3764,16.3832,16.7197,17.1349, 17.7021,18.2974,18.316,18.3285,18.312, 18.2993,18.2872,18.2681,18.2498,18.2373 ,18.2243,18.2053,18.1863,18.1724, 18.1591,18.1459,18.1319,18.1179,18.1039 ,18.0895,18.075,18.0594,18.0373,18.0235 ,18.0082,17.9946,17.9765,17.9552, 17.9351,17.9072,17.8917,17.882,17.8606, 17.845,17.8277,17.806,17.7762,17.7599, 17.7438,17.7077,17.671,17.6527,17.634, 17.6055,17.576,17.5662,17.45)
ORBIT_NUMBER = 4456
ORBITAL_ECCENTRICITY = 0.57
ORBITAL_INCLINATION = 86.69
ORBITAL_SEMIMAJOR_AXIS = 8545.36
PERIAPSIS_ALTITUDE = 292.5
PERIAPSIS_ARGUMENT_ANGLE = 293.41
PERIAPSIS_TIME = 2007-06-24T09:59:31.000Z
SPACECRAFT_ORIENTATION = (0.0,1.0,0.0)
^MEX_ORIENTATION_DESC = "MEX_ORIENTATION_DESC.TXT"
SPACECRAFT_POINTING_MODE = ACROSSTRACK
^MEX_POINTING_DESC = "MEX_POINTING_DESC.TXT"
RIGHT_ASCENSION = -1e+32
DECLINATION = -1e+32
OFFSET_ANGLE = -0.6
SPACECRAFT_SOLAR_DISTANCE = 2.07092e+08
TARGET_NAME = MARS
/* CAMERA DATA ELEMENTS */
DETECTOR_TEMPERATURE = 18.5744
FOCAL_PLANE_TEMPERATURE = 8.7872
INST_CMPRS_NAME = "DISCRETE COSINE TRANSFORMATION (DCT)"
INST_CMPRS_RATIO = 16.0469
INST_CMPRS_QUALITY = 0
INST_CMPRS_QUANTZ_TBL_ID = 0
INSTRUMENT_TEMPERATURE = 12.4574
LENS_TEMPERATURE = 10.2145
MACROPIXEL_SIZE = 8
MISSING_FRAMES = 0
PIXEL_SUBSAMPLING_FLAG = N
SIGNAL_CHAIN_ID = 2
/* RADIOMETRIC DATA ELEMENTS */
BANDWIDTH = 81.0
CENTER_FILTER_WAVELENGTH = 955.5
RADIANCE_OFFSET = 0.966139
RADIANCE_SCALING_FACTOR = 0.00604748
REFLECTANCE_SCALING_FACTOR = 0.00055954
MEX:REFLECTANCE_OFFSET = 0.0893916
/* IMAGE OBJECT DEFINITIONS */
OBJECT = IMAGE
  INTERCHANGE_FORMAT = BINARY
  LINES = 5079
  LINE_SAMPLES = 929
  SAMPLE_TYPE = UNSIGNED_INTEGER
  SAMPLE_BITS = 8
  BANDS = 1
  BAND_STORAGE_TYPE = BAND_SEQUENTIAL
  MAXIMUM = 255
  MEAN = 177.92
  MINIMUM = 1
  STANDARD_DEVIATION = 28.4646
END_OBJECT = IMAGE
/* MAP OBJECT DEFINITIONS */
OBJECT = IMAGE_MAP_PROJECTION
  ^DATA_SET_MAP_PROJECTION_CATALOG= "DSMAP.CAT"
  A_AXIS_RADIUS = 3396.0
  B_AXIS_RADIUS = 3396.0
  C_AXIS_RADIUS = 3396.0
  CENTER_LATITUDE = 0.0
  CENTER_LONGITUDE = 17.0
  COORDINATE_SYSTEM_NAME = PLANETOGRAPHIC
  COORDINATE_SYSTEM_TYPE = "BODY-FIXED ROTATING"
  EASTERNMOST_LONGITUDE = 18.3285
  FIRST_STANDARD_PARALLEL = "N/A"
  LINE_FIRST_PIXEL = 1
  LINE_LAST_PIXEL = 5079
  LINE_PROJECTION_OFFSET = -31501.1875
  MAP_PROJECTION_ROTATION = 0.0
  MAP_PROJECTION_TYPE = SINUSOIDAL
  MAP_RESOLUTION = 592.713803866667
  MAP_SCALE = 0.1
  MAXIMUM_LATITUDE = -53.1115
  MINIMUM_LATITUDE = -61.6461
  POSITIVE_LONGITUDE_DIRECTION = EAST
  REFERENCE_LATITUDE = "N/A"
  REFERENCE_LONGITUDE = "N/A"
  SAMPLE_FIRST_PIXEL = 1
  SAMPLE_LAST_PIXEL = 929
  SAMPLE_PROJECTION_OFFSET = 468.8125
  SECOND_STANDARD_PARALLEL = "N/A"
  WESTERNMOST_LONGITUDE = 15.3563
END_OBJECT = IMAGE_MAP_PROJECTION
END
