PDS_VERSION_ID = PDS3
/* FILE DATA ELEMENTS */
RECORD_TYPE = UNDEFINED
/* POINTERS TO DATA OBJECTS */
^IMAGE = ("H4457_0000_P14.TIF")
/* IDENTIFICATION DATA ELEMENTS */
DATA_SET_ID = "MEX-M-HRSC-4-REFDR-MAPPROJECT-EXT1-V4.0"
DATA_SET_NAME = "MARS EXPRESS HRSC MAP PROJECTED REFDR EXTENSION1 V4.0"
DETECTOR_ID = MEX_HRSC_P1
EVENT_TYPE = "MARS-REGIONAL-MAPPING-Im-Gl-Pf"
INSTRUMENT_HOST_ID = MEX
INSTRUMENT_HOST_NAME = "MARS EXPRESS"
INSTRUMENT_ID = HRSC
INSTRUMENT_NAME = "HIGH RESOLUTION STEREO CAMERA"
MISSION_NAME = "MARS EXPRESS"
MISSION_PHASE_NAME = ME_Phase_8
PROCESSING_LEVEL_ID = 4
PRODUCT_CREATION_TIME = 2023-02-10T03:49:22.000Z
PRODUCT_ID = "H4457_0000_P14.TIF"
RELEASE_ID = 0006
REVISION_ID = 0000
/* QUALITY DATA ELEMENTS */
DATA_QUALITY_ID = 1
DATA_QUALITY_DESC = "Data calculated based on original SPICE kernels"
/* TIME DATA ELEMENTS */
SPACECRAFT_CLOCK_START_COUNT = "1/0130783285.07293"
SPACECRAFT_CLOCK_STOP_COUNT = "1/0130783548.39669"
START_TIME = 2007-06-24T16:41:38.424Z
STOP_TIME = 2007-06-24T16:45:03.967Z
/* ORBITAL DATA ELEMENTS */
ASCENDING_NODE_LONGITUDE = 135.03
MAXIMUM_RESOLUTION = 0.0239
FOOTPRINT_POINT_LATITUDE = (-70.1061,-70.1308,-70.1513,-70.1692, -70.1696,-70.1152,-69.8458,-69.5744, -69.1695,-68.8995,-68.4942,-68.2236, -67.8171,-67.5454,-67.2742,-67.0022, -66.7308,-66.4588,-66.1869,-65.9146, -65.5064,-65.0982,-64.6893,-64.4166, -64.1438,-63.5987,-63.1891,-62.9161, -62.6431,-62.3671,-61.9598,-61.5475, -61.1361,-60.8617,-60.4502,-60.1765, -59.9027,-59.6289,-59.2196,-58.9448, -58.5334,-58.2592,-57.836,-57.4101, -57.1261,-56.8425,-56.558,-56.4161, -56.4089,-56.4117,-56.4114,-56.4091, -56.4056,-56.4054,-56.4057,-56.8306, -57.1143,-57.3991,-57.682,-57.9636, -58.2438,-58.5171,-58.7903,-59.2, -59.6097,-59.8828,-60.2925,-60.5656, -60.8386,-61.2485,-61.5217,-61.7945, -62.2039,-62.4765,-62.7488,-63.0209, -63.2932,-63.5649,-63.8363,-64.1079, -64.3794,-64.7866,-65.3289,-65.5999, -65.8711,-66.1417,-66.4123,-66.6822, -66.9526,-67.2228,-67.4928,-67.7624, -68.0317,-68.3007,-68.7037,-69.1062, -69.5084,-69.9105,-70.0448,-70.1061)
FOOTPRINT_POINT_LONGITUDE = (275.469,276.367,277.292,278.428, 278.458,278.716,278.772,278.834,278.913 ,278.963,279.036,279.083,279.153,279.2, 279.244,279.288,279.329,279.37,279.41, 279.449,279.504,279.557,279.609,279.642 ,279.675,279.735,279.78,279.809,279.837 ,279.873,279.905,279.951,279.992, 280.018,280.057,280.08,280.103,280.125, 280.154,280.177,280.21,280.23,280.262, 280.291,280.31,280.327,280.347,280.356, 280.356,279.755,279.227,278.768,278.374 ,278.355,278.348,278.307,278.278, 278.248,278.218,278.188,278.156,278.125 ,278.092,278.042,277.989,277.953, 277.897,277.858,277.818,277.756,277.713 ,277.669,277.601,277.554,277.506, 277.457,277.406,277.355,277.302,277.248 ,277.192,277.104,276.982,276.919, 276.853,276.786,276.717,276.646,276.573 ,276.497,276.42,276.34,276.258,276.174, 276.043,275.906,275.763,275.612,275.56, 275.469)
ORBIT_NUMBER = 4457
ORBITAL_ECCENTRICITY = 0.57
ORBITAL_INCLINATION = 86.68
ORBITAL_SEMIMAJOR_AXIS = 8544.01
PERIAPSIS_ALTITUDE = 292.12
PERIAPSIS_ARGUMENT_ANGLE = 293.25
PERIAPSIS_TIME = 2007-06-24T16:42:47.000Z
SPACECRAFT_ORIENTATION = (0.0,-1.0,0.0)
^MEX_ORIENTATION_DESC = "MEX_ORIENTATION_DESC.TXT"
SPACECRAFT_POINTING_MODE = ACROSSTRACK
^MEX_POINTING_DESC = "MEX_POINTING_DESC.TXT"
RIGHT_ASCENSION = -1e+32
DECLINATION = -1e+32
OFFSET_ANGLE = -0.9
SPACECRAFT_SOLAR_DISTANCE = 2.07104e+08
TARGET_NAME = MARS
/* CAMERA DATA ELEMENTS */
DETECTOR_TEMPERATURE = 16.3315
FOCAL_PLANE_TEMPERATURE = 8.3794
INST_CMPRS_NAME = "DISCRETE COSINE TRANSFORMATION (DCT)"
INST_CMPRS_RATIO = 15.287
INST_CMPRS_QUALITY = 0
INST_CMPRS_QUANTZ_TBL_ID = 0
INSTRUMENT_TEMPERATURE = 11.234
LENS_TEMPERATURE = 8.7872
MACROPIXEL_SIZE = 2
MISSING_FRAMES = 0
PIXEL_SUBSAMPLING_FLAG = N
SIGNAL_CHAIN_ID = 3
/* RADIOMETRIC DATA ELEMENTS */
BANDWIDTH = 174.0
CENTER_FILTER_WAVELENGTH = 675.0
RADIANCE_OFFSET = 6.08844
RADIANCE_SCALING_FACTOR = 0.0118124
REFLECTANCE_SCALING_FACTOR = 0.000272523
MEX:REFLECTANCE_OFFSET = 0.140465
/* IMAGE OBJECT DEFINITIONS */
OBJECT = IMAGE
  INTERCHANGE_FORMAT = BINARY
  LINES = 32579
  LINE_SAMPLES = 4562
  SAMPLE_TYPE = UNSIGNED_INTEGER
  SAMPLE_BITS = 8
  BANDS = 1
  BAND_STORAGE_TYPE = BAND_SEQUENTIAL
  MAXIMUM = 255
  MEAN = 155.254
  MINIMUM = 1
  STANDARD_DEVIATION = 29.194
END_OBJECT = IMAGE
/* MAP OBJECT DEFINITIONS */
OBJECT = IMAGE_MAP_PROJECTION
  ^DATA_SET_MAP_PROJECTION_CATALOG= "DSMAP.CAT"
  A_AXIS_RADIUS = 3396.0
  B_AXIS_RADIUS = 3396.0
  C_AXIS_RADIUS = 3396.0
  CENTER_LATITUDE = 0.0
  CENTER_LONGITUDE = 279.0
  COORDINATE_SYSTEM_NAME = PLANETOGRAPHIC
  COORDINATE_SYSTEM_TYPE = "BODY-FIXED ROTATING"
  EASTERNMOST_LONGITUDE = 280.356
  FIRST_STANDARD_PARALLEL = "N/A"
  LINE_FIRST_PIXEL = 1
  LINE_LAST_PIXEL = 32579
  LINE_PROJECTION_OFFSET = -133679.75
  MAP_PROJECTION_ROTATION = 0.0
  MAP_PROJECTION_TYPE = SINUSOIDAL
  MAP_RESOLUTION = 2370.85521546667
  MAP_SCALE = 0.025
  MAXIMUM_LATITUDE = -56.4054
  MINIMUM_LATITUDE = -70.1696
  POSITIVE_LONGITUDE_DIRECTION = EAST
  REFERENCE_LATITUDE = "N/A"
  REFERENCE_LONGITUDE = "N/A"
  SAMPLE_FIRST_PIXEL = 1
  SAMPLE_LAST_PIXEL = 4562
  SAMPLE_PROJECTION_OFFSET = 2774.75
  SECOND_STANDARD_PARALLEL = "N/A"
  WESTERNMOST_LONGITUDE = 275.469
END_OBJECT = IMAGE_MAP_PROJECTION
END
