PDS_VERSION_ID = PDS3
/* FILE DATA ELEMENTS */
RECORD_TYPE = UNDEFINED
/* POINTERS TO DATA OBJECTS */
^IMAGE = ("H4458_0000_RE4.TIF")
/* IDENTIFICATION DATA ELEMENTS */
DATA_SET_ID = "MEX-M-HRSC-4-REFDR-MAPPROJECT-EXT1-V4.0"
DATA_SET_NAME = "MARS EXPRESS HRSC MAP PROJECTED REFDR EXTENSION1 V4.0"
DETECTOR_ID = MEX_HRSC_RED
EVENT_TYPE = "MARS-LOCAL-STEREO-Gl-La"
INSTRUMENT_HOST_ID = MEX
INSTRUMENT_HOST_NAME = "MARS EXPRESS"
INSTRUMENT_ID = HRSC
INSTRUMENT_NAME = "HIGH RESOLUTION STEREO CAMERA"
MISSION_NAME = "MARS EXPRESS"
MISSION_PHASE_NAME = ME_Phase_8
PROCESSING_LEVEL_ID = 4
PRODUCT_CREATION_TIME = 2023-02-10T03:49:22.000Z
PRODUCT_ID = "H4458_0000_RE4.TIF"
RELEASE_ID = 0006
REVISION_ID = 0000
/* QUALITY DATA ELEMENTS */
DATA_QUALITY_ID = 1
DATA_QUALITY_DESC = "Data calculated based on original SPICE kernels"
/* TIME DATA ELEMENTS */
SPACECRAFT_CLOCK_START_COUNT = "1/0130807134.09103"
SPACECRAFT_CLOCK_STOP_COUNT = "1/0130807334.00849"
START_TIME = 2007-06-24T23:19:06.571Z
STOP_TIME = 2007-06-24T23:21:16.593Z
/* ORBITAL DATA ELEMENTS */
ASCENDING_NODE_LONGITUDE = 135.01
MAXIMUM_RESOLUTION = 0.1213
FOOTPRINT_POINT_LATITUDE = (-86.124,-85.9242,-85.7206,-85.513, -85.3018,-85.0869,-84.7433,-84.7294, -84.6797,-84.7221,-84.7592,-84.7917, -84.8195,-84.8426,-84.8602,-84.874, -84.8774,-84.8766,-84.8696,-84.8566, -84.8287,-84.8057,-84.7782,-84.7462, -84.6887,-84.6473,-84.6011,-84.551, -84.4968,-84.4383,-84.3768,-84.28, -84.1047,-83.9908,-83.8306,-83.66, -83.4787,-83.3844,-83.2875,-83.1878, -83.0834,-82.9795,-82.7724,-82.5624, -82.397,-82.2845,-82.1704,-82.0548, -81.9377,-81.8787,-81.8605,-81.9752, -82.1201,-82.3101,-82.4269,-82.5375, -82.6436,-82.6501,-82.6561,-82.8537, -82.9842,-83.1136,-83.2417,-83.3678, -83.494,-83.6174,-83.7965,-83.9797, -84.1009,-84.2218,-84.3398,-84.4549, -84.5679,-84.7873,-84.9458,-85.1499, -85.3909,-85.6131,-85.7771,-85.8544, -85.9625,-86.0287,-86.0903,-86.1738, -86.2236,-86.2674,-86.3218,-86.3506, -86.3731,-86.3895,-86.4015,-86.4013, -86.3942,-86.3804,-86.3462,-86.315, -86.2773,-86.1831,-86.1552,-86.124)
FOOTPRINT_POINT_LONGITUDE = (73.0784,74.4549,75.7156,76.8771, 77.9493,78.9422,80.3578,80.4113,81.5382 ,83.2155,84.8861,86.5824,88.3017, 90.0415,91.8066,94.459,96.2283,98.8445, 101.408,103.104,105.627,107.284,108.927 ,110.554,112.94,114.476,115.994,117.487 ,118.955,120.398,121.797,123.808, 127.004,128.833,131.162,133.375,135.473 ,136.48,137.46,138.413,139.34,140.239, 141.959,143.583,144.743,145.489,146.213 ,146.917,147.601,147.936,148.038, 148.989,150.249,152.044,153.221,154.419 ,155.64,155.717,155.761,154.871,154.251 ,153.609,152.943,152.255,151.538, 150.798,149.652,148.407,147.531,146.612 ,145.662,144.68,143.66,141.496,139.758, 137.264,133.844,130.072,126.75,124.97, 122.178,120.242,118.241,115.105,112.907 ,110.664,107.224,104.873,102.498, 100.044,96.348,93.8477,91.3488,88.8785, 85.1457,82.7059,80.321,75.7083,74.5692, 73.0784)
ORBIT_NUMBER = 4458
ORBITAL_ECCENTRICITY = 0.57
ORBITAL_INCLINATION = 86.69
ORBITAL_SEMIMAJOR_AXIS = 8543.97
PERIAPSIS_ALTITUDE = 292.56
PERIAPSIS_ARGUMENT_ANGLE = 293.08
PERIAPSIS_TIME = 2007-06-24T23:25:58.000Z
SPACECRAFT_ORIENTATION = (0.0,1.0,0.0)
^MEX_ORIENTATION_DESC = "MEX_ORIENTATION_DESC.TXT"
SPACECRAFT_POINTING_MODE = ACROSSTRACK
^MEX_POINTING_DESC = "MEX_POINTING_DESC.TXT"
RIGHT_ASCENSION = -1e+32
DECLINATION = -1e+32
OFFSET_ANGLE = 1.0
SPACECRAFT_SOLAR_DISTANCE = 2.07117e+08
TARGET_NAME = MARS
/* CAMERA DATA ELEMENTS */
DETECTOR_TEMPERATURE = 18.5744
FOCAL_PLANE_TEMPERATURE = 8.7872
INST_CMPRS_NAME = "DISCRETE COSINE TRANSFORMATION (DCT)"
INST_CMPRS_RATIO = 14.898
INST_CMPRS_QUALITY = 0
INST_CMPRS_QUANTZ_TBL_ID = 0
INSTRUMENT_TEMPERATURE = 11.6418
LENS_TEMPERATURE = 8.9911
MACROPIXEL_SIZE = 8
MISSING_FRAMES = 0
PIXEL_SUBSAMPLING_FLAG = N
SIGNAL_CHAIN_ID = 2
/* RADIOMETRIC DATA ELEMENTS */
BANDWIDTH = 48.0
CENTER_FILTER_WAVELENGTH = 748.0
RADIANCE_OFFSET = 1.56398
RADIANCE_SCALING_FACTOR = 0.00545802
REFLECTANCE_SCALING_FACTOR = 0.000534306
MEX:REFLECTANCE_OFFSET = 0.153104
/* IMAGE OBJECT DEFINITIONS */
OBJECT = IMAGE
  INTERCHANGE_FORMAT = BINARY
  LINES = 2658
  LINE_SAMPLES = 4720
  SAMPLE_TYPE = UNSIGNED_INTEGER
  SAMPLE_BITS = 8
  BANDS = 1
  BAND_STORAGE_TYPE = BAND_SEQUENTIAL
  MAXIMUM = 255
  MEAN = 64.0247
  MINIMUM = 1
  STANDARD_DEVIATION = 36.3661
END_OBJECT = IMAGE
/* MAP OBJECT DEFINITIONS */
OBJECT = IMAGE_MAP_PROJECTION
  ^DATA_SET_MAP_PROJECTION_CATALOG= "DSMAP.CAT"
  A_AXIS_RADIUS = 3396.0
  B_AXIS_RADIUS = 3396.0
  C_AXIS_RADIUS = 3396.0
  CENTER_LATITUDE = 0.0
  CENTER_LONGITUDE = 127.0
  COORDINATE_SYSTEM_NAME = PLANETOGRAPHIC
  COORDINATE_SYSTEM_TYPE = "BODY-FIXED ROTATING"
  EASTERNMOST_LONGITUDE = 155.761
  FIRST_STANDARD_PARALLEL = "N/A"
  LINE_FIRST_PIXEL = 1
  LINE_LAST_PIXEL = 2658
  LINE_PROJECTION_OFFSET = -48531.4375
  MAP_PROJECTION_ROTATION = 0.0
  MAP_PROJECTION_TYPE = SINUSOIDAL
  MAP_RESOLUTION = 592.713803866667
  MAP_SCALE = 0.1
  MAXIMUM_LATITUDE = -81.8605
  MINIMUM_LATITUDE = -86.4015
  POSITIVE_LONGITUDE_DIRECTION = EAST
  REFERENCE_LATITUDE = "N/A"
  REFERENCE_LONGITUDE = "N/A"
  SAMPLE_FIRST_PIXEL = 1
  SAMPLE_LAST_PIXEL = 4720
  SAMPLE_PROJECTION_OFFSET = 2512.0625
  SECOND_STANDARD_PARALLEL = "N/A"
  WESTERNMOST_LONGITUDE = 73.0784
END_OBJECT = IMAGE_MAP_PROJECTION
END
