PDS_VERSION_ID = PDS3
/* FILE DATA ELEMENTS */
RECORD_TYPE = UNDEFINED
/* POINTERS TO DATA OBJECTS */
^IMAGE = ("H4465_0000_P14.TIF")
/* IDENTIFICATION DATA ELEMENTS */
DATA_SET_ID = "MEX-M-HRSC-4-REFDR-MAPPROJECT-EXT1-V4.0"
DATA_SET_NAME = "MARS EXPRESS HRSC MAP PROJECTED REFDR EXTENSION1 V4.0"
DETECTOR_ID = MEX_HRSC_P1
EVENT_TYPE = "MARS-LOCAL-MAPPING-Gl-Pf-La"
INSTRUMENT_HOST_ID = MEX
INSTRUMENT_HOST_NAME = "MARS EXPRESS"
INSTRUMENT_ID = HRSC
INSTRUMENT_NAME = "HIGH RESOLUTION STEREO CAMERA"
MISSION_NAME = "MARS EXPRESS"
MISSION_PHASE_NAME = ME_Phase_8
PROCESSING_LEVEL_ID = 4
PRODUCT_CREATION_TIME = 2023-02-10T03:49:22.000Z
PRODUCT_ID = "H4465_0000_P14.TIF"
RELEASE_ID = 0006
REVISION_ID = 0000
/* QUALITY DATA ELEMENTS */
DATA_QUALITY_ID = 1
DATA_QUALITY_DESC = "Data calculated based on original SPICE kernels"
/* TIME DATA ELEMENTS */
SPACECRAFT_CLOCK_START_COUNT = "1/0130976709.07294"
SPACECRAFT_CLOCK_STOP_COUNT = "1/0130976894.55196"
START_TIME = 2007-06-26T22:26:00.462Z
STOP_TIME = 2007-06-26T22:28:07.923Z
/* ORBITAL DATA ELEMENTS */
ASCENDING_NODE_LONGITUDE = 134.87
MAXIMUM_RESOLUTION = 0.0237
FOOTPRINT_POINT_LATITUDE = (-78.0286,-77.9258,-77.8383,-77.755, -77.7519,-77.7936,-77.5433,-77.2921, -77.1241,-76.9561,-76.7878,-76.6191, -76.3682,-76.1231,-75.9595,-75.714, -75.5504,-75.3873,-75.2223,-75.0578, -74.8936,-74.7292,-74.4831,-74.317, -74.0665,-73.898,-73.6459,-73.4811, -73.315,-73.0687,-72.9047,-72.6525, -72.4848,-72.3188,-72.0003,-71.8399, -71.6787,-71.5166,-71.3563,-71.1954, -71.0333,-70.8715,-70.5505,-70.3901, -70.1485,-69.9874,-69.826,-69.6649, -69.5862,-69.5608,-69.6132,-69.6577, -69.7012,-69.7024,-69.7032,-69.8656, -70.0284,-70.1912,-70.354,-70.5165, -70.7602,-70.9228,-71.1666,-71.329, -71.4914,-71.6543,-71.8988,-72.1444, -72.3081,-72.4713,-72.7231,-72.8922, -73.0612,-73.2297,-73.3988,-73.6518, -73.905,-74.0742,-74.243,-74.4956, -74.6667,-74.8343,-75.0868,-75.2556, -75.4237,-75.5908,-75.8429,-76.0109, -76.2623,-76.4299,-76.597,-76.8538, -77.1135,-77.2866,-77.4593,-77.6323, -77.8056,-77.9772,-78.0628,-78.0286)
FOOTPRINT_POINT_LONGITUDE = (203.009,201.085,199.627,198.357, 198.312,198.003,198.414,198.81,199.066, 199.313,199.554,199.789,200.127,200.445 ,200.651,200.948,201.139,201.321, 201.508,201.688,201.861,202.031,202.274 ,202.44,202.677,202.844,203.083,203.223 ,203.365,203.561,203.686,203.894, 204.026,204.153,204.378,204.491,204.604 ,204.719,204.824,204.93,205.037,205.141 ,205.335,205.429,205.569,205.66,205.751 ,205.839,205.877,205.89,206.883,207.781 ,208.757,208.785,208.795,208.73,208.664 ,208.597,208.529,208.46,208.353,208.281 ,208.169,208.093,208.016,207.937, 207.816,207.692,207.607,207.521,207.384 ,207.289,207.193,207.095,206.994, 206.839,206.679,206.57,206.458,206.285, 206.165,206.044,205.857,205.729,205.598 ,205.463,205.255,205.113,204.892,204.74 ,204.584,204.337,204.077,203.897, 203.713,203.523,203.327,203.126,203.024 ,203.009)
ORBIT_NUMBER = 4465
ORBITAL_ECCENTRICITY = 0.57
ORBITAL_INCLINATION = 86.7
ORBITAL_SEMIMAJOR_AXIS = 8541.48
PERIAPSIS_ALTITUDE = 291.89
PERIAPSIS_ARGUMENT_ANGLE = 291.85
PERIAPSIS_TIME = 2007-06-26T22:28:18.000Z
SPACECRAFT_ORIENTATION = (0.0,1.0,0.0)
^MEX_ORIENTATION_DESC = "MEX_ORIENTATION_DESC.TXT"
SPACECRAFT_POINTING_MODE = ACROSSTRACK
^MEX_POINTING_DESC = "MEX_POINTING_DESC.TXT"
RIGHT_ASCENSION = -1e+32
DECLINATION = -1e+32
OFFSET_ANGLE = 0.3
SPACECRAFT_SOLAR_DISTANCE = 2.07207e+08
TARGET_NAME = MARS
/* CAMERA DATA ELEMENTS */
DETECTOR_TEMPERATURE = 17.351
FOCAL_PLANE_TEMPERATURE = 8.1755
INST_CMPRS_NAME = "DISCRETE COSINE TRANSFORMATION (DCT)"
INST_CMPRS_RATIO = 11.3499
INST_CMPRS_QUALITY = 0
INST_CMPRS_QUANTZ_TBL_ID = 0
INSTRUMENT_TEMPERATURE = 11.234
LENS_TEMPERATURE = 8.5833
MACROPIXEL_SIZE = 2
MISSING_FRAMES = 1
PIXEL_SUBSAMPLING_FLAG = N
SIGNAL_CHAIN_ID = 3
/* RADIOMETRIC DATA ELEMENTS */
BANDWIDTH = 174.0
CENTER_FILTER_WAVELENGTH = 675.0
RADIANCE_OFFSET = 6.77712
RADIANCE_SCALING_FACTOR = 0.0223246
REFLECTANCE_SCALING_FACTOR = 0.000515557
MEX:REFLECTANCE_OFFSET = 0.156509
/* IMAGE OBJECT DEFINITIONS */
OBJECT = IMAGE
  INTERCHANGE_FORMAT = BINARY
  LINES = 20316
  LINE_SAMPLES = 6649
  SAMPLE_TYPE = UNSIGNED_INTEGER
  SAMPLE_BITS = 8
  BANDS = 1
  BAND_STORAGE_TYPE = BAND_SEQUENTIAL
  MAXIMUM = 255
  MEAN = 63.8811
  MINIMUM = 1
  STANDARD_DEVIATION = 22.8787
END_OBJECT = IMAGE
/* MAP OBJECT DEFINITIONS */
OBJECT = IMAGE_MAP_PROJECTION
  ^DATA_SET_MAP_PROJECTION_CATALOG= "DSMAP.CAT"
  A_AXIS_RADIUS = 3396.0
  B_AXIS_RADIUS = 3396.0
  C_AXIS_RADIUS = 3396.0
  CENTER_LATITUDE = 0.0
  CENTER_LONGITUDE = 205.0
  COORDINATE_SYSTEM_NAME = PLANETOGRAPHIC
  COORDINATE_SYSTEM_TYPE = "BODY-FIXED ROTATING"
  EASTERNMOST_LONGITUDE = 208.795
  FIRST_STANDARD_PARALLEL = "N/A"
  LINE_FIRST_PIXEL = 1
  LINE_LAST_PIXEL = 20316
  LINE_PROJECTION_OFFSET = -164894.25
  MAP_PROJECTION_ROTATION = 0.0
  MAP_PROJECTION_TYPE = SINUSOIDAL
  MAP_RESOLUTION = 2370.85521546667
  MAP_SCALE = 0.025
  MAXIMUM_LATITUDE = -69.5608
  MINIMUM_LATITUDE = -78.0628
  POSITIVE_LONGITUDE_DIRECTION = EAST
  REFERENCE_LATITUDE = "N/A"
  REFERENCE_LONGITUDE = "N/A"
  SAMPLE_FIRST_PIXEL = 1
  SAMPLE_LAST_PIXEL = 6649
  SAMPLE_PROJECTION_OFFSET = 3533.25
  SECOND_STANDARD_PARALLEL = "N/A"
  WESTERNMOST_LONGITUDE = 198.003
END_OBJECT = IMAGE_MAP_PROJECTION
END
