PDS_VERSION_ID = PDS3
/* FILE DATA ELEMENTS */
RECORD_TYPE = UNDEFINED
/* POINTERS TO DATA OBJECTS */
^IMAGE = ("H4465_0000_RE4.TIF")
/* IDENTIFICATION DATA ELEMENTS */
DATA_SET_ID = "MEX-M-HRSC-4-REFDR-MAPPROJECT-EXT1-V4.0"
DATA_SET_NAME = "MARS EXPRESS HRSC MAP PROJECTED REFDR EXTENSION1 V4.0"
DETECTOR_ID = MEX_HRSC_RED
EVENT_TYPE = "MARS-LOCAL-MAPPING-Gl-Pf-La"
INSTRUMENT_HOST_ID = MEX
INSTRUMENT_HOST_NAME = "MARS EXPRESS"
INSTRUMENT_ID = HRSC
INSTRUMENT_NAME = "HIGH RESOLUTION STEREO CAMERA"
MISSION_NAME = "MARS EXPRESS"
MISSION_PHASE_NAME = ME_Phase_8
PROCESSING_LEVEL_ID = 4
PRODUCT_CREATION_TIME = 2023-02-10T03:49:22.000Z
PRODUCT_ID = "H4465_0000_RE4.TIF"
RELEASE_ID = 0006
REVISION_ID = 0000
/* QUALITY DATA ELEMENTS */
DATA_QUALITY_ID = 1
DATA_QUALITY_DESC = "Data calculated based on original SPICE kernels"
/* TIME DATA ELEMENTS */
SPACECRAFT_CLOCK_START_COUNT = "1/0130976709.07294"
SPACECRAFT_CLOCK_STOP_COUNT = "1/0130976894.55196"
START_TIME = 2007-06-26T22:25:18.189Z
STOP_TIME = 2007-06-26T22:27:29.707Z
/* ORBITAL DATA ELEMENTS */
ASCENDING_NODE_LONGITUDE = 134.87
MAXIMUM_RESOLUTION = 0.0486
FOOTPRINT_POINT_LATITUDE = (-78.2311,-78.142,-78.044,-77.9017, -77.8981,-77.8062,-77.6407,-77.3922, -77.2263,-77.0596,-76.8925,-76.725, -76.5573,-76.39,-76.227,-76.065, -75.8212,-75.573,-75.3246,-75.1606, -74.9952,-74.8292,-74.6627,-74.4945, -74.2459,-74.0789,-73.7624,-73.5191, -73.3566,-73.1961,-73.0275,-72.7813, -72.6237,-72.4637,-72.3005,-72.1346, -71.9716,-71.727,-71.4838,-71.3195, -71.1558,-70.9952,-70.8308,-70.5826, -70.4168,-70.2516,-70.0867,-69.6803, -69.5995,-69.5503,-69.5855,-69.6342, -69.6959,-69.74,-69.7414,-69.7427, -69.9847,-70.1497,-70.4007,-70.6515, -70.8188,-71.069,-71.2359,-71.4025, -71.6517,-71.9001,-72.065,-72.2291, -72.394,-72.5585,-72.7234,-72.8882, -73.0529,-73.3006,-73.5467,-73.7112, -73.8755,-74.0386,-74.2897,-74.5446, -74.714,-74.9687,-75.2208,-75.3895, -75.5591,-75.727,-75.8946,-76.0624, -76.3139,-76.5648,-76.732,-76.9048, -77.0773,-77.2493,-77.4215,-77.593, -77.7631,-78.0214,-78.1059,-78.2311)
FOOTPRINT_POINT_LONGITUDE = (202.861,201.381,199.913,198.006,197.96 ,197.877,198.155,198.558,198.819, 199.072,199.319,199.559,199.794,200.021 ,200.236,200.447,200.755,201.048, 201.331,201.517,201.697,201.873,202.044 ,202.211,202.458,202.617,202.935,203.15 ,203.289,203.428,203.556,203.75,203.883 ,204.011,204.134,204.252,204.371, 204.545,204.716,204.826,204.934,205.043 ,205.147,205.298,205.397,205.494,205.59 ,205.819,205.861,205.885,206.4,207.027, 208.0,208.753,208.78,208.788,208.693, 208.626,208.522,208.416,208.343,208.232 ,208.156,208.079,207.961,207.84,207.758 ,207.675,207.59,207.503,207.415,207.324 ,207.232,207.089,206.943,206.843,206.74 ,206.637,206.473,206.3,206.182,205.999, 205.813,205.684,205.551,205.416,205.279 ,205.137,204.918,204.691,204.535, 204.369,204.199,204.025,203.845,203.661 ,203.475,203.177,203.078,202.861)
ORBIT_NUMBER = 4465
ORBITAL_ECCENTRICITY = 0.57
ORBITAL_INCLINATION = 86.7
ORBITAL_SEMIMAJOR_AXIS = 8541.48
PERIAPSIS_ALTITUDE = 291.89
PERIAPSIS_ARGUMENT_ANGLE = 291.85
PERIAPSIS_TIME = 2007-06-26T22:28:18.000Z
SPACECRAFT_ORIENTATION = (0.0,1.0,0.0)
^MEX_ORIENTATION_DESC = "MEX_ORIENTATION_DESC.TXT"
SPACECRAFT_POINTING_MODE = ACROSSTRACK
^MEX_POINTING_DESC = "MEX_POINTING_DESC.TXT"
RIGHT_ASCENSION = -1e+32
DECLINATION = -1e+32
OFFSET_ANGLE = 0.3
SPACECRAFT_SOLAR_DISTANCE = 2.07207e+08
TARGET_NAME = MARS
/* CAMERA DATA ELEMENTS */
DETECTOR_TEMPERATURE = 18.3705
FOCAL_PLANE_TEMPERATURE = 8.1755
INST_CMPRS_NAME = "DISCRETE COSINE TRANSFORMATION (DCT)"
INST_CMPRS_RATIO = 20.0714
INST_CMPRS_QUALITY = 0
INST_CMPRS_QUANTZ_TBL_ID = 0
INSTRUMENT_TEMPERATURE = 11.234
LENS_TEMPERATURE = 8.5833
MACROPIXEL_SIZE = 4
MISSING_FRAMES = 0
PIXEL_SUBSAMPLING_FLAG = N
SIGNAL_CHAIN_ID = 2
/* RADIOMETRIC DATA ELEMENTS */
BANDWIDTH = 48.0
CENTER_FILTER_WAVELENGTH = 748.0
RADIANCE_OFFSET = 1.91514
RADIANCE_SCALING_FACTOR = 0.00512068
REFLECTANCE_SCALING_FACTOR = 0.00050172
MEX:REFLECTANCE_OFFSET = 0.187643
/* IMAGE OBJECT DEFINITIONS */
OBJECT = IMAGE
  INTERCHANGE_FORMAT = BINARY
  LINES = 10158
  LINE_SAMPLES = 3325
  SAMPLE_TYPE = UNSIGNED_INTEGER
  SAMPLE_BITS = 8
  BANDS = 1
  BAND_STORAGE_TYPE = BAND_SEQUENTIAL
  MAXIMUM = 255
  MEAN = 78.3037
  MINIMUM = 1
  STANDARD_DEVIATION = 27.5121
END_OBJECT = IMAGE
/* MAP OBJECT DEFINITIONS */
OBJECT = IMAGE_MAP_PROJECTION
  ^DATA_SET_MAP_PROJECTION_CATALOG= "DSMAP.CAT"
  A_AXIS_RADIUS = 3396.0
  B_AXIS_RADIUS = 3396.0
  C_AXIS_RADIUS = 3396.0
  CENTER_LATITUDE = 0.0
  CENTER_LONGITUDE = 205.0
  COORDINATE_SYSTEM_NAME = PLANETOGRAPHIC
  COORDINATE_SYSTEM_TYPE = "BODY-FIXED ROTATING"
  EASTERNMOST_LONGITUDE = 208.788
  FIRST_STANDARD_PARALLEL = "N/A"
  LINE_FIRST_PIXEL = 1
  LINE_LAST_PIXEL = 10158
  LINE_PROJECTION_OFFSET = -82447.375
  MAP_PROJECTION_ROTATION = 0.0
  MAP_PROJECTION_TYPE = SINUSOIDAL
  MAP_RESOLUTION = 1185.42760773333
  MAP_SCALE = 0.05
  MAXIMUM_LATITUDE = -69.55029999999999
  MINIMUM_LATITUDE = -78.2311
  POSITIVE_LONGITUDE_DIRECTION = EAST
  REFERENCE_LATITUDE = "N/A"
  REFERENCE_LONGITUDE = "N/A"
  SAMPLE_FIRST_PIXEL = 1
  SAMPLE_LAST_PIXEL = 3325
  SAMPLE_PROJECTION_OFFSET = 1766.375
  SECOND_STANDARD_PARALLEL = "N/A"
  WESTERNMOST_LONGITUDE = 197.877
END_OBJECT = IMAGE_MAP_PROJECTION
END
