PDS_VERSION_ID = PDS3
/* FILE DATA ELEMENTS */
RECORD_TYPE = UNDEFINED
/* POINTERS TO DATA OBJECTS */
^IMAGE = ("H4465_0000_S24.TIF")
/* IDENTIFICATION DATA ELEMENTS */
DATA_SET_ID = "MEX-M-HRSC-4-REFDR-MAPPROJECT-EXT1-V4.0"
DATA_SET_NAME = "MARS EXPRESS HRSC MAP PROJECTED REFDR EXTENSION1 V4.0"
DETECTOR_ID = MEX_HRSC_S2
EVENT_TYPE = "MARS-LOCAL-MAPPING-Gl-Pf-La"
INSTRUMENT_HOST_ID = MEX
INSTRUMENT_HOST_NAME = "MARS EXPRESS"
INSTRUMENT_ID = HRSC
INSTRUMENT_NAME = "HIGH RESOLUTION STEREO CAMERA"
MISSION_NAME = "MARS EXPRESS"
MISSION_PHASE_NAME = ME_Phase_8
PROCESSING_LEVEL_ID = 4
PRODUCT_CREATION_TIME = 2023-02-10T03:49:22.000Z
PRODUCT_ID = "H4465_0000_S24.TIF"
RELEASE_ID = 0006
REVISION_ID = 0000
/* QUALITY DATA ELEMENTS */
DATA_QUALITY_ID = 1
DATA_QUALITY_DESC = "Data calculated based on original SPICE kernels"
/* TIME DATA ELEMENTS */
SPACECRAFT_CLOCK_START_COUNT = "1/0130976709.07294"
SPACECRAFT_CLOCK_STOP_COUNT = "1/0130976894.55196"
START_TIME = 2007-06-26T22:25:13.192Z
STOP_TIME = 2007-06-26T22:27:25.188Z
/* ORBITAL DATA ELEMENTS */
ASCENDING_NODE_LONGITUDE = 134.87
MAXIMUM_RESOLUTION = 0.0248
FOOTPRINT_POINT_LATITUDE = (-78.2459,-78.151,-78.0998,-78.0461, -77.9899,-77.9085,-77.9046,-77.797, -77.6318,-77.3839,-77.2184,-77.0521, -76.8018,-76.6345,-76.4668,-76.2985, -76.131,-75.9673,-75.7228,-75.4745, -75.309,-75.1455,-74.9802,-74.8142, -74.6476,-74.4791,-74.3154,-74.1463, -73.9828,-73.6616,-73.4956,-73.3331, -73.0861,-72.9187,-72.7562,-72.4398, -72.2765,-72.1099,-71.9468,-71.7021, -71.459,-71.2946,-70.9709,-70.805, -70.5571,-70.3908,-70.143,-69.9774, -69.8124,-69.6467,-69.5619,-69.5507, -69.6103,-69.6493,-69.693,-69.7472, -69.7488,-69.7497,-69.918,-70.0855, -70.2528,-70.4205,-70.6718,-70.8395, -71.0902,-71.2573,-71.4241,-71.6738, -71.9222,-72.3332,-72.6627,-72.91, -73.1574,-73.3223,-73.6509,-73.8154, -74.0688,-74.2382,-74.4927,-74.6623, -74.9171,-75.0859,-75.2534,-75.5068, -75.6757,-75.843,-76.0103,-76.178, -76.3452,-76.5155,-76.6884,-76.861, -77.0333,-77.2051,-77.3769,-77.6335, -77.8891,-78.0606,-78.1449,-78.2459)
FOOTPRINT_POINT_LONGITUDE = (202.868,201.316,200.545,199.778, 199.015,197.971,197.923,197.861,198.139 ,198.542,198.802,199.055,199.423,199.66 ,199.891,200.117,200.338,200.546, 200.848,201.138,201.326,201.512,201.692 ,201.868,202.04,202.206,202.373,202.533 ,202.693,203.008,203.152,203.292, 203.494,203.623,203.754,204.014,204.137 ,204.255,204.374,204.548,204.719, 204.829,205.046,205.149,205.301,205.4, 205.546,205.641,205.734,205.826,205.87, 205.874,206.669,207.179,207.856,208.756 ,208.784,208.794,208.727,208.66,208.592 ,208.523,208.416,208.343,208.232, 208.156,208.079,207.96,207.84,207.633, 207.46,207.324,207.185,207.089,206.893, 206.792,206.632,206.522,206.352,206.235 ,206.054,205.931,205.806,205.611, 205.476,205.34,205.201,205.058,204.911, 204.758,204.598,204.434,204.266,204.094 ,203.917,203.643,203.358,203.159, 203.059,202.868)
ORBIT_NUMBER = 4465
ORBITAL_ECCENTRICITY = 0.57
ORBITAL_INCLINATION = 86.7
ORBITAL_SEMIMAJOR_AXIS = 8541.48
PERIAPSIS_ALTITUDE = 291.89
PERIAPSIS_ARGUMENT_ANGLE = 291.85
PERIAPSIS_TIME = 2007-06-26T22:28:18.000Z
SPACECRAFT_ORIENTATION = (0.0,1.0,0.0)
^MEX_ORIENTATION_DESC = "MEX_ORIENTATION_DESC.TXT"
SPACECRAFT_POINTING_MODE = ACROSSTRACK
^MEX_POINTING_DESC = "MEX_POINTING_DESC.TXT"
RIGHT_ASCENSION = -1e+32
DECLINATION = -1e+32
OFFSET_ANGLE = 0.3
SPACECRAFT_SOLAR_DISTANCE = 2.07207e+08
TARGET_NAME = MARS
/* CAMERA DATA ELEMENTS */
DETECTOR_TEMPERATURE = 18.3705
FOCAL_PLANE_TEMPERATURE = 8.1755
INST_CMPRS_NAME = "DISCRETE COSINE TRANSFORMATION (DCT)"
INST_CMPRS_RATIO = 10.9821
INST_CMPRS_QUALITY = 0
INST_CMPRS_QUANTZ_TBL_ID = 0
INSTRUMENT_TEMPERATURE = 11.234
LENS_TEMPERATURE = 8.5833
MACROPIXEL_SIZE = 2
MISSING_FRAMES = 0
PIXEL_SUBSAMPLING_FLAG = N
SIGNAL_CHAIN_ID = 1
/* RADIOMETRIC DATA ELEMENTS */
BANDWIDTH = 178.0
CENTER_FILTER_WAVELENGTH = 679.0
RADIANCE_OFFSET = 7.31825
RADIANCE_SCALING_FACTOR = 0.0201504
REFLECTANCE_SCALING_FACTOR = 0.00045816
MEX:REFLECTANCE_OFFSET = 0.166396
/* IMAGE OBJECT DEFINITIONS */
OBJECT = IMAGE
  INTERCHANGE_FORMAT = BINARY
  LINES = 20316
  LINE_SAMPLES = 6649
  SAMPLE_TYPE = UNSIGNED_INTEGER
  SAMPLE_BITS = 8
  BANDS = 1
  BAND_STORAGE_TYPE = BAND_SEQUENTIAL
  MAXIMUM = 255
  MEAN = 73.7331
  MINIMUM = 1
  STANDARD_DEVIATION = 23.4585
END_OBJECT = IMAGE
/* MAP OBJECT DEFINITIONS */
OBJECT = IMAGE_MAP_PROJECTION
  ^DATA_SET_MAP_PROJECTION_CATALOG= "DSMAP.CAT"
  A_AXIS_RADIUS = 3396.0
  B_AXIS_RADIUS = 3396.0
  C_AXIS_RADIUS = 3396.0
  CENTER_LATITUDE = 0.0
  CENTER_LONGITUDE = 205.0
  COORDINATE_SYSTEM_NAME = PLANETOGRAPHIC
  COORDINATE_SYSTEM_TYPE = "BODY-FIXED ROTATING"
  EASTERNMOST_LONGITUDE = 208.794
  FIRST_STANDARD_PARALLEL = "N/A"
  LINE_FIRST_PIXEL = 1
  LINE_LAST_PIXEL = 20316
  LINE_PROJECTION_OFFSET = -164894.25
  MAP_PROJECTION_ROTATION = 0.0
  MAP_PROJECTION_TYPE = SINUSOIDAL
  MAP_RESOLUTION = 2370.85521546667
  MAP_SCALE = 0.025
  MAXIMUM_LATITUDE = -69.55070000000001
  MINIMUM_LATITUDE = -78.24590000000001
  POSITIVE_LONGITUDE_DIRECTION = EAST
  REFERENCE_LATITUDE = "N/A"
  REFERENCE_LONGITUDE = "N/A"
  SAMPLE_FIRST_PIXEL = 1
  SAMPLE_LAST_PIXEL = 6649
  SAMPLE_PROJECTION_OFFSET = 3533.25
  SECOND_STANDARD_PARALLEL = "N/A"
  WESTERNMOST_LONGITUDE = 197.861
END_OBJECT = IMAGE_MAP_PROJECTION
END
